BEGIN:VCALENDAR
VERSION:2.0
PRODID:-//CrossFit Chaparral - ECPv6.15.10//NONSGML v1.0//EN
CALSCALE:GREGORIAN
METHOD:PUBLISH
X-WR-CALNAME:CrossFit Chaparral
X-ORIGINAL-URL:https://crossfitchaparral.com
X-WR-CALDESC:Events for CrossFit Chaparral
REFRESH-INTERVAL;VALUE=DURATION:PT1H
X-Robots-Tag:noindex
X-PUBLISHED-TTL:PT1H
BEGIN:VTIMEZONE
TZID:UTC
BEGIN:STANDARD
TZOFFSETFROM:+0000
TZOFFSETTO:+0000
TZNAME:UTC
DTSTART:20260101T000000
END:STANDARD
END:VTIMEZONE
BEGIN:VEVENT
DTSTART;TZID=UTC:20270108T163000
DTEND;TZID=UTC:20270108T173000
DTSTAMP:20260424T165600
CREATED:20251027T165935Z
LAST-MODIFIED:20251027T165935Z
UID:10007101-1799425800-1799429400@crossfitchaparral.com
SUMMARY:CrossFit Class
DESCRIPTION:
URL:https://crossfitchaparral.com/event/crossfit-class-5/2027-01-08/
CATEGORIES:CrossFit Class
END:VEVENT
BEGIN:VEVENT
DTSTART;TZID=UTC:20270108T173000
DTEND;TZID=UTC:20270108T183000
DTSTAMP:20260424T165600
CREATED:20251027T170752Z
LAST-MODIFIED:20251027T170752Z
UID:10008406-1799429400-1799433000@crossfitchaparral.com
SUMMARY:CrossFit Class
DESCRIPTION:
URL:https://crossfitchaparral.com/event/crossfit-class-6/2027-01-08/
CATEGORIES:CrossFit Class
END:VEVENT
BEGIN:VEVENT
DTSTART;TZID=UTC:20270109T080000
DTEND;TZID=UTC:20270109T090000
DTSTAMP:20260424T165600
CREATED:20251027T165352Z
LAST-MODIFIED:20251027T165352Z
UID:10005544-1799481600-1799485200@crossfitchaparral.com
SUMMARY:CrossFit Class
DESCRIPTION:
URL:https://crossfitchaparral.com/event/crossfit-class-4/2027-01-09/
CATEGORIES:CrossFit Class
END:VEVENT
BEGIN:VEVENT
DTSTART;TZID=UTC:20270111T053000
DTEND;TZID=UTC:20270111T063000
DTSTAMP:20260424T165600
CREATED:20251027T164919Z
LAST-MODIFIED:20251027T164919Z
UID:10001621-1799645400-1799649000@crossfitchaparral.com
SUMMARY:CrossFit Class
DESCRIPTION:
URL:https://crossfitchaparral.com/event/crossfit-class/2027-01-11/
CATEGORIES:CrossFit Class
END:VEVENT
BEGIN:VEVENT
DTSTART;TZID=UTC:20270111T063000
DTEND;TZID=UTC:20270111T193000
DTSTAMP:20260424T165600
CREATED:20251027T165009Z
LAST-MODIFIED:20251027T165009Z
UID:10002926-1799649000-1799695800@crossfitchaparral.com
SUMMARY:CrossFit Class
DESCRIPTION:
URL:https://crossfitchaparral.com/event/crossfit-class-2/2027-01-11/
CATEGORIES:CrossFit Class
END:VEVENT
BEGIN:VEVENT
DTSTART;TZID=UTC:20270111T163000
DTEND;TZID=UTC:20270111T173000
DTSTAMP:20260424T165600
CREATED:20251027T165935Z
LAST-MODIFIED:20251027T165935Z
UID:10007102-1799685000-1799688600@crossfitchaparral.com
SUMMARY:CrossFit Class
DESCRIPTION:
URL:https://crossfitchaparral.com/event/crossfit-class-5/2027-01-11/
CATEGORIES:CrossFit Class
END:VEVENT
BEGIN:VEVENT
DTSTART;TZID=UTC:20270111T173000
DTEND;TZID=UTC:20270111T183000
DTSTAMP:20260424T165600
CREATED:20251027T170752Z
LAST-MODIFIED:20251027T170752Z
UID:10008407-1799688600-1799692200@crossfitchaparral.com
SUMMARY:CrossFit Class
DESCRIPTION:
URL:https://crossfitchaparral.com/event/crossfit-class-6/2027-01-11/
CATEGORIES:CrossFit Class
END:VEVENT
BEGIN:VEVENT
DTSTART;TZID=UTC:20270111T183000
DTEND;TZID=UTC:20270111T193000
DTSTAMP:20260424T165600
CREATED:20251027T170840Z
LAST-MODIFIED:20251027T170858Z
UID:10009649-1799692200-1799695800@crossfitchaparral.com
SUMMARY:CrossFit Class
DESCRIPTION:
URL:https://crossfitchaparral.com/event/crossfit-class-7/2027-01-11/
CATEGORIES:CrossFit Class
END:VEVENT
BEGIN:VEVENT
DTSTART;TZID=UTC:20270112T053000
DTEND;TZID=UTC:20270112T063000
DTSTAMP:20260424T165600
CREATED:20251027T164919Z
LAST-MODIFIED:20251027T164919Z
UID:10001622-1799731800-1799735400@crossfitchaparral.com
SUMMARY:CrossFit Class
DESCRIPTION:
URL:https://crossfitchaparral.com/event/crossfit-class/2027-01-12/
CATEGORIES:CrossFit Class
END:VEVENT
BEGIN:VEVENT
DTSTART;TZID=UTC:20270112T063000
DTEND;TZID=UTC:20270112T193000
DTSTAMP:20260424T165600
CREATED:20251027T165009Z
LAST-MODIFIED:20251027T165009Z
UID:10002927-1799735400-1799782200@crossfitchaparral.com
SUMMARY:CrossFit Class
DESCRIPTION:
URL:https://crossfitchaparral.com/event/crossfit-class-2/2027-01-12/
CATEGORIES:CrossFit Class
END:VEVENT
BEGIN:VEVENT
DTSTART;TZID=UTC:20270112T163000
DTEND;TZID=UTC:20270112T173000
DTSTAMP:20260424T165600
CREATED:20251027T165935Z
LAST-MODIFIED:20251027T165935Z
UID:10007103-1799771400-1799775000@crossfitchaparral.com
SUMMARY:CrossFit Class
DESCRIPTION:
URL:https://crossfitchaparral.com/event/crossfit-class-5/2027-01-12/
CATEGORIES:CrossFit Class
END:VEVENT
BEGIN:VEVENT
DTSTART;TZID=UTC:20270112T173000
DTEND;TZID=UTC:20270112T183000
DTSTAMP:20260424T165600
CREATED:20251027T170752Z
LAST-MODIFIED:20251027T170752Z
UID:10008408-1799775000-1799778600@crossfitchaparral.com
SUMMARY:CrossFit Class
DESCRIPTION:
URL:https://crossfitchaparral.com/event/crossfit-class-6/2027-01-12/
CATEGORIES:CrossFit Class
END:VEVENT
BEGIN:VEVENT
DTSTART;TZID=UTC:20270112T183000
DTEND;TZID=UTC:20270112T193000
DTSTAMP:20260424T165600
CREATED:20251027T170840Z
LAST-MODIFIED:20251027T170858Z
UID:10009650-1799778600-1799782200@crossfitchaparral.com
SUMMARY:CrossFit Class
DESCRIPTION:
URL:https://crossfitchaparral.com/event/crossfit-class-7/2027-01-12/
CATEGORIES:CrossFit Class
END:VEVENT
BEGIN:VEVENT
DTSTART;TZID=UTC:20270113T053000
DTEND;TZID=UTC:20270113T063000
DTSTAMP:20260424T165600
CREATED:20251027T164919Z
LAST-MODIFIED:20251027T164919Z
UID:10001623-1799818200-1799821800@crossfitchaparral.com
SUMMARY:CrossFit Class
DESCRIPTION:
URL:https://crossfitchaparral.com/event/crossfit-class/2027-01-13/
CATEGORIES:CrossFit Class
END:VEVENT
BEGIN:VEVENT
DTSTART;TZID=UTC:20270113T063000
DTEND;TZID=UTC:20270113T193000
DTSTAMP:20260424T165600
CREATED:20251027T165009Z
LAST-MODIFIED:20251027T165009Z
UID:10002928-1799821800-1799868600@crossfitchaparral.com
SUMMARY:CrossFit Class
DESCRIPTION:
URL:https://crossfitchaparral.com/event/crossfit-class-2/2027-01-13/
CATEGORIES:CrossFit Class
END:VEVENT
BEGIN:VEVENT
DTSTART;TZID=UTC:20270113T163000
DTEND;TZID=UTC:20270113T173000
DTSTAMP:20260424T165600
CREATED:20251027T165935Z
LAST-MODIFIED:20251027T165935Z
UID:10007104-1799857800-1799861400@crossfitchaparral.com
SUMMARY:CrossFit Class
DESCRIPTION:
URL:https://crossfitchaparral.com/event/crossfit-class-5/2027-01-13/
CATEGORIES:CrossFit Class
END:VEVENT
BEGIN:VEVENT
DTSTART;TZID=UTC:20270113T173000
DTEND;TZID=UTC:20270113T183000
DTSTAMP:20260424T165600
CREATED:20251027T170752Z
LAST-MODIFIED:20251027T170752Z
UID:10008409-1799861400-1799865000@crossfitchaparral.com
SUMMARY:CrossFit Class
DESCRIPTION:
URL:https://crossfitchaparral.com/event/crossfit-class-6/2027-01-13/
CATEGORIES:CrossFit Class
END:VEVENT
BEGIN:VEVENT
DTSTART;TZID=UTC:20270113T183000
DTEND;TZID=UTC:20270113T193000
DTSTAMP:20260424T165600
CREATED:20251027T170840Z
LAST-MODIFIED:20251027T170858Z
UID:10009651-1799865000-1799868600@crossfitchaparral.com
SUMMARY:CrossFit Class
DESCRIPTION:
URL:https://crossfitchaparral.com/event/crossfit-class-7/2027-01-13/
CATEGORIES:CrossFit Class
END:VEVENT
BEGIN:VEVENT
DTSTART;TZID=UTC:20270114T053000
DTEND;TZID=UTC:20270114T063000
DTSTAMP:20260424T165600
CREATED:20251027T164919Z
LAST-MODIFIED:20251027T164919Z
UID:10001624-1799904600-1799908200@crossfitchaparral.com
SUMMARY:CrossFit Class
DESCRIPTION:
URL:https://crossfitchaparral.com/event/crossfit-class/2027-01-14/
CATEGORIES:CrossFit Class
END:VEVENT
BEGIN:VEVENT
DTSTART;TZID=UTC:20270114T063000
DTEND;TZID=UTC:20270114T193000
DTSTAMP:20260424T165600
CREATED:20251027T165009Z
LAST-MODIFIED:20251027T165009Z
UID:10002929-1799908200-1799955000@crossfitchaparral.com
SUMMARY:CrossFit Class
DESCRIPTION:
URL:https://crossfitchaparral.com/event/crossfit-class-2/2027-01-14/
CATEGORIES:CrossFit Class
END:VEVENT
BEGIN:VEVENT
DTSTART;TZID=UTC:20270114T163000
DTEND;TZID=UTC:20270114T173000
DTSTAMP:20260424T165600
CREATED:20251027T165935Z
LAST-MODIFIED:20251027T165935Z
UID:10007105-1799944200-1799947800@crossfitchaparral.com
SUMMARY:CrossFit Class
DESCRIPTION:
URL:https://crossfitchaparral.com/event/crossfit-class-5/2027-01-14/
CATEGORIES:CrossFit Class
END:VEVENT
BEGIN:VEVENT
DTSTART;TZID=UTC:20270114T173000
DTEND;TZID=UTC:20270114T183000
DTSTAMP:20260424T165600
CREATED:20251027T170752Z
LAST-MODIFIED:20251027T170752Z
UID:10008410-1799947800-1799951400@crossfitchaparral.com
SUMMARY:CrossFit Class
DESCRIPTION:
URL:https://crossfitchaparral.com/event/crossfit-class-6/2027-01-14/
CATEGORIES:CrossFit Class
END:VEVENT
BEGIN:VEVENT
DTSTART;TZID=UTC:20270114T183000
DTEND;TZID=UTC:20270114T193000
DTSTAMP:20260424T165600
CREATED:20251027T170840Z
LAST-MODIFIED:20251027T170858Z
UID:10009652-1799951400-1799955000@crossfitchaparral.com
SUMMARY:CrossFit Class
DESCRIPTION:
URL:https://crossfitchaparral.com/event/crossfit-class-7/2027-01-14/
CATEGORIES:CrossFit Class
END:VEVENT
BEGIN:VEVENT
DTSTART;TZID=UTC:20270115T053000
DTEND;TZID=UTC:20270115T063000
DTSTAMP:20260424T165600
CREATED:20251027T164919Z
LAST-MODIFIED:20251027T164919Z
UID:10001625-1799991000-1799994600@crossfitchaparral.com
SUMMARY:CrossFit Class
DESCRIPTION:
URL:https://crossfitchaparral.com/event/crossfit-class/2027-01-15/
CATEGORIES:CrossFit Class
END:VEVENT
BEGIN:VEVENT
DTSTART;TZID=UTC:20270115T063000
DTEND;TZID=UTC:20270115T193000
DTSTAMP:20260424T165600
CREATED:20251027T165009Z
LAST-MODIFIED:20251027T165009Z
UID:10002930-1799994600-1800041400@crossfitchaparral.com
SUMMARY:CrossFit Class
DESCRIPTION:
URL:https://crossfitchaparral.com/event/crossfit-class-2/2027-01-15/
CATEGORIES:CrossFit Class
END:VEVENT
BEGIN:VEVENT
DTSTART;TZID=UTC:20270115T083000
DTEND;TZID=UTC:20270115T093000
DTSTAMP:20260424T165600
CREATED:20251027T165257Z
LAST-MODIFIED:20251027T165257Z
UID:10005284-1800001800-1800005400@crossfitchaparral.com
SUMMARY:CrossFit Class
DESCRIPTION:
URL:https://crossfitchaparral.com/event/crossfit-class-3/2027-01-15/
CATEGORIES:CrossFit Class
END:VEVENT
BEGIN:VEVENT
DTSTART;TZID=UTC:20270115T163000
DTEND;TZID=UTC:20270115T173000
DTSTAMP:20260424T165600
CREATED:20251027T165935Z
LAST-MODIFIED:20251027T165935Z
UID:10007106-1800030600-1800034200@crossfitchaparral.com
SUMMARY:CrossFit Class
DESCRIPTION:
URL:https://crossfitchaparral.com/event/crossfit-class-5/2027-01-15/
CATEGORIES:CrossFit Class
END:VEVENT
BEGIN:VEVENT
DTSTART;TZID=UTC:20270115T173000
DTEND;TZID=UTC:20270115T183000
DTSTAMP:20260424T165600
CREATED:20251027T170752Z
LAST-MODIFIED:20251027T170752Z
UID:10008411-1800034200-1800037800@crossfitchaparral.com
SUMMARY:CrossFit Class
DESCRIPTION:
URL:https://crossfitchaparral.com/event/crossfit-class-6/2027-01-15/
CATEGORIES:CrossFit Class
END:VEVENT
BEGIN:VEVENT
DTSTART;TZID=UTC:20270116T080000
DTEND;TZID=UTC:20270116T090000
DTSTAMP:20260424T165600
CREATED:20251027T165352Z
LAST-MODIFIED:20251027T165352Z
UID:10005545-1800086400-1800090000@crossfitchaparral.com
SUMMARY:CrossFit Class
DESCRIPTION:
URL:https://crossfitchaparral.com/event/crossfit-class-4/2027-01-16/
CATEGORIES:CrossFit Class
END:VEVENT
BEGIN:VEVENT
DTSTART;TZID=UTC:20270118T053000
DTEND;TZID=UTC:20270118T063000
DTSTAMP:20260424T165600
CREATED:20251027T164919Z
LAST-MODIFIED:20251027T164919Z
UID:10001626-1800250200-1800253800@crossfitchaparral.com
SUMMARY:CrossFit Class
DESCRIPTION:
URL:https://crossfitchaparral.com/event/crossfit-class/2027-01-18/
CATEGORIES:CrossFit Class
END:VEVENT
END:VCALENDAR