BEGIN:VCALENDAR
VERSION:2.0
PRODID:-//CrossFit Chaparral - ECPv6.15.10//NONSGML v1.0//EN
CALSCALE:GREGORIAN
METHOD:PUBLISH
X-ORIGINAL-URL:https://crossfitchaparral.com
X-WR-CALDESC:Events for CrossFit Chaparral
REFRESH-INTERVAL;VALUE=DURATION:PT1H
X-Robots-Tag:noindex
X-PUBLISHED-TTL:PT1H
BEGIN:VTIMEZONE
TZID:UTC
BEGIN:STANDARD
TZOFFSETFROM:+0000
TZOFFSETTO:+0000
TZNAME:UTC
DTSTART:20250101T000000
END:STANDARD
END:VTIMEZONE
BEGIN:VEVENT
DTSTART;TZID=UTC:20260814T163000
DTEND;TZID=UTC:20260814T173000
DTSTAMP:20260424T061132
CREATED:20251027T165935Z
LAST-MODIFIED:20251027T165935Z
UID:10006996-1786725000-1786728600@crossfitchaparral.com
SUMMARY:CrossFit Class
DESCRIPTION:
URL:https://crossfitchaparral.com/event/crossfit-class-5/2026-08-14/
CATEGORIES:CrossFit Class
END:VEVENT
BEGIN:VEVENT
DTSTART;TZID=UTC:20260814T173000
DTEND;TZID=UTC:20260814T183000
DTSTAMP:20260424T061132
CREATED:20251027T170752Z
LAST-MODIFIED:20251027T170752Z
UID:10008301-1786728600-1786732200@crossfitchaparral.com
SUMMARY:CrossFit Class
DESCRIPTION:
URL:https://crossfitchaparral.com/event/crossfit-class-6/2026-08-14/
CATEGORIES:CrossFit Class
END:VEVENT
BEGIN:VEVENT
DTSTART;TZID=UTC:20260815T080000
DTEND;TZID=UTC:20260815T090000
DTSTAMP:20260424T061132
CREATED:20251027T165352Z
LAST-MODIFIED:20251027T165352Z
UID:10005523-1786780800-1786784400@crossfitchaparral.com
SUMMARY:CrossFit Class
DESCRIPTION:
URL:https://crossfitchaparral.com/event/crossfit-class-4/2026-08-15/
CATEGORIES:CrossFit Class
END:VEVENT
BEGIN:VEVENT
DTSTART;TZID=UTC:20260817T053000
DTEND;TZID=UTC:20260817T063000
DTSTAMP:20260424T061132
CREATED:20251027T164919Z
LAST-MODIFIED:20251027T164919Z
UID:10001516-1786944600-1786948200@crossfitchaparral.com
SUMMARY:CrossFit Class
DESCRIPTION:
URL:https://crossfitchaparral.com/event/crossfit-class/2026-08-17/
CATEGORIES:CrossFit Class
END:VEVENT
BEGIN:VEVENT
DTSTART;TZID=UTC:20260817T063000
DTEND;TZID=UTC:20260817T193000
DTSTAMP:20260424T061132
CREATED:20251027T165009Z
LAST-MODIFIED:20251027T165009Z
UID:10002821-1786948200-1786995000@crossfitchaparral.com
SUMMARY:CrossFit Class
DESCRIPTION:
URL:https://crossfitchaparral.com/event/crossfit-class-2/2026-08-17/
CATEGORIES:CrossFit Class
END:VEVENT
BEGIN:VEVENT
DTSTART;TZID=UTC:20260817T163000
DTEND;TZID=UTC:20260817T173000
DTSTAMP:20260424T061132
CREATED:20251027T165935Z
LAST-MODIFIED:20251027T165935Z
UID:10006997-1786984200-1786987800@crossfitchaparral.com
SUMMARY:CrossFit Class
DESCRIPTION:
URL:https://crossfitchaparral.com/event/crossfit-class-5/2026-08-17/
CATEGORIES:CrossFit Class
END:VEVENT
BEGIN:VEVENT
DTSTART;TZID=UTC:20260817T173000
DTEND;TZID=UTC:20260817T183000
DTSTAMP:20260424T061132
CREATED:20251027T170752Z
LAST-MODIFIED:20251027T170752Z
UID:10008302-1786987800-1786991400@crossfitchaparral.com
SUMMARY:CrossFit Class
DESCRIPTION:
URL:https://crossfitchaparral.com/event/crossfit-class-6/2026-08-17/
CATEGORIES:CrossFit Class
END:VEVENT
BEGIN:VEVENT
DTSTART;TZID=UTC:20260817T183000
DTEND;TZID=UTC:20260817T193000
DTSTAMP:20260424T061132
CREATED:20251027T170840Z
LAST-MODIFIED:20251027T170858Z
UID:10009565-1786991400-1786995000@crossfitchaparral.com
SUMMARY:CrossFit Class
DESCRIPTION:
URL:https://crossfitchaparral.com/event/crossfit-class-7/2026-08-17/
CATEGORIES:CrossFit Class
END:VEVENT
BEGIN:VEVENT
DTSTART;TZID=UTC:20260818T053000
DTEND;TZID=UTC:20260818T063000
DTSTAMP:20260424T061132
CREATED:20251027T164919Z
LAST-MODIFIED:20251027T164919Z
UID:10001517-1787031000-1787034600@crossfitchaparral.com
SUMMARY:CrossFit Class
DESCRIPTION:
URL:https://crossfitchaparral.com/event/crossfit-class/2026-08-18/
CATEGORIES:CrossFit Class
END:VEVENT
BEGIN:VEVENT
DTSTART;TZID=UTC:20260818T063000
DTEND;TZID=UTC:20260818T193000
DTSTAMP:20260424T061132
CREATED:20251027T165009Z
LAST-MODIFIED:20251027T165009Z
UID:10002822-1787034600-1787081400@crossfitchaparral.com
SUMMARY:CrossFit Class
DESCRIPTION:
URL:https://crossfitchaparral.com/event/crossfit-class-2/2026-08-18/
CATEGORIES:CrossFit Class
END:VEVENT
BEGIN:VEVENT
DTSTART;TZID=UTC:20260818T163000
DTEND;TZID=UTC:20260818T173000
DTSTAMP:20260424T061132
CREATED:20251027T165935Z
LAST-MODIFIED:20251027T165935Z
UID:10006998-1787070600-1787074200@crossfitchaparral.com
SUMMARY:CrossFit Class
DESCRIPTION:
URL:https://crossfitchaparral.com/event/crossfit-class-5/2026-08-18/
CATEGORIES:CrossFit Class
END:VEVENT
BEGIN:VEVENT
DTSTART;TZID=UTC:20260818T173000
DTEND;TZID=UTC:20260818T183000
DTSTAMP:20260424T061132
CREATED:20251027T170752Z
LAST-MODIFIED:20251027T170752Z
UID:10008303-1787074200-1787077800@crossfitchaparral.com
SUMMARY:CrossFit Class
DESCRIPTION:
URL:https://crossfitchaparral.com/event/crossfit-class-6/2026-08-18/
CATEGORIES:CrossFit Class
END:VEVENT
BEGIN:VEVENT
DTSTART;TZID=UTC:20260818T183000
DTEND;TZID=UTC:20260818T193000
DTSTAMP:20260424T061132
CREATED:20251027T170840Z
LAST-MODIFIED:20251027T170858Z
UID:10009566-1787077800-1787081400@crossfitchaparral.com
SUMMARY:CrossFit Class
DESCRIPTION:
URL:https://crossfitchaparral.com/event/crossfit-class-7/2026-08-18/
CATEGORIES:CrossFit Class
END:VEVENT
BEGIN:VEVENT
DTSTART;TZID=UTC:20260819T053000
DTEND;TZID=UTC:20260819T063000
DTSTAMP:20260424T061132
CREATED:20251027T164919Z
LAST-MODIFIED:20251027T164919Z
UID:10001518-1787117400-1787121000@crossfitchaparral.com
SUMMARY:CrossFit Class
DESCRIPTION:
URL:https://crossfitchaparral.com/event/crossfit-class/2026-08-19/
CATEGORIES:CrossFit Class
END:VEVENT
BEGIN:VEVENT
DTSTART;TZID=UTC:20260819T063000
DTEND;TZID=UTC:20260819T193000
DTSTAMP:20260424T061132
CREATED:20251027T165009Z
LAST-MODIFIED:20251027T165009Z
UID:10002823-1787121000-1787167800@crossfitchaparral.com
SUMMARY:CrossFit Class
DESCRIPTION:
URL:https://crossfitchaparral.com/event/crossfit-class-2/2026-08-19/
CATEGORIES:CrossFit Class
END:VEVENT
BEGIN:VEVENT
DTSTART;TZID=UTC:20260819T163000
DTEND;TZID=UTC:20260819T173000
DTSTAMP:20260424T061132
CREATED:20251027T165935Z
LAST-MODIFIED:20251027T165935Z
UID:10006999-1787157000-1787160600@crossfitchaparral.com
SUMMARY:CrossFit Class
DESCRIPTION:
URL:https://crossfitchaparral.com/event/crossfit-class-5/2026-08-19/
CATEGORIES:CrossFit Class
END:VEVENT
BEGIN:VEVENT
DTSTART;TZID=UTC:20260819T173000
DTEND;TZID=UTC:20260819T183000
DTSTAMP:20260424T061132
CREATED:20251027T170752Z
LAST-MODIFIED:20251027T170752Z
UID:10008304-1787160600-1787164200@crossfitchaparral.com
SUMMARY:CrossFit Class
DESCRIPTION:
URL:https://crossfitchaparral.com/event/crossfit-class-6/2026-08-19/
CATEGORIES:CrossFit Class
END:VEVENT
BEGIN:VEVENT
DTSTART;TZID=UTC:20260819T183000
DTEND;TZID=UTC:20260819T193000
DTSTAMP:20260424T061132
CREATED:20251027T170840Z
LAST-MODIFIED:20251027T170858Z
UID:10009567-1787164200-1787167800@crossfitchaparral.com
SUMMARY:CrossFit Class
DESCRIPTION:
URL:https://crossfitchaparral.com/event/crossfit-class-7/2026-08-19/
CATEGORIES:CrossFit Class
END:VEVENT
BEGIN:VEVENT
DTSTART;TZID=UTC:20260820T053000
DTEND;TZID=UTC:20260820T063000
DTSTAMP:20260424T061132
CREATED:20251027T164919Z
LAST-MODIFIED:20251027T164919Z
UID:10001519-1787203800-1787207400@crossfitchaparral.com
SUMMARY:CrossFit Class
DESCRIPTION:
URL:https://crossfitchaparral.com/event/crossfit-class/2026-08-20/
CATEGORIES:CrossFit Class
END:VEVENT
BEGIN:VEVENT
DTSTART;TZID=UTC:20260820T063000
DTEND;TZID=UTC:20260820T193000
DTSTAMP:20260424T061132
CREATED:20251027T165009Z
LAST-MODIFIED:20251027T165009Z
UID:10002824-1787207400-1787254200@crossfitchaparral.com
SUMMARY:CrossFit Class
DESCRIPTION:
URL:https://crossfitchaparral.com/event/crossfit-class-2/2026-08-20/
CATEGORIES:CrossFit Class
END:VEVENT
BEGIN:VEVENT
DTSTART;TZID=UTC:20260820T163000
DTEND;TZID=UTC:20260820T173000
DTSTAMP:20260424T061132
CREATED:20251027T165935Z
LAST-MODIFIED:20251027T165935Z
UID:10007000-1787243400-1787247000@crossfitchaparral.com
SUMMARY:CrossFit Class
DESCRIPTION:
URL:https://crossfitchaparral.com/event/crossfit-class-5/2026-08-20/
CATEGORIES:CrossFit Class
END:VEVENT
BEGIN:VEVENT
DTSTART;TZID=UTC:20260820T173000
DTEND;TZID=UTC:20260820T183000
DTSTAMP:20260424T061132
CREATED:20251027T170752Z
LAST-MODIFIED:20251027T170752Z
UID:10008305-1787247000-1787250600@crossfitchaparral.com
SUMMARY:CrossFit Class
DESCRIPTION:
URL:https://crossfitchaparral.com/event/crossfit-class-6/2026-08-20/
CATEGORIES:CrossFit Class
END:VEVENT
BEGIN:VEVENT
DTSTART;TZID=UTC:20260820T183000
DTEND;TZID=UTC:20260820T193000
DTSTAMP:20260424T061132
CREATED:20251027T170840Z
LAST-MODIFIED:20251027T170858Z
UID:10009568-1787250600-1787254200@crossfitchaparral.com
SUMMARY:CrossFit Class
DESCRIPTION:
URL:https://crossfitchaparral.com/event/crossfit-class-7/2026-08-20/
CATEGORIES:CrossFit Class
END:VEVENT
BEGIN:VEVENT
DTSTART;TZID=UTC:20260821T053000
DTEND;TZID=UTC:20260821T063000
DTSTAMP:20260424T061132
CREATED:20251027T164919Z
LAST-MODIFIED:20251027T164919Z
UID:10001520-1787290200-1787293800@crossfitchaparral.com
SUMMARY:CrossFit Class
DESCRIPTION:
URL:https://crossfitchaparral.com/event/crossfit-class/2026-08-21/
CATEGORIES:CrossFit Class
END:VEVENT
BEGIN:VEVENT
DTSTART;TZID=UTC:20260821T063000
DTEND;TZID=UTC:20260821T193000
DTSTAMP:20260424T061132
CREATED:20251027T165009Z
LAST-MODIFIED:20251027T165009Z
UID:10002825-1787293800-1787340600@crossfitchaparral.com
SUMMARY:CrossFit Class
DESCRIPTION:
URL:https://crossfitchaparral.com/event/crossfit-class-2/2026-08-21/
CATEGORIES:CrossFit Class
END:VEVENT
BEGIN:VEVENT
DTSTART;TZID=UTC:20260821T083000
DTEND;TZID=UTC:20260821T093000
DTSTAMP:20260424T061132
CREATED:20251027T165257Z
LAST-MODIFIED:20251027T165257Z
UID:10005263-1787301000-1787304600@crossfitchaparral.com
SUMMARY:CrossFit Class
DESCRIPTION:
URL:https://crossfitchaparral.com/event/crossfit-class-3/2026-08-21/
CATEGORIES:CrossFit Class
END:VEVENT
BEGIN:VEVENT
DTSTART;TZID=UTC:20260821T163000
DTEND;TZID=UTC:20260821T173000
DTSTAMP:20260424T061132
CREATED:20251027T165935Z
LAST-MODIFIED:20251027T165935Z
UID:10007001-1787329800-1787333400@crossfitchaparral.com
SUMMARY:CrossFit Class
DESCRIPTION:
URL:https://crossfitchaparral.com/event/crossfit-class-5/2026-08-21/
CATEGORIES:CrossFit Class
END:VEVENT
BEGIN:VEVENT
DTSTART;TZID=UTC:20260821T173000
DTEND;TZID=UTC:20260821T183000
DTSTAMP:20260424T061132
CREATED:20251027T170752Z
LAST-MODIFIED:20251027T170752Z
UID:10008306-1787333400-1787337000@crossfitchaparral.com
SUMMARY:CrossFit Class
DESCRIPTION:
URL:https://crossfitchaparral.com/event/crossfit-class-6/2026-08-21/
CATEGORIES:CrossFit Class
END:VEVENT
BEGIN:VEVENT
DTSTART;TZID=UTC:20260822T080000
DTEND;TZID=UTC:20260822T090000
DTSTAMP:20260424T061132
CREATED:20251027T165352Z
LAST-MODIFIED:20251027T165352Z
UID:10005524-1787385600-1787389200@crossfitchaparral.com
SUMMARY:CrossFit Class
DESCRIPTION:
URL:https://crossfitchaparral.com/event/crossfit-class-4/2026-08-22/
CATEGORIES:CrossFit Class
END:VEVENT
BEGIN:VEVENT
DTSTART;TZID=UTC:20260824T053000
DTEND;TZID=UTC:20260824T063000
DTSTAMP:20260424T061132
CREATED:20251027T164919Z
LAST-MODIFIED:20251027T164919Z
UID:10001521-1787549400-1787553000@crossfitchaparral.com
SUMMARY:CrossFit Class
DESCRIPTION:
URL:https://crossfitchaparral.com/event/crossfit-class/2026-08-24/
CATEGORIES:CrossFit Class
END:VEVENT
END:VCALENDAR