BEGIN:VCALENDAR
VERSION:2.0
PRODID:-//CrossFit Chaparral - ECPv6.15.10//NONSGML v1.0//EN
CALSCALE:GREGORIAN
METHOD:PUBLISH
X-ORIGINAL-URL:https://crossfitchaparral.com
X-WR-CALDESC:Events for CrossFit Chaparral
REFRESH-INTERVAL;VALUE=DURATION:PT1H
X-Robots-Tag:noindex
X-PUBLISHED-TTL:PT1H
BEGIN:VTIMEZONE
TZID:UTC
BEGIN:STANDARD
TZOFFSETFROM:+0000
TZOFFSETTO:+0000
TZNAME:UTC
DTSTART:20250101T000000
END:STANDARD
END:VTIMEZONE
BEGIN:VEVENT
DTSTART;TZID=UTC:20261207T173000
DTEND;TZID=UTC:20261207T183000
DTSTAMP:20260424T123111
CREATED:20251027T170752Z
LAST-MODIFIED:20251027T170752Z
UID:10008382-1796664600-1796668200@crossfitchaparral.com
SUMMARY:CrossFit Class
DESCRIPTION:
URL:https://crossfitchaparral.com/event/crossfit-class-6/2026-12-07/
CATEGORIES:CrossFit Class
END:VEVENT
BEGIN:VEVENT
DTSTART;TZID=UTC:20261207T183000
DTEND;TZID=UTC:20261207T193000
DTSTAMP:20260424T123111
CREATED:20251027T170840Z
LAST-MODIFIED:20251027T170858Z
UID:10009629-1796668200-1796671800@crossfitchaparral.com
SUMMARY:CrossFit Class
DESCRIPTION:
URL:https://crossfitchaparral.com/event/crossfit-class-7/2026-12-07/
CATEGORIES:CrossFit Class
END:VEVENT
BEGIN:VEVENT
DTSTART;TZID=UTC:20261208T053000
DTEND;TZID=UTC:20261208T063000
DTSTAMP:20260424T123111
CREATED:20251027T164919Z
LAST-MODIFIED:20251027T164919Z
UID:10001597-1796707800-1796711400@crossfitchaparral.com
SUMMARY:CrossFit Class
DESCRIPTION:
URL:https://crossfitchaparral.com/event/crossfit-class/2026-12-08/
CATEGORIES:CrossFit Class
END:VEVENT
BEGIN:VEVENT
DTSTART;TZID=UTC:20261208T063000
DTEND;TZID=UTC:20261208T193000
DTSTAMP:20260424T123111
CREATED:20251027T165009Z
LAST-MODIFIED:20251027T165009Z
UID:10002902-1796711400-1796758200@crossfitchaparral.com
SUMMARY:CrossFit Class
DESCRIPTION:
URL:https://crossfitchaparral.com/event/crossfit-class-2/2026-12-08/
CATEGORIES:CrossFit Class
END:VEVENT
BEGIN:VEVENT
DTSTART;TZID=UTC:20261208T163000
DTEND;TZID=UTC:20261208T173000
DTSTAMP:20260424T123111
CREATED:20251027T165935Z
LAST-MODIFIED:20251027T165935Z
UID:10007078-1796747400-1796751000@crossfitchaparral.com
SUMMARY:CrossFit Class
DESCRIPTION:
URL:https://crossfitchaparral.com/event/crossfit-class-5/2026-12-08/
CATEGORIES:CrossFit Class
END:VEVENT
BEGIN:VEVENT
DTSTART;TZID=UTC:20261208T173000
DTEND;TZID=UTC:20261208T183000
DTSTAMP:20260424T123111
CREATED:20251027T170752Z
LAST-MODIFIED:20251027T170752Z
UID:10008383-1796751000-1796754600@crossfitchaparral.com
SUMMARY:CrossFit Class
DESCRIPTION:
URL:https://crossfitchaparral.com/event/crossfit-class-6/2026-12-08/
CATEGORIES:CrossFit Class
END:VEVENT
BEGIN:VEVENT
DTSTART;TZID=UTC:20261208T183000
DTEND;TZID=UTC:20261208T193000
DTSTAMP:20260424T123111
CREATED:20251027T170840Z
LAST-MODIFIED:20251027T170858Z
UID:10009630-1796754600-1796758200@crossfitchaparral.com
SUMMARY:CrossFit Class
DESCRIPTION:
URL:https://crossfitchaparral.com/event/crossfit-class-7/2026-12-08/
CATEGORIES:CrossFit Class
END:VEVENT
BEGIN:VEVENT
DTSTART;TZID=UTC:20261209T053000
DTEND;TZID=UTC:20261209T063000
DTSTAMP:20260424T123111
CREATED:20251027T164919Z
LAST-MODIFIED:20251027T164919Z
UID:10001598-1796794200-1796797800@crossfitchaparral.com
SUMMARY:CrossFit Class
DESCRIPTION:
URL:https://crossfitchaparral.com/event/crossfit-class/2026-12-09/
CATEGORIES:CrossFit Class
END:VEVENT
BEGIN:VEVENT
DTSTART;TZID=UTC:20261209T063000
DTEND;TZID=UTC:20261209T193000
DTSTAMP:20260424T123111
CREATED:20251027T165009Z
LAST-MODIFIED:20251027T165009Z
UID:10002903-1796797800-1796844600@crossfitchaparral.com
SUMMARY:CrossFit Class
DESCRIPTION:
URL:https://crossfitchaparral.com/event/crossfit-class-2/2026-12-09/
CATEGORIES:CrossFit Class
END:VEVENT
BEGIN:VEVENT
DTSTART;TZID=UTC:20261209T163000
DTEND;TZID=UTC:20261209T173000
DTSTAMP:20260424T123111
CREATED:20251027T165935Z
LAST-MODIFIED:20251027T165935Z
UID:10007079-1796833800-1796837400@crossfitchaparral.com
SUMMARY:CrossFit Class
DESCRIPTION:
URL:https://crossfitchaparral.com/event/crossfit-class-5/2026-12-09/
CATEGORIES:CrossFit Class
END:VEVENT
BEGIN:VEVENT
DTSTART;TZID=UTC:20261209T173000
DTEND;TZID=UTC:20261209T183000
DTSTAMP:20260424T123111
CREATED:20251027T170752Z
LAST-MODIFIED:20251027T170752Z
UID:10008384-1796837400-1796841000@crossfitchaparral.com
SUMMARY:CrossFit Class
DESCRIPTION:
URL:https://crossfitchaparral.com/event/crossfit-class-6/2026-12-09/
CATEGORIES:CrossFit Class
END:VEVENT
BEGIN:VEVENT
DTSTART;TZID=UTC:20261209T183000
DTEND;TZID=UTC:20261209T193000
DTSTAMP:20260424T123111
CREATED:20251027T170840Z
LAST-MODIFIED:20251027T170858Z
UID:10009631-1796841000-1796844600@crossfitchaparral.com
SUMMARY:CrossFit Class
DESCRIPTION:
URL:https://crossfitchaparral.com/event/crossfit-class-7/2026-12-09/
CATEGORIES:CrossFit Class
END:VEVENT
BEGIN:VEVENT
DTSTART;TZID=UTC:20261210T053000
DTEND;TZID=UTC:20261210T063000
DTSTAMP:20260424T123111
CREATED:20251027T164919Z
LAST-MODIFIED:20251027T164919Z
UID:10001599-1796880600-1796884200@crossfitchaparral.com
SUMMARY:CrossFit Class
DESCRIPTION:
URL:https://crossfitchaparral.com/event/crossfit-class/2026-12-10/
CATEGORIES:CrossFit Class
END:VEVENT
BEGIN:VEVENT
DTSTART;TZID=UTC:20261210T063000
DTEND;TZID=UTC:20261210T193000
DTSTAMP:20260424T123111
CREATED:20251027T165009Z
LAST-MODIFIED:20251027T165009Z
UID:10002904-1796884200-1796931000@crossfitchaparral.com
SUMMARY:CrossFit Class
DESCRIPTION:
URL:https://crossfitchaparral.com/event/crossfit-class-2/2026-12-10/
CATEGORIES:CrossFit Class
END:VEVENT
BEGIN:VEVENT
DTSTART;TZID=UTC:20261210T163000
DTEND;TZID=UTC:20261210T173000
DTSTAMP:20260424T123111
CREATED:20251027T165935Z
LAST-MODIFIED:20251027T165935Z
UID:10007080-1796920200-1796923800@crossfitchaparral.com
SUMMARY:CrossFit Class
DESCRIPTION:
URL:https://crossfitchaparral.com/event/crossfit-class-5/2026-12-10/
CATEGORIES:CrossFit Class
END:VEVENT
BEGIN:VEVENT
DTSTART;TZID=UTC:20261210T173000
DTEND;TZID=UTC:20261210T183000
DTSTAMP:20260424T123111
CREATED:20251027T170752Z
LAST-MODIFIED:20251027T170752Z
UID:10008385-1796923800-1796927400@crossfitchaparral.com
SUMMARY:CrossFit Class
DESCRIPTION:
URL:https://crossfitchaparral.com/event/crossfit-class-6/2026-12-10/
CATEGORIES:CrossFit Class
END:VEVENT
BEGIN:VEVENT
DTSTART;TZID=UTC:20261210T183000
DTEND;TZID=UTC:20261210T193000
DTSTAMP:20260424T123111
CREATED:20251027T170840Z
LAST-MODIFIED:20251027T170858Z
UID:10009632-1796927400-1796931000@crossfitchaparral.com
SUMMARY:CrossFit Class
DESCRIPTION:
URL:https://crossfitchaparral.com/event/crossfit-class-7/2026-12-10/
CATEGORIES:CrossFit Class
END:VEVENT
BEGIN:VEVENT
DTSTART;TZID=UTC:20261211T053000
DTEND;TZID=UTC:20261211T063000
DTSTAMP:20260424T123111
CREATED:20251027T164919Z
LAST-MODIFIED:20251027T164919Z
UID:10001600-1796967000-1796970600@crossfitchaparral.com
SUMMARY:CrossFit Class
DESCRIPTION:
URL:https://crossfitchaparral.com/event/crossfit-class/2026-12-11/
CATEGORIES:CrossFit Class
END:VEVENT
BEGIN:VEVENT
DTSTART;TZID=UTC:20261211T063000
DTEND;TZID=UTC:20261211T193000
DTSTAMP:20260424T123111
CREATED:20251027T165009Z
LAST-MODIFIED:20251027T165009Z
UID:10002905-1796970600-1797017400@crossfitchaparral.com
SUMMARY:CrossFit Class
DESCRIPTION:
URL:https://crossfitchaparral.com/event/crossfit-class-2/2026-12-11/
CATEGORIES:CrossFit Class
END:VEVENT
BEGIN:VEVENT
DTSTART;TZID=UTC:20261211T083000
DTEND;TZID=UTC:20261211T093000
DTSTAMP:20260424T123111
CREATED:20251027T165257Z
LAST-MODIFIED:20251027T165257Z
UID:10005279-1796977800-1796981400@crossfitchaparral.com
SUMMARY:CrossFit Class
DESCRIPTION:
URL:https://crossfitchaparral.com/event/crossfit-class-3/2026-12-11/
CATEGORIES:CrossFit Class
END:VEVENT
BEGIN:VEVENT
DTSTART;TZID=UTC:20261211T163000
DTEND;TZID=UTC:20261211T173000
DTSTAMP:20260424T123111
CREATED:20251027T165935Z
LAST-MODIFIED:20251027T165935Z
UID:10007081-1797006600-1797010200@crossfitchaparral.com
SUMMARY:CrossFit Class
DESCRIPTION:
URL:https://crossfitchaparral.com/event/crossfit-class-5/2026-12-11/
CATEGORIES:CrossFit Class
END:VEVENT
BEGIN:VEVENT
DTSTART;TZID=UTC:20261211T173000
DTEND;TZID=UTC:20261211T183000
DTSTAMP:20260424T123111
CREATED:20251027T170752Z
LAST-MODIFIED:20251027T170752Z
UID:10008386-1797010200-1797013800@crossfitchaparral.com
SUMMARY:CrossFit Class
DESCRIPTION:
URL:https://crossfitchaparral.com/event/crossfit-class-6/2026-12-11/
CATEGORIES:CrossFit Class
END:VEVENT
BEGIN:VEVENT
DTSTART;TZID=UTC:20261212T080000
DTEND;TZID=UTC:20261212T090000
DTSTAMP:20260424T123111
CREATED:20251027T165352Z
LAST-MODIFIED:20251027T165352Z
UID:10005540-1797062400-1797066000@crossfitchaparral.com
SUMMARY:CrossFit Class
DESCRIPTION:
URL:https://crossfitchaparral.com/event/crossfit-class-4/2026-12-12/
CATEGORIES:CrossFit Class
END:VEVENT
BEGIN:VEVENT
DTSTART;TZID=UTC:20261214T053000
DTEND;TZID=UTC:20261214T063000
DTSTAMP:20260424T123111
CREATED:20251027T164919Z
LAST-MODIFIED:20251027T164919Z
UID:10001601-1797226200-1797229800@crossfitchaparral.com
SUMMARY:CrossFit Class
DESCRIPTION:
URL:https://crossfitchaparral.com/event/crossfit-class/2026-12-14/
CATEGORIES:CrossFit Class
END:VEVENT
BEGIN:VEVENT
DTSTART;TZID=UTC:20261214T063000
DTEND;TZID=UTC:20261214T193000
DTSTAMP:20260424T123111
CREATED:20251027T165009Z
LAST-MODIFIED:20251027T165009Z
UID:10002906-1797229800-1797276600@crossfitchaparral.com
SUMMARY:CrossFit Class
DESCRIPTION:
URL:https://crossfitchaparral.com/event/crossfit-class-2/2026-12-14/
CATEGORIES:CrossFit Class
END:VEVENT
BEGIN:VEVENT
DTSTART;TZID=UTC:20261214T163000
DTEND;TZID=UTC:20261214T173000
DTSTAMP:20260424T123111
CREATED:20251027T165935Z
LAST-MODIFIED:20251027T165935Z
UID:10007082-1797265800-1797269400@crossfitchaparral.com
SUMMARY:CrossFit Class
DESCRIPTION:
URL:https://crossfitchaparral.com/event/crossfit-class-5/2026-12-14/
CATEGORIES:CrossFit Class
END:VEVENT
BEGIN:VEVENT
DTSTART;TZID=UTC:20261214T173000
DTEND;TZID=UTC:20261214T183000
DTSTAMP:20260424T123111
CREATED:20251027T170752Z
LAST-MODIFIED:20251027T170752Z
UID:10008387-1797269400-1797273000@crossfitchaparral.com
SUMMARY:CrossFit Class
DESCRIPTION:
URL:https://crossfitchaparral.com/event/crossfit-class-6/2026-12-14/
CATEGORIES:CrossFit Class
END:VEVENT
BEGIN:VEVENT
DTSTART;TZID=UTC:20261214T183000
DTEND;TZID=UTC:20261214T193000
DTSTAMP:20260424T123111
CREATED:20251027T170840Z
LAST-MODIFIED:20251027T170858Z
UID:10009633-1797273000-1797276600@crossfitchaparral.com
SUMMARY:CrossFit Class
DESCRIPTION:
URL:https://crossfitchaparral.com/event/crossfit-class-7/2026-12-14/
CATEGORIES:CrossFit Class
END:VEVENT
BEGIN:VEVENT
DTSTART;TZID=UTC:20261215T053000
DTEND;TZID=UTC:20261215T063000
DTSTAMP:20260424T123111
CREATED:20251027T164919Z
LAST-MODIFIED:20251027T164919Z
UID:10001602-1797312600-1797316200@crossfitchaparral.com
SUMMARY:CrossFit Class
DESCRIPTION:
URL:https://crossfitchaparral.com/event/crossfit-class/2026-12-15/
CATEGORIES:CrossFit Class
END:VEVENT
BEGIN:VEVENT
DTSTART;TZID=UTC:20261215T063000
DTEND;TZID=UTC:20261215T193000
DTSTAMP:20260424T123111
CREATED:20251027T165009Z
LAST-MODIFIED:20251027T165009Z
UID:10002907-1797316200-1797363000@crossfitchaparral.com
SUMMARY:CrossFit Class
DESCRIPTION:
URL:https://crossfitchaparral.com/event/crossfit-class-2/2026-12-15/
CATEGORIES:CrossFit Class
END:VEVENT
END:VCALENDAR