BEGIN:VCALENDAR
VERSION:2.0
PRODID:-//CrossFit Chaparral - ECPv6.15.10//NONSGML v1.0//EN
CALSCALE:GREGORIAN
METHOD:PUBLISH
X-WR-CALNAME:CrossFit Chaparral
X-ORIGINAL-URL:https://crossfitchaparral.com
X-WR-CALDESC:Events for CrossFit Chaparral
REFRESH-INTERVAL;VALUE=DURATION:PT1H
X-Robots-Tag:noindex
X-PUBLISHED-TTL:PT1H
BEGIN:VTIMEZONE
TZID:UTC
BEGIN:STANDARD
TZOFFSETFROM:+0000
TZOFFSETTO:+0000
TZNAME:UTC
DTSTART:20250101T000000
END:STANDARD
END:VTIMEZONE
BEGIN:VEVENT
DTSTART;TZID=UTC:20261028T053000
DTEND;TZID=UTC:20261028T063000
DTSTAMP:20260424T135452
CREATED:20251027T164919Z
LAST-MODIFIED:20251027T164919Z
UID:10001568-1793165400-1793169000@crossfitchaparral.com
SUMMARY:CrossFit Class
DESCRIPTION:
URL:https://crossfitchaparral.com/event/crossfit-class/2026-10-28/
CATEGORIES:CrossFit Class
END:VEVENT
BEGIN:VEVENT
DTSTART;TZID=UTC:20261028T063000
DTEND;TZID=UTC:20261028T193000
DTSTAMP:20260424T135452
CREATED:20251027T165009Z
LAST-MODIFIED:20251027T165009Z
UID:10002873-1793169000-1793215800@crossfitchaparral.com
SUMMARY:CrossFit Class
DESCRIPTION:
URL:https://crossfitchaparral.com/event/crossfit-class-2/2026-10-28/
CATEGORIES:CrossFit Class
END:VEVENT
BEGIN:VEVENT
DTSTART;TZID=UTC:20261028T163000
DTEND;TZID=UTC:20261028T173000
DTSTAMP:20260424T135452
CREATED:20251027T165935Z
LAST-MODIFIED:20251027T165935Z
UID:10007049-1793205000-1793208600@crossfitchaparral.com
SUMMARY:CrossFit Class
DESCRIPTION:
URL:https://crossfitchaparral.com/event/crossfit-class-5/2026-10-28/
CATEGORIES:CrossFit Class
END:VEVENT
BEGIN:VEVENT
DTSTART;TZID=UTC:20261028T173000
DTEND;TZID=UTC:20261028T183000
DTSTAMP:20260424T135452
CREATED:20251027T170752Z
LAST-MODIFIED:20251027T170752Z
UID:10008354-1793208600-1793212200@crossfitchaparral.com
SUMMARY:CrossFit Class
DESCRIPTION:
URL:https://crossfitchaparral.com/event/crossfit-class-6/2026-10-28/
CATEGORIES:CrossFit Class
END:VEVENT
BEGIN:VEVENT
DTSTART;TZID=UTC:20261028T183000
DTEND;TZID=UTC:20261028T193000
DTSTAMP:20260424T135452
CREATED:20251027T170840Z
LAST-MODIFIED:20251027T170858Z
UID:10009607-1793212200-1793215800@crossfitchaparral.com
SUMMARY:CrossFit Class
DESCRIPTION:
URL:https://crossfitchaparral.com/event/crossfit-class-7/2026-10-28/
CATEGORIES:CrossFit Class
END:VEVENT
BEGIN:VEVENT
DTSTART;TZID=UTC:20261029T053000
DTEND;TZID=UTC:20261029T063000
DTSTAMP:20260424T135452
CREATED:20251027T164919Z
LAST-MODIFIED:20251027T164919Z
UID:10001569-1793251800-1793255400@crossfitchaparral.com
SUMMARY:CrossFit Class
DESCRIPTION:
URL:https://crossfitchaparral.com/event/crossfit-class/2026-10-29/
CATEGORIES:CrossFit Class
END:VEVENT
BEGIN:VEVENT
DTSTART;TZID=UTC:20261029T063000
DTEND;TZID=UTC:20261029T193000
DTSTAMP:20260424T135452
CREATED:20251027T165009Z
LAST-MODIFIED:20251027T165009Z
UID:10002874-1793255400-1793302200@crossfitchaparral.com
SUMMARY:CrossFit Class
DESCRIPTION:
URL:https://crossfitchaparral.com/event/crossfit-class-2/2026-10-29/
CATEGORIES:CrossFit Class
END:VEVENT
BEGIN:VEVENT
DTSTART;TZID=UTC:20261029T163000
DTEND;TZID=UTC:20261029T173000
DTSTAMP:20260424T135452
CREATED:20251027T165935Z
LAST-MODIFIED:20251027T165935Z
UID:10007050-1793291400-1793295000@crossfitchaparral.com
SUMMARY:CrossFit Class
DESCRIPTION:
URL:https://crossfitchaparral.com/event/crossfit-class-5/2026-10-29/
CATEGORIES:CrossFit Class
END:VEVENT
BEGIN:VEVENT
DTSTART;TZID=UTC:20261029T173000
DTEND;TZID=UTC:20261029T183000
DTSTAMP:20260424T135452
CREATED:20251027T170752Z
LAST-MODIFIED:20251027T170752Z
UID:10008355-1793295000-1793298600@crossfitchaparral.com
SUMMARY:CrossFit Class
DESCRIPTION:
URL:https://crossfitchaparral.com/event/crossfit-class-6/2026-10-29/
CATEGORIES:CrossFit Class
END:VEVENT
BEGIN:VEVENT
DTSTART;TZID=UTC:20261029T183000
DTEND;TZID=UTC:20261029T193000
DTSTAMP:20260424T135452
CREATED:20251027T170840Z
LAST-MODIFIED:20251027T170858Z
UID:10009608-1793298600-1793302200@crossfitchaparral.com
SUMMARY:CrossFit Class
DESCRIPTION:
URL:https://crossfitchaparral.com/event/crossfit-class-7/2026-10-29/
CATEGORIES:CrossFit Class
END:VEVENT
BEGIN:VEVENT
DTSTART;TZID=UTC:20261030T053000
DTEND;TZID=UTC:20261030T063000
DTSTAMP:20260424T135452
CREATED:20251027T164919Z
LAST-MODIFIED:20251027T164919Z
UID:10001570-1793338200-1793341800@crossfitchaparral.com
SUMMARY:CrossFit Class
DESCRIPTION:
URL:https://crossfitchaparral.com/event/crossfit-class/2026-10-30/
CATEGORIES:CrossFit Class
END:VEVENT
BEGIN:VEVENT
DTSTART;TZID=UTC:20261030T063000
DTEND;TZID=UTC:20261030T193000
DTSTAMP:20260424T135452
CREATED:20251027T165009Z
LAST-MODIFIED:20251027T165009Z
UID:10002875-1793341800-1793388600@crossfitchaparral.com
SUMMARY:CrossFit Class
DESCRIPTION:
URL:https://crossfitchaparral.com/event/crossfit-class-2/2026-10-30/
CATEGORIES:CrossFit Class
END:VEVENT
BEGIN:VEVENT
DTSTART;TZID=UTC:20261030T083000
DTEND;TZID=UTC:20261030T093000
DTSTAMP:20260424T135452
CREATED:20251027T165257Z
LAST-MODIFIED:20251027T165257Z
UID:10005273-1793349000-1793352600@crossfitchaparral.com
SUMMARY:CrossFit Class
DESCRIPTION:
URL:https://crossfitchaparral.com/event/crossfit-class-3/2026-10-30/
CATEGORIES:CrossFit Class
END:VEVENT
BEGIN:VEVENT
DTSTART;TZID=UTC:20261030T163000
DTEND;TZID=UTC:20261030T173000
DTSTAMP:20260424T135452
CREATED:20251027T165935Z
LAST-MODIFIED:20251027T165935Z
UID:10007051-1793377800-1793381400@crossfitchaparral.com
SUMMARY:CrossFit Class
DESCRIPTION:
URL:https://crossfitchaparral.com/event/crossfit-class-5/2026-10-30/
CATEGORIES:CrossFit Class
END:VEVENT
BEGIN:VEVENT
DTSTART;TZID=UTC:20261030T173000
DTEND;TZID=UTC:20261030T183000
DTSTAMP:20260424T135452
CREATED:20251027T170752Z
LAST-MODIFIED:20251027T170752Z
UID:10008356-1793381400-1793385000@crossfitchaparral.com
SUMMARY:CrossFit Class
DESCRIPTION:
URL:https://crossfitchaparral.com/event/crossfit-class-6/2026-10-30/
CATEGORIES:CrossFit Class
END:VEVENT
BEGIN:VEVENT
DTSTART;TZID=UTC:20261031T080000
DTEND;TZID=UTC:20261031T090000
DTSTAMP:20260424T135452
CREATED:20251027T165352Z
LAST-MODIFIED:20251027T165352Z
UID:10005534-1793433600-1793437200@crossfitchaparral.com
SUMMARY:CrossFit Class
DESCRIPTION:
URL:https://crossfitchaparral.com/event/crossfit-class-4/2026-10-31/
CATEGORIES:CrossFit Class
END:VEVENT
BEGIN:VEVENT
DTSTART;TZID=UTC:20261102T053000
DTEND;TZID=UTC:20261102T063000
DTSTAMP:20260424T135452
CREATED:20251027T164919Z
LAST-MODIFIED:20251027T164919Z
UID:10001571-1793597400-1793601000@crossfitchaparral.com
SUMMARY:CrossFit Class
DESCRIPTION:
URL:https://crossfitchaparral.com/event/crossfit-class/2026-11-02/
CATEGORIES:CrossFit Class
END:VEVENT
BEGIN:VEVENT
DTSTART;TZID=UTC:20261102T063000
DTEND;TZID=UTC:20261102T193000
DTSTAMP:20260424T135452
CREATED:20251027T165009Z
LAST-MODIFIED:20251027T165009Z
UID:10002876-1793601000-1793647800@crossfitchaparral.com
SUMMARY:CrossFit Class
DESCRIPTION:
URL:https://crossfitchaparral.com/event/crossfit-class-2/2026-11-02/
CATEGORIES:CrossFit Class
END:VEVENT
BEGIN:VEVENT
DTSTART;TZID=UTC:20261102T163000
DTEND;TZID=UTC:20261102T173000
DTSTAMP:20260424T135452
CREATED:20251027T165935Z
LAST-MODIFIED:20251027T165935Z
UID:10007052-1793637000-1793640600@crossfitchaparral.com
SUMMARY:CrossFit Class
DESCRIPTION:
URL:https://crossfitchaparral.com/event/crossfit-class-5/2026-11-02/
CATEGORIES:CrossFit Class
END:VEVENT
BEGIN:VEVENT
DTSTART;TZID=UTC:20261102T173000
DTEND;TZID=UTC:20261102T183000
DTSTAMP:20260424T135452
CREATED:20251027T170752Z
LAST-MODIFIED:20251027T170752Z
UID:10008357-1793640600-1793644200@crossfitchaparral.com
SUMMARY:CrossFit Class
DESCRIPTION:
URL:https://crossfitchaparral.com/event/crossfit-class-6/2026-11-02/
CATEGORIES:CrossFit Class
END:VEVENT
BEGIN:VEVENT
DTSTART;TZID=UTC:20261102T183000
DTEND;TZID=UTC:20261102T193000
DTSTAMP:20260424T135452
CREATED:20251027T170840Z
LAST-MODIFIED:20251027T170858Z
UID:10009609-1793644200-1793647800@crossfitchaparral.com
SUMMARY:CrossFit Class
DESCRIPTION:
URL:https://crossfitchaparral.com/event/crossfit-class-7/2026-11-02/
CATEGORIES:CrossFit Class
END:VEVENT
BEGIN:VEVENT
DTSTART;TZID=UTC:20261103T053000
DTEND;TZID=UTC:20261103T063000
DTSTAMP:20260424T135452
CREATED:20251027T164919Z
LAST-MODIFIED:20251027T164919Z
UID:10001572-1793683800-1793687400@crossfitchaparral.com
SUMMARY:CrossFit Class
DESCRIPTION:
URL:https://crossfitchaparral.com/event/crossfit-class/2026-11-03/
CATEGORIES:CrossFit Class
END:VEVENT
BEGIN:VEVENT
DTSTART;TZID=UTC:20261103T063000
DTEND;TZID=UTC:20261103T193000
DTSTAMP:20260424T135452
CREATED:20251027T165009Z
LAST-MODIFIED:20251027T165009Z
UID:10002877-1793687400-1793734200@crossfitchaparral.com
SUMMARY:CrossFit Class
DESCRIPTION:
URL:https://crossfitchaparral.com/event/crossfit-class-2/2026-11-03/
CATEGORIES:CrossFit Class
END:VEVENT
BEGIN:VEVENT
DTSTART;TZID=UTC:20261103T163000
DTEND;TZID=UTC:20261103T173000
DTSTAMP:20260424T135452
CREATED:20251027T165935Z
LAST-MODIFIED:20251027T165935Z
UID:10007053-1793723400-1793727000@crossfitchaparral.com
SUMMARY:CrossFit Class
DESCRIPTION:
URL:https://crossfitchaparral.com/event/crossfit-class-5/2026-11-03/
CATEGORIES:CrossFit Class
END:VEVENT
BEGIN:VEVENT
DTSTART;TZID=UTC:20261103T173000
DTEND;TZID=UTC:20261103T183000
DTSTAMP:20260424T135452
CREATED:20251027T170752Z
LAST-MODIFIED:20251027T170752Z
UID:10008358-1793727000-1793730600@crossfitchaparral.com
SUMMARY:CrossFit Class
DESCRIPTION:
URL:https://crossfitchaparral.com/event/crossfit-class-6/2026-11-03/
CATEGORIES:CrossFit Class
END:VEVENT
BEGIN:VEVENT
DTSTART;TZID=UTC:20261103T183000
DTEND;TZID=UTC:20261103T193000
DTSTAMP:20260424T135452
CREATED:20251027T170840Z
LAST-MODIFIED:20251027T170858Z
UID:10009610-1793730600-1793734200@crossfitchaparral.com
SUMMARY:CrossFit Class
DESCRIPTION:
URL:https://crossfitchaparral.com/event/crossfit-class-7/2026-11-03/
CATEGORIES:CrossFit Class
END:VEVENT
BEGIN:VEVENT
DTSTART;TZID=UTC:20261104T053000
DTEND;TZID=UTC:20261104T063000
DTSTAMP:20260424T135452
CREATED:20251027T164919Z
LAST-MODIFIED:20251027T164919Z
UID:10001573-1793770200-1793773800@crossfitchaparral.com
SUMMARY:CrossFit Class
DESCRIPTION:
URL:https://crossfitchaparral.com/event/crossfit-class/2026-11-04/
CATEGORIES:CrossFit Class
END:VEVENT
BEGIN:VEVENT
DTSTART;TZID=UTC:20261104T063000
DTEND;TZID=UTC:20261104T193000
DTSTAMP:20260424T135452
CREATED:20251027T165009Z
LAST-MODIFIED:20251027T165009Z
UID:10002878-1793773800-1793820600@crossfitchaparral.com
SUMMARY:CrossFit Class
DESCRIPTION:
URL:https://crossfitchaparral.com/event/crossfit-class-2/2026-11-04/
CATEGORIES:CrossFit Class
END:VEVENT
BEGIN:VEVENT
DTSTART;TZID=UTC:20261104T163000
DTEND;TZID=UTC:20261104T173000
DTSTAMP:20260424T135452
CREATED:20251027T165935Z
LAST-MODIFIED:20251027T165935Z
UID:10007054-1793809800-1793813400@crossfitchaparral.com
SUMMARY:CrossFit Class
DESCRIPTION:
URL:https://crossfitchaparral.com/event/crossfit-class-5/2026-11-04/
CATEGORIES:CrossFit Class
END:VEVENT
BEGIN:VEVENT
DTSTART;TZID=UTC:20261104T173000
DTEND;TZID=UTC:20261104T183000
DTSTAMP:20260424T135452
CREATED:20251027T170752Z
LAST-MODIFIED:20251027T170752Z
UID:10008359-1793813400-1793817000@crossfitchaparral.com
SUMMARY:CrossFit Class
DESCRIPTION:
URL:https://crossfitchaparral.com/event/crossfit-class-6/2026-11-04/
CATEGORIES:CrossFit Class
END:VEVENT
END:VCALENDAR