BEGIN:VCALENDAR
VERSION:2.0
PRODID:-//CrossFit Chaparral - ECPv6.15.10//NONSGML v1.0//EN
CALSCALE:GREGORIAN
METHOD:PUBLISH
X-WR-CALNAME:CrossFit Chaparral
X-ORIGINAL-URL:https://crossfitchaparral.com
X-WR-CALDESC:Events for CrossFit Chaparral
REFRESH-INTERVAL;VALUE=DURATION:PT1H
X-Robots-Tag:noindex
X-PUBLISHED-TTL:PT1H
BEGIN:VTIMEZONE
TZID:UTC
BEGIN:STANDARD
TZOFFSETFROM:+0000
TZOFFSETTO:+0000
TZNAME:UTC
DTSTART:20260101T000000
END:STANDARD
END:VTIMEZONE
BEGIN:VEVENT
DTSTART;TZID=UTC:20270224T053000
DTEND;TZID=UTC:20270224T063000
DTSTAMP:20260424T234525
CREATED:20251027T164919Z
LAST-MODIFIED:20251027T164919Z
UID:10001653-1803447000-1803450600@crossfitchaparral.com
SUMMARY:CrossFit Class
DESCRIPTION:
URL:https://crossfitchaparral.com/event/crossfit-class/2027-02-24/
CATEGORIES:CrossFit Class
END:VEVENT
BEGIN:VEVENT
DTSTART;TZID=UTC:20270224T063000
DTEND;TZID=UTC:20270224T193000
DTSTAMP:20260424T234525
CREATED:20251027T165009Z
LAST-MODIFIED:20251027T165009Z
UID:10002958-1803450600-1803497400@crossfitchaparral.com
SUMMARY:CrossFit Class
DESCRIPTION:
URL:https://crossfitchaparral.com/event/crossfit-class-2/2027-02-24/
CATEGORIES:CrossFit Class
END:VEVENT
BEGIN:VEVENT
DTSTART;TZID=UTC:20270224T163000
DTEND;TZID=UTC:20270224T173000
DTSTAMP:20260424T234525
CREATED:20251027T165935Z
LAST-MODIFIED:20251027T165935Z
UID:10007134-1803486600-1803490200@crossfitchaparral.com
SUMMARY:CrossFit Class
DESCRIPTION:
URL:https://crossfitchaparral.com/event/crossfit-class-5/2027-02-24/
CATEGORIES:CrossFit Class
END:VEVENT
BEGIN:VEVENT
DTSTART;TZID=UTC:20270224T173000
DTEND;TZID=UTC:20270224T183000
DTSTAMP:20260424T234525
CREATED:20251027T170752Z
LAST-MODIFIED:20251027T170752Z
UID:10008439-1803490200-1803493800@crossfitchaparral.com
SUMMARY:CrossFit Class
DESCRIPTION:
URL:https://crossfitchaparral.com/event/crossfit-class-6/2027-02-24/
CATEGORIES:CrossFit Class
END:VEVENT
BEGIN:VEVENT
DTSTART;TZID=UTC:20270224T183000
DTEND;TZID=UTC:20270224T193000
DTSTAMP:20260424T234525
CREATED:20251027T170840Z
LAST-MODIFIED:20251027T170858Z
UID:10009675-1803493800-1803497400@crossfitchaparral.com
SUMMARY:CrossFit Class
DESCRIPTION:
URL:https://crossfitchaparral.com/event/crossfit-class-7/2027-02-24/
CATEGORIES:CrossFit Class
END:VEVENT
BEGIN:VEVENT
DTSTART;TZID=UTC:20270225T053000
DTEND;TZID=UTC:20270225T063000
DTSTAMP:20260424T234525
CREATED:20251027T164919Z
LAST-MODIFIED:20251027T164919Z
UID:10001654-1803533400-1803537000@crossfitchaparral.com
SUMMARY:CrossFit Class
DESCRIPTION:
URL:https://crossfitchaparral.com/event/crossfit-class/2027-02-25/
CATEGORIES:CrossFit Class
END:VEVENT
BEGIN:VEVENT
DTSTART;TZID=UTC:20270225T063000
DTEND;TZID=UTC:20270225T193000
DTSTAMP:20260424T234525
CREATED:20251027T165009Z
LAST-MODIFIED:20251027T165009Z
UID:10002959-1803537000-1803583800@crossfitchaparral.com
SUMMARY:CrossFit Class
DESCRIPTION:
URL:https://crossfitchaparral.com/event/crossfit-class-2/2027-02-25/
CATEGORIES:CrossFit Class
END:VEVENT
BEGIN:VEVENT
DTSTART;TZID=UTC:20270225T163000
DTEND;TZID=UTC:20270225T173000
DTSTAMP:20260424T234525
CREATED:20251027T165935Z
LAST-MODIFIED:20251027T165935Z
UID:10007135-1803573000-1803576600@crossfitchaparral.com
SUMMARY:CrossFit Class
DESCRIPTION:
URL:https://crossfitchaparral.com/event/crossfit-class-5/2027-02-25/
CATEGORIES:CrossFit Class
END:VEVENT
BEGIN:VEVENT
DTSTART;TZID=UTC:20270225T173000
DTEND;TZID=UTC:20270225T183000
DTSTAMP:20260424T234525
CREATED:20251027T170752Z
LAST-MODIFIED:20251027T170752Z
UID:10008440-1803576600-1803580200@crossfitchaparral.com
SUMMARY:CrossFit Class
DESCRIPTION:
URL:https://crossfitchaparral.com/event/crossfit-class-6/2027-02-25/
CATEGORIES:CrossFit Class
END:VEVENT
BEGIN:VEVENT
DTSTART;TZID=UTC:20270225T183000
DTEND;TZID=UTC:20270225T193000
DTSTAMP:20260424T234525
CREATED:20251027T170840Z
LAST-MODIFIED:20251027T170858Z
UID:10009676-1803580200-1803583800@crossfitchaparral.com
SUMMARY:CrossFit Class
DESCRIPTION:
URL:https://crossfitchaparral.com/event/crossfit-class-7/2027-02-25/
CATEGORIES:CrossFit Class
END:VEVENT
BEGIN:VEVENT
DTSTART;TZID=UTC:20270226T053000
DTEND;TZID=UTC:20270226T063000
DTSTAMP:20260424T234525
CREATED:20251027T164919Z
LAST-MODIFIED:20251027T164919Z
UID:10001655-1803619800-1803623400@crossfitchaparral.com
SUMMARY:CrossFit Class
DESCRIPTION:
URL:https://crossfitchaparral.com/event/crossfit-class/2027-02-26/
CATEGORIES:CrossFit Class
END:VEVENT
BEGIN:VEVENT
DTSTART;TZID=UTC:20270226T063000
DTEND;TZID=UTC:20270226T193000
DTSTAMP:20260424T234525
CREATED:20251027T165009Z
LAST-MODIFIED:20251027T165009Z
UID:10002960-1803623400-1803670200@crossfitchaparral.com
SUMMARY:CrossFit Class
DESCRIPTION:
URL:https://crossfitchaparral.com/event/crossfit-class-2/2027-02-26/
CATEGORIES:CrossFit Class
END:VEVENT
BEGIN:VEVENT
DTSTART;TZID=UTC:20270226T083000
DTEND;TZID=UTC:20270226T093000
DTSTAMP:20260424T234525
CREATED:20251027T165257Z
LAST-MODIFIED:20251027T165257Z
UID:10005290-1803630600-1803634200@crossfitchaparral.com
SUMMARY:CrossFit Class
DESCRIPTION:
URL:https://crossfitchaparral.com/event/crossfit-class-3/2027-02-26/
CATEGORIES:CrossFit Class
END:VEVENT
BEGIN:VEVENT
DTSTART;TZID=UTC:20270226T163000
DTEND;TZID=UTC:20270226T173000
DTSTAMP:20260424T234525
CREATED:20251027T165935Z
LAST-MODIFIED:20251027T165935Z
UID:10007136-1803659400-1803663000@crossfitchaparral.com
SUMMARY:CrossFit Class
DESCRIPTION:
URL:https://crossfitchaparral.com/event/crossfit-class-5/2027-02-26/
CATEGORIES:CrossFit Class
END:VEVENT
BEGIN:VEVENT
DTSTART;TZID=UTC:20270226T173000
DTEND;TZID=UTC:20270226T183000
DTSTAMP:20260424T234525
CREATED:20251027T170752Z
LAST-MODIFIED:20251027T170752Z
UID:10008441-1803663000-1803666600@crossfitchaparral.com
SUMMARY:CrossFit Class
DESCRIPTION:
URL:https://crossfitchaparral.com/event/crossfit-class-6/2027-02-26/
CATEGORIES:CrossFit Class
END:VEVENT
BEGIN:VEVENT
DTSTART;TZID=UTC:20270227T080000
DTEND;TZID=UTC:20270227T090000
DTSTAMP:20260424T234525
CREATED:20251027T165352Z
LAST-MODIFIED:20251027T165352Z
UID:10005551-1803715200-1803718800@crossfitchaparral.com
SUMMARY:CrossFit Class
DESCRIPTION:
URL:https://crossfitchaparral.com/event/crossfit-class-4/2027-02-27/
CATEGORIES:CrossFit Class
END:VEVENT
BEGIN:VEVENT
DTSTART;TZID=UTC:20270301T053000
DTEND;TZID=UTC:20270301T063000
DTSTAMP:20260424T234525
CREATED:20251027T164919Z
LAST-MODIFIED:20251027T164919Z
UID:10001656-1803879000-1803882600@crossfitchaparral.com
SUMMARY:CrossFit Class
DESCRIPTION:
URL:https://crossfitchaparral.com/event/crossfit-class/2027-03-01/
CATEGORIES:CrossFit Class
END:VEVENT
BEGIN:VEVENT
DTSTART;TZID=UTC:20270301T063000
DTEND;TZID=UTC:20270301T193000
DTSTAMP:20260424T234525
CREATED:20251027T165009Z
LAST-MODIFIED:20251027T165009Z
UID:10002961-1803882600-1803929400@crossfitchaparral.com
SUMMARY:CrossFit Class
DESCRIPTION:
URL:https://crossfitchaparral.com/event/crossfit-class-2/2027-03-01/
CATEGORIES:CrossFit Class
END:VEVENT
BEGIN:VEVENT
DTSTART;TZID=UTC:20270301T163000
DTEND;TZID=UTC:20270301T173000
DTSTAMP:20260424T234525
CREATED:20251027T165935Z
LAST-MODIFIED:20251027T165935Z
UID:10007137-1803918600-1803922200@crossfitchaparral.com
SUMMARY:CrossFit Class
DESCRIPTION:
URL:https://crossfitchaparral.com/event/crossfit-class-5/2027-03-01/
CATEGORIES:CrossFit Class
END:VEVENT
BEGIN:VEVENT
DTSTART;TZID=UTC:20270301T173000
DTEND;TZID=UTC:20270301T183000
DTSTAMP:20260424T234525
CREATED:20251027T170752Z
LAST-MODIFIED:20251027T170752Z
UID:10008442-1803922200-1803925800@crossfitchaparral.com
SUMMARY:CrossFit Class
DESCRIPTION:
URL:https://crossfitchaparral.com/event/crossfit-class-6/2027-03-01/
CATEGORIES:CrossFit Class
END:VEVENT
BEGIN:VEVENT
DTSTART;TZID=UTC:20270301T183000
DTEND;TZID=UTC:20270301T193000
DTSTAMP:20260424T234525
CREATED:20251027T170840Z
LAST-MODIFIED:20251027T170858Z
UID:10009677-1803925800-1803929400@crossfitchaparral.com
SUMMARY:CrossFit Class
DESCRIPTION:
URL:https://crossfitchaparral.com/event/crossfit-class-7/2027-03-01/
CATEGORIES:CrossFit Class
END:VEVENT
BEGIN:VEVENT
DTSTART;TZID=UTC:20270302T053000
DTEND;TZID=UTC:20270302T063000
DTSTAMP:20260424T234525
CREATED:20251027T164919Z
LAST-MODIFIED:20251027T164919Z
UID:10001657-1803965400-1803969000@crossfitchaparral.com
SUMMARY:CrossFit Class
DESCRIPTION:
URL:https://crossfitchaparral.com/event/crossfit-class/2027-03-02/
CATEGORIES:CrossFit Class
END:VEVENT
BEGIN:VEVENT
DTSTART;TZID=UTC:20270302T063000
DTEND;TZID=UTC:20270302T193000
DTSTAMP:20260424T234525
CREATED:20251027T165009Z
LAST-MODIFIED:20251027T165009Z
UID:10002962-1803969000-1804015800@crossfitchaparral.com
SUMMARY:CrossFit Class
DESCRIPTION:
URL:https://crossfitchaparral.com/event/crossfit-class-2/2027-03-02/
CATEGORIES:CrossFit Class
END:VEVENT
BEGIN:VEVENT
DTSTART;TZID=UTC:20270302T163000
DTEND;TZID=UTC:20270302T173000
DTSTAMP:20260424T234525
CREATED:20251027T165935Z
LAST-MODIFIED:20251027T165935Z
UID:10007138-1804005000-1804008600@crossfitchaparral.com
SUMMARY:CrossFit Class
DESCRIPTION:
URL:https://crossfitchaparral.com/event/crossfit-class-5/2027-03-02/
CATEGORIES:CrossFit Class
END:VEVENT
BEGIN:VEVENT
DTSTART;TZID=UTC:20270302T173000
DTEND;TZID=UTC:20270302T183000
DTSTAMP:20260424T234525
CREATED:20251027T170752Z
LAST-MODIFIED:20251027T170752Z
UID:10008443-1804008600-1804012200@crossfitchaparral.com
SUMMARY:CrossFit Class
DESCRIPTION:
URL:https://crossfitchaparral.com/event/crossfit-class-6/2027-03-02/
CATEGORIES:CrossFit Class
END:VEVENT
BEGIN:VEVENT
DTSTART;TZID=UTC:20270302T183000
DTEND;TZID=UTC:20270302T193000
DTSTAMP:20260424T234525
CREATED:20251027T170840Z
LAST-MODIFIED:20251027T170858Z
UID:10009678-1804012200-1804015800@crossfitchaparral.com
SUMMARY:CrossFit Class
DESCRIPTION:
URL:https://crossfitchaparral.com/event/crossfit-class-7/2027-03-02/
CATEGORIES:CrossFit Class
END:VEVENT
BEGIN:VEVENT
DTSTART;TZID=UTC:20270303T053000
DTEND;TZID=UTC:20270303T063000
DTSTAMP:20260424T234525
CREATED:20251027T164919Z
LAST-MODIFIED:20251027T164919Z
UID:10001658-1804051800-1804055400@crossfitchaparral.com
SUMMARY:CrossFit Class
DESCRIPTION:
URL:https://crossfitchaparral.com/event/crossfit-class/2027-03-03/
CATEGORIES:CrossFit Class
END:VEVENT
BEGIN:VEVENT
DTSTART;TZID=UTC:20270303T063000
DTEND;TZID=UTC:20270303T193000
DTSTAMP:20260424T234525
CREATED:20251027T165009Z
LAST-MODIFIED:20251027T165009Z
UID:10002963-1804055400-1804102200@crossfitchaparral.com
SUMMARY:CrossFit Class
DESCRIPTION:
URL:https://crossfitchaparral.com/event/crossfit-class-2/2027-03-03/
CATEGORIES:CrossFit Class
END:VEVENT
BEGIN:VEVENT
DTSTART;TZID=UTC:20270303T163000
DTEND;TZID=UTC:20270303T173000
DTSTAMP:20260424T234525
CREATED:20251027T165935Z
LAST-MODIFIED:20251027T165935Z
UID:10007139-1804091400-1804095000@crossfitchaparral.com
SUMMARY:CrossFit Class
DESCRIPTION:
URL:https://crossfitchaparral.com/event/crossfit-class-5/2027-03-03/
CATEGORIES:CrossFit Class
END:VEVENT
BEGIN:VEVENT
DTSTART;TZID=UTC:20270303T173000
DTEND;TZID=UTC:20270303T183000
DTSTAMP:20260424T234525
CREATED:20251027T170752Z
LAST-MODIFIED:20251027T170752Z
UID:10008444-1804095000-1804098600@crossfitchaparral.com
SUMMARY:CrossFit Class
DESCRIPTION:
URL:https://crossfitchaparral.com/event/crossfit-class-6/2027-03-03/
CATEGORIES:CrossFit Class
END:VEVENT
END:VCALENDAR