BEGIN:VCALENDAR
VERSION:2.0
PRODID:-//CrossFit Chaparral - ECPv6.15.10//NONSGML v1.0//EN
CALSCALE:GREGORIAN
METHOD:PUBLISH
X-ORIGINAL-URL:https://crossfitchaparral.com
X-WR-CALDESC:Events for CrossFit Chaparral
REFRESH-INTERVAL;VALUE=DURATION:PT1H
X-Robots-Tag:noindex
X-PUBLISHED-TTL:PT1H
BEGIN:VTIMEZONE
TZID:UTC
BEGIN:STANDARD
TZOFFSETFROM:+0000
TZOFFSETTO:+0000
TZNAME:UTC
DTSTART:20260101T000000
END:STANDARD
END:VTIMEZONE
BEGIN:VEVENT
DTSTART;TZID=UTC:20270409T053000
DTEND;TZID=UTC:20270409T063000
DTSTAMP:20260424T211616
CREATED:20251027T164919Z
LAST-MODIFIED:20251027T164919Z
UID:10001685-1807248600-1807252200@crossfitchaparral.com
SUMMARY:CrossFit Class
DESCRIPTION:
URL:https://crossfitchaparral.com/event/crossfit-class/2027-04-09/
CATEGORIES:CrossFit Class
END:VEVENT
BEGIN:VEVENT
DTSTART;TZID=UTC:20270409T063000
DTEND;TZID=UTC:20270409T193000
DTSTAMP:20260424T211616
CREATED:20251027T165009Z
LAST-MODIFIED:20251027T165009Z
UID:10002990-1807252200-1807299000@crossfitchaparral.com
SUMMARY:CrossFit Class
DESCRIPTION:
URL:https://crossfitchaparral.com/event/crossfit-class-2/2027-04-09/
CATEGORIES:CrossFit Class
END:VEVENT
BEGIN:VEVENT
DTSTART;TZID=UTC:20270409T083000
DTEND;TZID=UTC:20270409T093000
DTSTAMP:20260424T211616
CREATED:20251027T165257Z
LAST-MODIFIED:20251027T165257Z
UID:10005296-1807259400-1807263000@crossfitchaparral.com
SUMMARY:CrossFit Class
DESCRIPTION:
URL:https://crossfitchaparral.com/event/crossfit-class-3/2027-04-09/
CATEGORIES:CrossFit Class
END:VEVENT
BEGIN:VEVENT
DTSTART;TZID=UTC:20270409T163000
DTEND;TZID=UTC:20270409T173000
DTSTAMP:20260424T211616
CREATED:20251027T165935Z
LAST-MODIFIED:20251027T165935Z
UID:10007166-1807288200-1807291800@crossfitchaparral.com
SUMMARY:CrossFit Class
DESCRIPTION:
URL:https://crossfitchaparral.com/event/crossfit-class-5/2027-04-09/
CATEGORIES:CrossFit Class
END:VEVENT
BEGIN:VEVENT
DTSTART;TZID=UTC:20270409T173000
DTEND;TZID=UTC:20270409T183000
DTSTAMP:20260424T211616
CREATED:20251027T170752Z
LAST-MODIFIED:20251027T170752Z
UID:10008471-1807291800-1807295400@crossfitchaparral.com
SUMMARY:CrossFit Class
DESCRIPTION:
URL:https://crossfitchaparral.com/event/crossfit-class-6/2027-04-09/
CATEGORIES:CrossFit Class
END:VEVENT
BEGIN:VEVENT
DTSTART;TZID=UTC:20270410T080000
DTEND;TZID=UTC:20270410T090000
DTSTAMP:20260424T211616
CREATED:20251027T165352Z
LAST-MODIFIED:20251027T165352Z
UID:10005557-1807344000-1807347600@crossfitchaparral.com
SUMMARY:CrossFit Class
DESCRIPTION:
URL:https://crossfitchaparral.com/event/crossfit-class-4/2027-04-10/
CATEGORIES:CrossFit Class
END:VEVENT
BEGIN:VEVENT
DTSTART;TZID=UTC:20270412T053000
DTEND;TZID=UTC:20270412T063000
DTSTAMP:20260424T211616
CREATED:20251027T164919Z
LAST-MODIFIED:20251027T164919Z
UID:10001686-1807507800-1807511400@crossfitchaparral.com
SUMMARY:CrossFit Class
DESCRIPTION:
URL:https://crossfitchaparral.com/event/crossfit-class/2027-04-12/
CATEGORIES:CrossFit Class
END:VEVENT
BEGIN:VEVENT
DTSTART;TZID=UTC:20270412T063000
DTEND;TZID=UTC:20270412T193000
DTSTAMP:20260424T211616
CREATED:20251027T165009Z
LAST-MODIFIED:20251027T165009Z
UID:10002991-1807511400-1807558200@crossfitchaparral.com
SUMMARY:CrossFit Class
DESCRIPTION:
URL:https://crossfitchaparral.com/event/crossfit-class-2/2027-04-12/
CATEGORIES:CrossFit Class
END:VEVENT
BEGIN:VEVENT
DTSTART;TZID=UTC:20270412T163000
DTEND;TZID=UTC:20270412T173000
DTSTAMP:20260424T211616
CREATED:20251027T165935Z
LAST-MODIFIED:20251027T165935Z
UID:10007167-1807547400-1807551000@crossfitchaparral.com
SUMMARY:CrossFit Class
DESCRIPTION:
URL:https://crossfitchaparral.com/event/crossfit-class-5/2027-04-12/
CATEGORIES:CrossFit Class
END:VEVENT
BEGIN:VEVENT
DTSTART;TZID=UTC:20270412T173000
DTEND;TZID=UTC:20270412T183000
DTSTAMP:20260424T211616
CREATED:20251027T170752Z
LAST-MODIFIED:20251027T170752Z
UID:10008472-1807551000-1807554600@crossfitchaparral.com
SUMMARY:CrossFit Class
DESCRIPTION:
URL:https://crossfitchaparral.com/event/crossfit-class-6/2027-04-12/
CATEGORIES:CrossFit Class
END:VEVENT
BEGIN:VEVENT
DTSTART;TZID=UTC:20270412T183000
DTEND;TZID=UTC:20270412T193000
DTSTAMP:20260424T211616
CREATED:20251027T170840Z
LAST-MODIFIED:20251027T170858Z
UID:10009701-1807554600-1807558200@crossfitchaparral.com
SUMMARY:CrossFit Class
DESCRIPTION:
URL:https://crossfitchaparral.com/event/crossfit-class-7/2027-04-12/
CATEGORIES:CrossFit Class
END:VEVENT
BEGIN:VEVENT
DTSTART;TZID=UTC:20270413T053000
DTEND;TZID=UTC:20270413T063000
DTSTAMP:20260424T211616
CREATED:20251027T164919Z
LAST-MODIFIED:20251027T164919Z
UID:10001687-1807594200-1807597800@crossfitchaparral.com
SUMMARY:CrossFit Class
DESCRIPTION:
URL:https://crossfitchaparral.com/event/crossfit-class/2027-04-13/
CATEGORIES:CrossFit Class
END:VEVENT
BEGIN:VEVENT
DTSTART;TZID=UTC:20270413T063000
DTEND;TZID=UTC:20270413T193000
DTSTAMP:20260424T211616
CREATED:20251027T165009Z
LAST-MODIFIED:20251027T165009Z
UID:10002992-1807597800-1807644600@crossfitchaparral.com
SUMMARY:CrossFit Class
DESCRIPTION:
URL:https://crossfitchaparral.com/event/crossfit-class-2/2027-04-13/
CATEGORIES:CrossFit Class
END:VEVENT
BEGIN:VEVENT
DTSTART;TZID=UTC:20270413T163000
DTEND;TZID=UTC:20270413T173000
DTSTAMP:20260424T211616
CREATED:20251027T165935Z
LAST-MODIFIED:20251027T165935Z
UID:10007168-1807633800-1807637400@crossfitchaparral.com
SUMMARY:CrossFit Class
DESCRIPTION:
URL:https://crossfitchaparral.com/event/crossfit-class-5/2027-04-13/
CATEGORIES:CrossFit Class
END:VEVENT
BEGIN:VEVENT
DTSTART;TZID=UTC:20270413T173000
DTEND;TZID=UTC:20270413T183000
DTSTAMP:20260424T211616
CREATED:20251027T170752Z
LAST-MODIFIED:20251027T170752Z
UID:10008473-1807637400-1807641000@crossfitchaparral.com
SUMMARY:CrossFit Class
DESCRIPTION:
URL:https://crossfitchaparral.com/event/crossfit-class-6/2027-04-13/
CATEGORIES:CrossFit Class
END:VEVENT
BEGIN:VEVENT
DTSTART;TZID=UTC:20270413T183000
DTEND;TZID=UTC:20270413T193000
DTSTAMP:20260424T211616
CREATED:20251027T170840Z
LAST-MODIFIED:20251027T170858Z
UID:10009702-1807641000-1807644600@crossfitchaparral.com
SUMMARY:CrossFit Class
DESCRIPTION:
URL:https://crossfitchaparral.com/event/crossfit-class-7/2027-04-13/
CATEGORIES:CrossFit Class
END:VEVENT
BEGIN:VEVENT
DTSTART;TZID=UTC:20270414T053000
DTEND;TZID=UTC:20270414T063000
DTSTAMP:20260424T211616
CREATED:20251027T164919Z
LAST-MODIFIED:20251027T164919Z
UID:10001688-1807680600-1807684200@crossfitchaparral.com
SUMMARY:CrossFit Class
DESCRIPTION:
URL:https://crossfitchaparral.com/event/crossfit-class/2027-04-14/
CATEGORIES:CrossFit Class
END:VEVENT
BEGIN:VEVENT
DTSTART;TZID=UTC:20270414T063000
DTEND;TZID=UTC:20270414T193000
DTSTAMP:20260424T211616
CREATED:20251027T165009Z
LAST-MODIFIED:20251027T165009Z
UID:10002993-1807684200-1807731000@crossfitchaparral.com
SUMMARY:CrossFit Class
DESCRIPTION:
URL:https://crossfitchaparral.com/event/crossfit-class-2/2027-04-14/
CATEGORIES:CrossFit Class
END:VEVENT
BEGIN:VEVENT
DTSTART;TZID=UTC:20270414T163000
DTEND;TZID=UTC:20270414T173000
DTSTAMP:20260424T211616
CREATED:20251027T165935Z
LAST-MODIFIED:20251027T165935Z
UID:10007169-1807720200-1807723800@crossfitchaparral.com
SUMMARY:CrossFit Class
DESCRIPTION:
URL:https://crossfitchaparral.com/event/crossfit-class-5/2027-04-14/
CATEGORIES:CrossFit Class
END:VEVENT
BEGIN:VEVENT
DTSTART;TZID=UTC:20270414T173000
DTEND;TZID=UTC:20270414T183000
DTSTAMP:20260424T211616
CREATED:20251027T170752Z
LAST-MODIFIED:20251027T170752Z
UID:10008474-1807723800-1807727400@crossfitchaparral.com
SUMMARY:CrossFit Class
DESCRIPTION:
URL:https://crossfitchaparral.com/event/crossfit-class-6/2027-04-14/
CATEGORIES:CrossFit Class
END:VEVENT
BEGIN:VEVENT
DTSTART;TZID=UTC:20270414T183000
DTEND;TZID=UTC:20270414T193000
DTSTAMP:20260424T211616
CREATED:20251027T170840Z
LAST-MODIFIED:20251027T170858Z
UID:10009703-1807727400-1807731000@crossfitchaparral.com
SUMMARY:CrossFit Class
DESCRIPTION:
URL:https://crossfitchaparral.com/event/crossfit-class-7/2027-04-14/
CATEGORIES:CrossFit Class
END:VEVENT
BEGIN:VEVENT
DTSTART;TZID=UTC:20270415T053000
DTEND;TZID=UTC:20270415T063000
DTSTAMP:20260424T211616
CREATED:20251027T164919Z
LAST-MODIFIED:20251027T164919Z
UID:10001689-1807767000-1807770600@crossfitchaparral.com
SUMMARY:CrossFit Class
DESCRIPTION:
URL:https://crossfitchaparral.com/event/crossfit-class/2027-04-15/
CATEGORIES:CrossFit Class
END:VEVENT
BEGIN:VEVENT
DTSTART;TZID=UTC:20270415T063000
DTEND;TZID=UTC:20270415T193000
DTSTAMP:20260424T211616
CREATED:20251027T165009Z
LAST-MODIFIED:20251027T165009Z
UID:10002994-1807770600-1807817400@crossfitchaparral.com
SUMMARY:CrossFit Class
DESCRIPTION:
URL:https://crossfitchaparral.com/event/crossfit-class-2/2027-04-15/
CATEGORIES:CrossFit Class
END:VEVENT
BEGIN:VEVENT
DTSTART;TZID=UTC:20270415T163000
DTEND;TZID=UTC:20270415T173000
DTSTAMP:20260424T211616
CREATED:20251027T165935Z
LAST-MODIFIED:20251027T165935Z
UID:10007170-1807806600-1807810200@crossfitchaparral.com
SUMMARY:CrossFit Class
DESCRIPTION:
URL:https://crossfitchaparral.com/event/crossfit-class-5/2027-04-15/
CATEGORIES:CrossFit Class
END:VEVENT
BEGIN:VEVENT
DTSTART;TZID=UTC:20270415T173000
DTEND;TZID=UTC:20270415T183000
DTSTAMP:20260424T211616
CREATED:20251027T170752Z
LAST-MODIFIED:20251027T170752Z
UID:10008475-1807810200-1807813800@crossfitchaparral.com
SUMMARY:CrossFit Class
DESCRIPTION:
URL:https://crossfitchaparral.com/event/crossfit-class-6/2027-04-15/
CATEGORIES:CrossFit Class
END:VEVENT
BEGIN:VEVENT
DTSTART;TZID=UTC:20270415T183000
DTEND;TZID=UTC:20270415T193000
DTSTAMP:20260424T211616
CREATED:20251027T170840Z
LAST-MODIFIED:20251027T170858Z
UID:10009704-1807813800-1807817400@crossfitchaparral.com
SUMMARY:CrossFit Class
DESCRIPTION:
URL:https://crossfitchaparral.com/event/crossfit-class-7/2027-04-15/
CATEGORIES:CrossFit Class
END:VEVENT
BEGIN:VEVENT
DTSTART;TZID=UTC:20270416T053000
DTEND;TZID=UTC:20270416T063000
DTSTAMP:20260424T211616
CREATED:20251027T164919Z
LAST-MODIFIED:20251027T164919Z
UID:10001690-1807853400-1807857000@crossfitchaparral.com
SUMMARY:CrossFit Class
DESCRIPTION:
URL:https://crossfitchaparral.com/event/crossfit-class/2027-04-16/
CATEGORIES:CrossFit Class
END:VEVENT
BEGIN:VEVENT
DTSTART;TZID=UTC:20270416T063000
DTEND;TZID=UTC:20270416T193000
DTSTAMP:20260424T211616
CREATED:20251027T165009Z
LAST-MODIFIED:20251027T165009Z
UID:10002995-1807857000-1807903800@crossfitchaparral.com
SUMMARY:CrossFit Class
DESCRIPTION:
URL:https://crossfitchaparral.com/event/crossfit-class-2/2027-04-16/
CATEGORIES:CrossFit Class
END:VEVENT
BEGIN:VEVENT
DTSTART;TZID=UTC:20270416T083000
DTEND;TZID=UTC:20270416T093000
DTSTAMP:20260424T211616
CREATED:20251027T165257Z
LAST-MODIFIED:20251027T165257Z
UID:10005297-1807864200-1807867800@crossfitchaparral.com
SUMMARY:CrossFit Class
DESCRIPTION:
URL:https://crossfitchaparral.com/event/crossfit-class-3/2027-04-16/
CATEGORIES:CrossFit Class
END:VEVENT
BEGIN:VEVENT
DTSTART;TZID=UTC:20270416T163000
DTEND;TZID=UTC:20270416T173000
DTSTAMP:20260424T211616
CREATED:20251027T165935Z
LAST-MODIFIED:20251027T165935Z
UID:10007171-1807893000-1807896600@crossfitchaparral.com
SUMMARY:CrossFit Class
DESCRIPTION:
URL:https://crossfitchaparral.com/event/crossfit-class-5/2027-04-16/
CATEGORIES:CrossFit Class
END:VEVENT
END:VCALENDAR