BEGIN:VCALENDAR
VERSION:2.0
PRODID:-//CrossFit Chaparral - ECPv6.15.10//NONSGML v1.0//EN
CALSCALE:GREGORIAN
METHOD:PUBLISH
X-WR-CALNAME:CrossFit Chaparral
X-ORIGINAL-URL:https://crossfitchaparral.com
X-WR-CALDESC:Events for CrossFit Chaparral
REFRESH-INTERVAL;VALUE=DURATION:PT1H
X-Robots-Tag:noindex
X-PUBLISHED-TTL:PT1H
BEGIN:VTIMEZONE
TZID:UTC
BEGIN:STANDARD
TZOFFSETFROM:+0000
TZOFFSETTO:+0000
TZNAME:UTC
DTSTART:20250101T000000
END:STANDARD
END:VTIMEZONE
BEGIN:VEVENT
DTSTART;TZID=UTC:20261012T063000
DTEND;TZID=UTC:20261012T193000
DTSTAMP:20260422T070812
CREATED:20251027T165009Z
LAST-MODIFIED:20251027T165009Z
UID:10002861-1791786600-1791833400@crossfitchaparral.com
SUMMARY:CrossFit Class
DESCRIPTION:
URL:https://crossfitchaparral.com/event/crossfit-class-2/2026-10-12/
CATEGORIES:CrossFit Class
END:VEVENT
BEGIN:VEVENT
DTSTART;TZID=UTC:20261012T163000
DTEND;TZID=UTC:20261012T173000
DTSTAMP:20260422T070812
CREATED:20251027T165935Z
LAST-MODIFIED:20251027T165935Z
UID:10007037-1791822600-1791826200@crossfitchaparral.com
SUMMARY:CrossFit Class
DESCRIPTION:
URL:https://crossfitchaparral.com/event/crossfit-class-5/2026-10-12/
CATEGORIES:CrossFit Class
END:VEVENT
BEGIN:VEVENT
DTSTART;TZID=UTC:20261012T173000
DTEND;TZID=UTC:20261012T183000
DTSTAMP:20260422T070812
CREATED:20251027T170752Z
LAST-MODIFIED:20251027T170752Z
UID:10008342-1791826200-1791829800@crossfitchaparral.com
SUMMARY:CrossFit Class
DESCRIPTION:
URL:https://crossfitchaparral.com/event/crossfit-class-6/2026-10-12/
CATEGORIES:CrossFit Class
END:VEVENT
BEGIN:VEVENT
DTSTART;TZID=UTC:20261012T183000
DTEND;TZID=UTC:20261012T193000
DTSTAMP:20260422T070812
CREATED:20251027T170840Z
LAST-MODIFIED:20251027T170858Z
UID:10009597-1791829800-1791833400@crossfitchaparral.com
SUMMARY:CrossFit Class
DESCRIPTION:
URL:https://crossfitchaparral.com/event/crossfit-class-7/2026-10-12/
CATEGORIES:CrossFit Class
END:VEVENT
BEGIN:VEVENT
DTSTART;TZID=UTC:20261013T053000
DTEND;TZID=UTC:20261013T063000
DTSTAMP:20260422T070812
CREATED:20251027T164919Z
LAST-MODIFIED:20251027T164919Z
UID:10001557-1791869400-1791873000@crossfitchaparral.com
SUMMARY:CrossFit Class
DESCRIPTION:
URL:https://crossfitchaparral.com/event/crossfit-class/2026-10-13/
CATEGORIES:CrossFit Class
END:VEVENT
BEGIN:VEVENT
DTSTART;TZID=UTC:20261013T063000
DTEND;TZID=UTC:20261013T193000
DTSTAMP:20260422T070812
CREATED:20251027T165009Z
LAST-MODIFIED:20251027T165009Z
UID:10002862-1791873000-1791919800@crossfitchaparral.com
SUMMARY:CrossFit Class
DESCRIPTION:
URL:https://crossfitchaparral.com/event/crossfit-class-2/2026-10-13/
CATEGORIES:CrossFit Class
END:VEVENT
BEGIN:VEVENT
DTSTART;TZID=UTC:20261013T163000
DTEND;TZID=UTC:20261013T173000
DTSTAMP:20260422T070812
CREATED:20251027T165935Z
LAST-MODIFIED:20251027T165935Z
UID:10007038-1791909000-1791912600@crossfitchaparral.com
SUMMARY:CrossFit Class
DESCRIPTION:
URL:https://crossfitchaparral.com/event/crossfit-class-5/2026-10-13/
CATEGORIES:CrossFit Class
END:VEVENT
BEGIN:VEVENT
DTSTART;TZID=UTC:20261013T173000
DTEND;TZID=UTC:20261013T183000
DTSTAMP:20260422T070812
CREATED:20251027T170752Z
LAST-MODIFIED:20251027T170752Z
UID:10008343-1791912600-1791916200@crossfitchaparral.com
SUMMARY:CrossFit Class
DESCRIPTION:
URL:https://crossfitchaparral.com/event/crossfit-class-6/2026-10-13/
CATEGORIES:CrossFit Class
END:VEVENT
BEGIN:VEVENT
DTSTART;TZID=UTC:20261013T183000
DTEND;TZID=UTC:20261013T193000
DTSTAMP:20260422T070812
CREATED:20251027T170840Z
LAST-MODIFIED:20251027T170858Z
UID:10009598-1791916200-1791919800@crossfitchaparral.com
SUMMARY:CrossFit Class
DESCRIPTION:
URL:https://crossfitchaparral.com/event/crossfit-class-7/2026-10-13/
CATEGORIES:CrossFit Class
END:VEVENT
BEGIN:VEVENT
DTSTART;TZID=UTC:20261014T053000
DTEND;TZID=UTC:20261014T063000
DTSTAMP:20260422T070812
CREATED:20251027T164919Z
LAST-MODIFIED:20251027T164919Z
UID:10001558-1791955800-1791959400@crossfitchaparral.com
SUMMARY:CrossFit Class
DESCRIPTION:
URL:https://crossfitchaparral.com/event/crossfit-class/2026-10-14/
CATEGORIES:CrossFit Class
END:VEVENT
BEGIN:VEVENT
DTSTART;TZID=UTC:20261014T063000
DTEND;TZID=UTC:20261014T193000
DTSTAMP:20260422T070812
CREATED:20251027T165009Z
LAST-MODIFIED:20251027T165009Z
UID:10002863-1791959400-1792006200@crossfitchaparral.com
SUMMARY:CrossFit Class
DESCRIPTION:
URL:https://crossfitchaparral.com/event/crossfit-class-2/2026-10-14/
CATEGORIES:CrossFit Class
END:VEVENT
BEGIN:VEVENT
DTSTART;TZID=UTC:20261014T163000
DTEND;TZID=UTC:20261014T173000
DTSTAMP:20260422T070812
CREATED:20251027T165935Z
LAST-MODIFIED:20251027T165935Z
UID:10007039-1791995400-1791999000@crossfitchaparral.com
SUMMARY:CrossFit Class
DESCRIPTION:
URL:https://crossfitchaparral.com/event/crossfit-class-5/2026-10-14/
CATEGORIES:CrossFit Class
END:VEVENT
BEGIN:VEVENT
DTSTART;TZID=UTC:20261014T173000
DTEND;TZID=UTC:20261014T183000
DTSTAMP:20260422T070812
CREATED:20251027T170752Z
LAST-MODIFIED:20251027T170752Z
UID:10008344-1791999000-1792002600@crossfitchaparral.com
SUMMARY:CrossFit Class
DESCRIPTION:
URL:https://crossfitchaparral.com/event/crossfit-class-6/2026-10-14/
CATEGORIES:CrossFit Class
END:VEVENT
BEGIN:VEVENT
DTSTART;TZID=UTC:20261014T183000
DTEND;TZID=UTC:20261014T193000
DTSTAMP:20260422T070812
CREATED:20251027T170840Z
LAST-MODIFIED:20251027T170858Z
UID:10009599-1792002600-1792006200@crossfitchaparral.com
SUMMARY:CrossFit Class
DESCRIPTION:
URL:https://crossfitchaparral.com/event/crossfit-class-7/2026-10-14/
CATEGORIES:CrossFit Class
END:VEVENT
BEGIN:VEVENT
DTSTART;TZID=UTC:20261015T053000
DTEND;TZID=UTC:20261015T063000
DTSTAMP:20260422T070812
CREATED:20251027T164919Z
LAST-MODIFIED:20251027T164919Z
UID:10001559-1792042200-1792045800@crossfitchaparral.com
SUMMARY:CrossFit Class
DESCRIPTION:
URL:https://crossfitchaparral.com/event/crossfit-class/2026-10-15/
CATEGORIES:CrossFit Class
END:VEVENT
BEGIN:VEVENT
DTSTART;TZID=UTC:20261015T063000
DTEND;TZID=UTC:20261015T193000
DTSTAMP:20260422T070812
CREATED:20251027T165009Z
LAST-MODIFIED:20251027T165009Z
UID:10002864-1792045800-1792092600@crossfitchaparral.com
SUMMARY:CrossFit Class
DESCRIPTION:
URL:https://crossfitchaparral.com/event/crossfit-class-2/2026-10-15/
CATEGORIES:CrossFit Class
END:VEVENT
BEGIN:VEVENT
DTSTART;TZID=UTC:20261015T163000
DTEND;TZID=UTC:20261015T173000
DTSTAMP:20260422T070812
CREATED:20251027T165935Z
LAST-MODIFIED:20251027T165935Z
UID:10007040-1792081800-1792085400@crossfitchaparral.com
SUMMARY:CrossFit Class
DESCRIPTION:
URL:https://crossfitchaparral.com/event/crossfit-class-5/2026-10-15/
CATEGORIES:CrossFit Class
END:VEVENT
BEGIN:VEVENT
DTSTART;TZID=UTC:20261015T173000
DTEND;TZID=UTC:20261015T183000
DTSTAMP:20260422T070812
CREATED:20251027T170752Z
LAST-MODIFIED:20251027T170752Z
UID:10008345-1792085400-1792089000@crossfitchaparral.com
SUMMARY:CrossFit Class
DESCRIPTION:
URL:https://crossfitchaparral.com/event/crossfit-class-6/2026-10-15/
CATEGORIES:CrossFit Class
END:VEVENT
BEGIN:VEVENT
DTSTART;TZID=UTC:20261015T183000
DTEND;TZID=UTC:20261015T193000
DTSTAMP:20260422T070812
CREATED:20251027T170840Z
LAST-MODIFIED:20251027T170858Z
UID:10009600-1792089000-1792092600@crossfitchaparral.com
SUMMARY:CrossFit Class
DESCRIPTION:
URL:https://crossfitchaparral.com/event/crossfit-class-7/2026-10-15/
CATEGORIES:CrossFit Class
END:VEVENT
BEGIN:VEVENT
DTSTART;TZID=UTC:20261016T053000
DTEND;TZID=UTC:20261016T063000
DTSTAMP:20260422T070812
CREATED:20251027T164919Z
LAST-MODIFIED:20251027T164919Z
UID:10001560-1792128600-1792132200@crossfitchaparral.com
SUMMARY:CrossFit Class
DESCRIPTION:
URL:https://crossfitchaparral.com/event/crossfit-class/2026-10-16/
CATEGORIES:CrossFit Class
END:VEVENT
BEGIN:VEVENT
DTSTART;TZID=UTC:20261016T063000
DTEND;TZID=UTC:20261016T193000
DTSTAMP:20260422T070812
CREATED:20251027T165009Z
LAST-MODIFIED:20251027T165009Z
UID:10002865-1792132200-1792179000@crossfitchaparral.com
SUMMARY:CrossFit Class
DESCRIPTION:
URL:https://crossfitchaparral.com/event/crossfit-class-2/2026-10-16/
CATEGORIES:CrossFit Class
END:VEVENT
BEGIN:VEVENT
DTSTART;TZID=UTC:20261016T083000
DTEND;TZID=UTC:20261016T093000
DTSTAMP:20260422T070812
CREATED:20251027T165257Z
LAST-MODIFIED:20251027T165257Z
UID:10005271-1792139400-1792143000@crossfitchaparral.com
SUMMARY:CrossFit Class
DESCRIPTION:
URL:https://crossfitchaparral.com/event/crossfit-class-3/2026-10-16/
CATEGORIES:CrossFit Class
END:VEVENT
BEGIN:VEVENT
DTSTART;TZID=UTC:20261016T163000
DTEND;TZID=UTC:20261016T173000
DTSTAMP:20260422T070812
CREATED:20251027T165935Z
LAST-MODIFIED:20251027T165935Z
UID:10007041-1792168200-1792171800@crossfitchaparral.com
SUMMARY:CrossFit Class
DESCRIPTION:
URL:https://crossfitchaparral.com/event/crossfit-class-5/2026-10-16/
CATEGORIES:CrossFit Class
END:VEVENT
BEGIN:VEVENT
DTSTART;TZID=UTC:20261016T173000
DTEND;TZID=UTC:20261016T183000
DTSTAMP:20260422T070812
CREATED:20251027T170752Z
LAST-MODIFIED:20251027T170752Z
UID:10008346-1792171800-1792175400@crossfitchaparral.com
SUMMARY:CrossFit Class
DESCRIPTION:
URL:https://crossfitchaparral.com/event/crossfit-class-6/2026-10-16/
CATEGORIES:CrossFit Class
END:VEVENT
BEGIN:VEVENT
DTSTART;TZID=UTC:20261017T080000
DTEND;TZID=UTC:20261017T090000
DTSTAMP:20260422T070812
CREATED:20251027T165352Z
LAST-MODIFIED:20251027T165352Z
UID:10005532-1792224000-1792227600@crossfitchaparral.com
SUMMARY:CrossFit Class
DESCRIPTION:
URL:https://crossfitchaparral.com/event/crossfit-class-4/2026-10-17/
CATEGORIES:CrossFit Class
END:VEVENT
BEGIN:VEVENT
DTSTART;TZID=UTC:20261019T053000
DTEND;TZID=UTC:20261019T063000
DTSTAMP:20260422T070812
CREATED:20251027T164919Z
LAST-MODIFIED:20251027T164919Z
UID:10001561-1792387800-1792391400@crossfitchaparral.com
SUMMARY:CrossFit Class
DESCRIPTION:
URL:https://crossfitchaparral.com/event/crossfit-class/2026-10-19/
CATEGORIES:CrossFit Class
END:VEVENT
BEGIN:VEVENT
DTSTART;TZID=UTC:20261019T063000
DTEND;TZID=UTC:20261019T193000
DTSTAMP:20260422T070812
CREATED:20251027T165009Z
LAST-MODIFIED:20251027T165009Z
UID:10002866-1792391400-1792438200@crossfitchaparral.com
SUMMARY:CrossFit Class
DESCRIPTION:
URL:https://crossfitchaparral.com/event/crossfit-class-2/2026-10-19/
CATEGORIES:CrossFit Class
END:VEVENT
BEGIN:VEVENT
DTSTART;TZID=UTC:20261019T163000
DTEND;TZID=UTC:20261019T173000
DTSTAMP:20260422T070812
CREATED:20251027T165935Z
LAST-MODIFIED:20251027T165935Z
UID:10007042-1792427400-1792431000@crossfitchaparral.com
SUMMARY:CrossFit Class
DESCRIPTION:
URL:https://crossfitchaparral.com/event/crossfit-class-5/2026-10-19/
CATEGORIES:CrossFit Class
END:VEVENT
BEGIN:VEVENT
DTSTART;TZID=UTC:20261019T173000
DTEND;TZID=UTC:20261019T183000
DTSTAMP:20260422T070812
CREATED:20251027T170752Z
LAST-MODIFIED:20251027T170752Z
UID:10008347-1792431000-1792434600@crossfitchaparral.com
SUMMARY:CrossFit Class
DESCRIPTION:
URL:https://crossfitchaparral.com/event/crossfit-class-6/2026-10-19/
CATEGORIES:CrossFit Class
END:VEVENT
BEGIN:VEVENT
DTSTART;TZID=UTC:20261019T183000
DTEND;TZID=UTC:20261019T193000
DTSTAMP:20260422T070812
CREATED:20251027T170840Z
LAST-MODIFIED:20251027T170858Z
UID:10009601-1792434600-1792438200@crossfitchaparral.com
SUMMARY:CrossFit Class
DESCRIPTION:
URL:https://crossfitchaparral.com/event/crossfit-class-7/2026-10-19/
CATEGORIES:CrossFit Class
END:VEVENT
END:VCALENDAR