BEGIN:VCALENDAR
VERSION:2.0
PRODID:-//CrossFit Chaparral - ECPv6.15.10//NONSGML v1.0//EN
CALSCALE:GREGORIAN
METHOD:PUBLISH
X-WR-CALNAME:CrossFit Chaparral
X-ORIGINAL-URL:https://crossfitchaparral.com
X-WR-CALDESC:Events for CrossFit Chaparral
REFRESH-INTERVAL;VALUE=DURATION:PT1H
X-Robots-Tag:noindex
X-PUBLISHED-TTL:PT1H
BEGIN:VTIMEZONE
TZID:UTC
BEGIN:STANDARD
TZOFFSETFROM:+0000
TZOFFSETTO:+0000
TZNAME:UTC
DTSTART:20260101T000000
END:STANDARD
END:VTIMEZONE
BEGIN:VEVENT
DTSTART;TZID=UTC:20270401T063000
DTEND;TZID=UTC:20270401T193000
DTSTAMP:20260424T223227
CREATED:20251027T165009Z
LAST-MODIFIED:20251027T165009Z
UID:10002984-1806561000-1806607800@crossfitchaparral.com
SUMMARY:CrossFit Class
DESCRIPTION:
URL:https://crossfitchaparral.com/event/crossfit-class-2/2027-04-01/
CATEGORIES:CrossFit Class
END:VEVENT
BEGIN:VEVENT
DTSTART;TZID=UTC:20270401T163000
DTEND;TZID=UTC:20270401T173000
DTSTAMP:20260424T223227
CREATED:20251027T165935Z
LAST-MODIFIED:20251027T165935Z
UID:10007160-1806597000-1806600600@crossfitchaparral.com
SUMMARY:CrossFit Class
DESCRIPTION:
URL:https://crossfitchaparral.com/event/crossfit-class-5/2027-04-01/
CATEGORIES:CrossFit Class
END:VEVENT
BEGIN:VEVENT
DTSTART;TZID=UTC:20270401T173000
DTEND;TZID=UTC:20270401T183000
DTSTAMP:20260424T223227
CREATED:20251027T170752Z
LAST-MODIFIED:20251027T170752Z
UID:10008465-1806600600-1806604200@crossfitchaparral.com
SUMMARY:CrossFit Class
DESCRIPTION:
URL:https://crossfitchaparral.com/event/crossfit-class-6/2027-04-01/
CATEGORIES:CrossFit Class
END:VEVENT
BEGIN:VEVENT
DTSTART;TZID=UTC:20270401T183000
DTEND;TZID=UTC:20270401T193000
DTSTAMP:20260424T223227
CREATED:20251027T170840Z
LAST-MODIFIED:20251027T170858Z
UID:10009696-1806604200-1806607800@crossfitchaparral.com
SUMMARY:CrossFit Class
DESCRIPTION:
URL:https://crossfitchaparral.com/event/crossfit-class-7/2027-04-01/
CATEGORIES:CrossFit Class
END:VEVENT
BEGIN:VEVENT
DTSTART;TZID=UTC:20270402T053000
DTEND;TZID=UTC:20270402T063000
DTSTAMP:20260424T223227
CREATED:20251027T164919Z
LAST-MODIFIED:20251027T164919Z
UID:10001680-1806643800-1806647400@crossfitchaparral.com
SUMMARY:CrossFit Class
DESCRIPTION:
URL:https://crossfitchaparral.com/event/crossfit-class/2027-04-02/
CATEGORIES:CrossFit Class
END:VEVENT
BEGIN:VEVENT
DTSTART;TZID=UTC:20270402T063000
DTEND;TZID=UTC:20270402T193000
DTSTAMP:20260424T223227
CREATED:20251027T165009Z
LAST-MODIFIED:20251027T165009Z
UID:10002985-1806647400-1806694200@crossfitchaparral.com
SUMMARY:CrossFit Class
DESCRIPTION:
URL:https://crossfitchaparral.com/event/crossfit-class-2/2027-04-02/
CATEGORIES:CrossFit Class
END:VEVENT
BEGIN:VEVENT
DTSTART;TZID=UTC:20270402T083000
DTEND;TZID=UTC:20270402T093000
DTSTAMP:20260424T223227
CREATED:20251027T165257Z
LAST-MODIFIED:20251027T165257Z
UID:10005295-1806654600-1806658200@crossfitchaparral.com
SUMMARY:CrossFit Class
DESCRIPTION:
URL:https://crossfitchaparral.com/event/crossfit-class-3/2027-04-02/
CATEGORIES:CrossFit Class
END:VEVENT
BEGIN:VEVENT
DTSTART;TZID=UTC:20270402T163000
DTEND;TZID=UTC:20270402T173000
DTSTAMP:20260424T223227
CREATED:20251027T165935Z
LAST-MODIFIED:20251027T165935Z
UID:10007161-1806683400-1806687000@crossfitchaparral.com
SUMMARY:CrossFit Class
DESCRIPTION:
URL:https://crossfitchaparral.com/event/crossfit-class-5/2027-04-02/
CATEGORIES:CrossFit Class
END:VEVENT
BEGIN:VEVENT
DTSTART;TZID=UTC:20270402T173000
DTEND;TZID=UTC:20270402T183000
DTSTAMP:20260424T223227
CREATED:20251027T170752Z
LAST-MODIFIED:20251027T170752Z
UID:10008466-1806687000-1806690600@crossfitchaparral.com
SUMMARY:CrossFit Class
DESCRIPTION:
URL:https://crossfitchaparral.com/event/crossfit-class-6/2027-04-02/
CATEGORIES:CrossFit Class
END:VEVENT
BEGIN:VEVENT
DTSTART;TZID=UTC:20270403T080000
DTEND;TZID=UTC:20270403T090000
DTSTAMP:20260424T223227
CREATED:20251027T165352Z
LAST-MODIFIED:20251027T165352Z
UID:10005556-1806739200-1806742800@crossfitchaparral.com
SUMMARY:CrossFit Class
DESCRIPTION:
URL:https://crossfitchaparral.com/event/crossfit-class-4/2027-04-03/
CATEGORIES:CrossFit Class
END:VEVENT
BEGIN:VEVENT
DTSTART;TZID=UTC:20270405T053000
DTEND;TZID=UTC:20270405T063000
DTSTAMP:20260424T223227
CREATED:20251027T164919Z
LAST-MODIFIED:20251027T164919Z
UID:10001681-1806903000-1806906600@crossfitchaparral.com
SUMMARY:CrossFit Class
DESCRIPTION:
URL:https://crossfitchaparral.com/event/crossfit-class/2027-04-05/
CATEGORIES:CrossFit Class
END:VEVENT
BEGIN:VEVENT
DTSTART;TZID=UTC:20270405T063000
DTEND;TZID=UTC:20270405T193000
DTSTAMP:20260424T223227
CREATED:20251027T165009Z
LAST-MODIFIED:20251027T165009Z
UID:10002986-1806906600-1806953400@crossfitchaparral.com
SUMMARY:CrossFit Class
DESCRIPTION:
URL:https://crossfitchaparral.com/event/crossfit-class-2/2027-04-05/
CATEGORIES:CrossFit Class
END:VEVENT
BEGIN:VEVENT
DTSTART;TZID=UTC:20270405T163000
DTEND;TZID=UTC:20270405T173000
DTSTAMP:20260424T223227
CREATED:20251027T165935Z
LAST-MODIFIED:20251027T165935Z
UID:10007162-1806942600-1806946200@crossfitchaparral.com
SUMMARY:CrossFit Class
DESCRIPTION:
URL:https://crossfitchaparral.com/event/crossfit-class-5/2027-04-05/
CATEGORIES:CrossFit Class
END:VEVENT
BEGIN:VEVENT
DTSTART;TZID=UTC:20270405T173000
DTEND;TZID=UTC:20270405T183000
DTSTAMP:20260424T223227
CREATED:20251027T170752Z
LAST-MODIFIED:20251027T170752Z
UID:10008467-1806946200-1806949800@crossfitchaparral.com
SUMMARY:CrossFit Class
DESCRIPTION:
URL:https://crossfitchaparral.com/event/crossfit-class-6/2027-04-05/
CATEGORIES:CrossFit Class
END:VEVENT
BEGIN:VEVENT
DTSTART;TZID=UTC:20270405T183000
DTEND;TZID=UTC:20270405T193000
DTSTAMP:20260424T223227
CREATED:20251027T170840Z
LAST-MODIFIED:20251027T170858Z
UID:10009697-1806949800-1806953400@crossfitchaparral.com
SUMMARY:CrossFit Class
DESCRIPTION:
URL:https://crossfitchaparral.com/event/crossfit-class-7/2027-04-05/
CATEGORIES:CrossFit Class
END:VEVENT
BEGIN:VEVENT
DTSTART;TZID=UTC:20270406T053000
DTEND;TZID=UTC:20270406T063000
DTSTAMP:20260424T223227
CREATED:20251027T164919Z
LAST-MODIFIED:20251027T164919Z
UID:10001682-1806989400-1806993000@crossfitchaparral.com
SUMMARY:CrossFit Class
DESCRIPTION:
URL:https://crossfitchaparral.com/event/crossfit-class/2027-04-06/
CATEGORIES:CrossFit Class
END:VEVENT
BEGIN:VEVENT
DTSTART;TZID=UTC:20270406T063000
DTEND;TZID=UTC:20270406T193000
DTSTAMP:20260424T223227
CREATED:20251027T165009Z
LAST-MODIFIED:20251027T165009Z
UID:10002987-1806993000-1807039800@crossfitchaparral.com
SUMMARY:CrossFit Class
DESCRIPTION:
URL:https://crossfitchaparral.com/event/crossfit-class-2/2027-04-06/
CATEGORIES:CrossFit Class
END:VEVENT
BEGIN:VEVENT
DTSTART;TZID=UTC:20270406T163000
DTEND;TZID=UTC:20270406T173000
DTSTAMP:20260424T223227
CREATED:20251027T165935Z
LAST-MODIFIED:20251027T165935Z
UID:10007163-1807029000-1807032600@crossfitchaparral.com
SUMMARY:CrossFit Class
DESCRIPTION:
URL:https://crossfitchaparral.com/event/crossfit-class-5/2027-04-06/
CATEGORIES:CrossFit Class
END:VEVENT
BEGIN:VEVENT
DTSTART;TZID=UTC:20270406T173000
DTEND;TZID=UTC:20270406T183000
DTSTAMP:20260424T223227
CREATED:20251027T170752Z
LAST-MODIFIED:20251027T170752Z
UID:10008468-1807032600-1807036200@crossfitchaparral.com
SUMMARY:CrossFit Class
DESCRIPTION:
URL:https://crossfitchaparral.com/event/crossfit-class-6/2027-04-06/
CATEGORIES:CrossFit Class
END:VEVENT
BEGIN:VEVENT
DTSTART;TZID=UTC:20270406T183000
DTEND;TZID=UTC:20270406T193000
DTSTAMP:20260424T223227
CREATED:20251027T170840Z
LAST-MODIFIED:20251027T170858Z
UID:10009698-1807036200-1807039800@crossfitchaparral.com
SUMMARY:CrossFit Class
DESCRIPTION:
URL:https://crossfitchaparral.com/event/crossfit-class-7/2027-04-06/
CATEGORIES:CrossFit Class
END:VEVENT
BEGIN:VEVENT
DTSTART;TZID=UTC:20270407T053000
DTEND;TZID=UTC:20270407T063000
DTSTAMP:20260424T223227
CREATED:20251027T164919Z
LAST-MODIFIED:20251027T164919Z
UID:10001683-1807075800-1807079400@crossfitchaparral.com
SUMMARY:CrossFit Class
DESCRIPTION:
URL:https://crossfitchaparral.com/event/crossfit-class/2027-04-07/
CATEGORIES:CrossFit Class
END:VEVENT
BEGIN:VEVENT
DTSTART;TZID=UTC:20270407T063000
DTEND;TZID=UTC:20270407T193000
DTSTAMP:20260424T223227
CREATED:20251027T165009Z
LAST-MODIFIED:20251027T165009Z
UID:10002988-1807079400-1807126200@crossfitchaparral.com
SUMMARY:CrossFit Class
DESCRIPTION:
URL:https://crossfitchaparral.com/event/crossfit-class-2/2027-04-07/
CATEGORIES:CrossFit Class
END:VEVENT
BEGIN:VEVENT
DTSTART;TZID=UTC:20270407T163000
DTEND;TZID=UTC:20270407T173000
DTSTAMP:20260424T223227
CREATED:20251027T165935Z
LAST-MODIFIED:20251027T165935Z
UID:10007164-1807115400-1807119000@crossfitchaparral.com
SUMMARY:CrossFit Class
DESCRIPTION:
URL:https://crossfitchaparral.com/event/crossfit-class-5/2027-04-07/
CATEGORIES:CrossFit Class
END:VEVENT
BEGIN:VEVENT
DTSTART;TZID=UTC:20270407T173000
DTEND;TZID=UTC:20270407T183000
DTSTAMP:20260424T223227
CREATED:20251027T170752Z
LAST-MODIFIED:20251027T170752Z
UID:10008469-1807119000-1807122600@crossfitchaparral.com
SUMMARY:CrossFit Class
DESCRIPTION:
URL:https://crossfitchaparral.com/event/crossfit-class-6/2027-04-07/
CATEGORIES:CrossFit Class
END:VEVENT
BEGIN:VEVENT
DTSTART;TZID=UTC:20270407T183000
DTEND;TZID=UTC:20270407T193000
DTSTAMP:20260424T223227
CREATED:20251027T170840Z
LAST-MODIFIED:20251027T170858Z
UID:10009699-1807122600-1807126200@crossfitchaparral.com
SUMMARY:CrossFit Class
DESCRIPTION:
URL:https://crossfitchaparral.com/event/crossfit-class-7/2027-04-07/
CATEGORIES:CrossFit Class
END:VEVENT
BEGIN:VEVENT
DTSTART;TZID=UTC:20270408T053000
DTEND;TZID=UTC:20270408T063000
DTSTAMP:20260424T223227
CREATED:20251027T164919Z
LAST-MODIFIED:20251027T164919Z
UID:10001684-1807162200-1807165800@crossfitchaparral.com
SUMMARY:CrossFit Class
DESCRIPTION:
URL:https://crossfitchaparral.com/event/crossfit-class/2027-04-08/
CATEGORIES:CrossFit Class
END:VEVENT
BEGIN:VEVENT
DTSTART;TZID=UTC:20270408T063000
DTEND;TZID=UTC:20270408T193000
DTSTAMP:20260424T223227
CREATED:20251027T165009Z
LAST-MODIFIED:20251027T165009Z
UID:10002989-1807165800-1807212600@crossfitchaparral.com
SUMMARY:CrossFit Class
DESCRIPTION:
URL:https://crossfitchaparral.com/event/crossfit-class-2/2027-04-08/
CATEGORIES:CrossFit Class
END:VEVENT
BEGIN:VEVENT
DTSTART;TZID=UTC:20270408T163000
DTEND;TZID=UTC:20270408T173000
DTSTAMP:20260424T223227
CREATED:20251027T165935Z
LAST-MODIFIED:20251027T165935Z
UID:10007165-1807201800-1807205400@crossfitchaparral.com
SUMMARY:CrossFit Class
DESCRIPTION:
URL:https://crossfitchaparral.com/event/crossfit-class-5/2027-04-08/
CATEGORIES:CrossFit Class
END:VEVENT
BEGIN:VEVENT
DTSTART;TZID=UTC:20270408T173000
DTEND;TZID=UTC:20270408T183000
DTSTAMP:20260424T223227
CREATED:20251027T170752Z
LAST-MODIFIED:20251027T170752Z
UID:10008470-1807205400-1807209000@crossfitchaparral.com
SUMMARY:CrossFit Class
DESCRIPTION:
URL:https://crossfitchaparral.com/event/crossfit-class-6/2027-04-08/
CATEGORIES:CrossFit Class
END:VEVENT
BEGIN:VEVENT
DTSTART;TZID=UTC:20270408T183000
DTEND;TZID=UTC:20270408T193000
DTSTAMP:20260424T223227
CREATED:20251027T170840Z
LAST-MODIFIED:20251027T170858Z
UID:10009700-1807209000-1807212600@crossfitchaparral.com
SUMMARY:CrossFit Class
DESCRIPTION:
URL:https://crossfitchaparral.com/event/crossfit-class-7/2027-04-08/
CATEGORIES:CrossFit Class
END:VEVENT
END:VCALENDAR