BEGIN:VCALENDAR
VERSION:2.0
PRODID:-//CrossFit Chaparral - ECPv6.15.10//NONSGML v1.0//EN
CALSCALE:GREGORIAN
METHOD:PUBLISH
X-WR-CALNAME:CrossFit Chaparral
X-ORIGINAL-URL:https://crossfitchaparral.com
X-WR-CALDESC:Events for CrossFit Chaparral
REFRESH-INTERVAL;VALUE=DURATION:PT1H
X-Robots-Tag:noindex
X-PUBLISHED-TTL:PT1H
BEGIN:VTIMEZONE
TZID:UTC
BEGIN:STANDARD
TZOFFSETFROM:+0000
TZOFFSETTO:+0000
TZNAME:UTC
DTSTART:20240101T000000
END:STANDARD
END:VTIMEZONE
BEGIN:VEVENT
DTSTART;TZID=UTC:20251215T183000
DTEND;TZID=UTC:20251215T193000
DTSTAMP:20260423T120025
CREATED:20251027T170840Z
LAST-MODIFIED:20251027T170858Z
UID:10009425-1765823400-1765827000@crossfitchaparral.com
SUMMARY:CrossFit Class
DESCRIPTION:
URL:https://crossfitchaparral.com/event/crossfit-class-7/2025-12-15/
CATEGORIES:CrossFit Class
END:VEVENT
BEGIN:VEVENT
DTSTART;TZID=UTC:20251215T173000
DTEND;TZID=UTC:20251215T183000
DTSTAMP:20260423T120025
CREATED:20251027T170752Z
LAST-MODIFIED:20251027T170752Z
UID:10008127-1765819800-1765823400@crossfitchaparral.com
SUMMARY:CrossFit Class
DESCRIPTION:
URL:https://crossfitchaparral.com/event/crossfit-class-6/2025-12-15/
CATEGORIES:CrossFit Class
END:VEVENT
BEGIN:VEVENT
DTSTART;TZID=UTC:20251215T163000
DTEND;TZID=UTC:20251215T173000
DTSTAMP:20260423T120025
CREATED:20251027T165935Z
LAST-MODIFIED:20251027T165935Z
UID:10006822-1765816200-1765819800@crossfitchaparral.com
SUMMARY:CrossFit Class
DESCRIPTION:
URL:https://crossfitchaparral.com/event/crossfit-class-5/2025-12-15/
CATEGORIES:CrossFit Class
END:VEVENT
BEGIN:VEVENT
DTSTART;TZID=UTC:20251215T153000
DTEND;TZID=UTC:20251215T163000
DTSTAMP:20260423T120025
CREATED:20251027T165854Z
LAST-MODIFIED:20251027T165854Z
UID:10006533-1765812600-1765816200@crossfitchaparral.com
SUMMARY:CrossFit Kids
DESCRIPTION:
URL:https://crossfitchaparral.com/event/crossfit-kids/2025-12-15/
CATEGORIES:CrossFit Kids
END:VEVENT
BEGIN:VEVENT
DTSTART;TZID=UTC:20251215T083000
DTEND;TZID=UTC:20251215T091500
DTSTAMP:20260423T120025
CREATED:20251027T165103Z
LAST-MODIFIED:20251218T164423Z
UID:10011509-1765787400-1765790100@crossfitchaparral.com
SUMMARY:H.I.I.T
DESCRIPTION:
URL:https://crossfitchaparral.com/event/h-i-i-t/2025-12-15/
CATEGORIES:H.I.I.T
END:VEVENT
BEGIN:VEVENT
DTSTART;TZID=UTC:20251215T063000
DTEND;TZID=UTC:20251215T193000
DTSTAMP:20260423T120025
CREATED:20251027T165009Z
LAST-MODIFIED:20251027T165009Z
UID:10002646-1765780200-1765827000@crossfitchaparral.com
SUMMARY:CrossFit Class
DESCRIPTION:
URL:https://crossfitchaparral.com/event/crossfit-class-2/2025-12-15/
CATEGORIES:CrossFit Class
END:VEVENT
BEGIN:VEVENT
DTSTART;TZID=UTC:20251215T053000
DTEND;TZID=UTC:20251215T063000
DTSTAMP:20260423T120025
CREATED:20251027T164919Z
LAST-MODIFIED:20251027T164919Z
UID:10001341-1765776600-1765780200@crossfitchaparral.com
SUMMARY:CrossFit Class
DESCRIPTION:
URL:https://crossfitchaparral.com/event/crossfit-class/2025-12-15/
CATEGORIES:CrossFit Class
END:VEVENT
BEGIN:VEVENT
DTSTART;TZID=UTC:20251215T050000
DTEND;TZID=UTC:20251215T063000
DTSTAMP:20260423T120025
CREATED:20251027T163822Z
LAST-MODIFIED:20251027T164423Z
UID:10000036-1765774800-1765780200@crossfitchaparral.com
SUMMARY:AoG
DESCRIPTION:
URL:https://crossfitchaparral.com/event/aog/2025-12-15/
LOCATION:CrossFit Chaparral\, 6451 E Shea Blvd\, Scottsdale\, AZ\, 85254\, United States
CATEGORIES:AoG
END:VEVENT
BEGIN:VEVENT
DTSTART;TZID=UTC:20251214T140000
DTEND;TZID=UTC:20251214T153000
DTSTAMP:20260423T120025
CREATED:20251027T165811Z
LAST-MODIFIED:20251110T161105Z
UID:10010709-1765720800-1765726200@crossfitchaparral.com
SUMMARY:Open Gym
DESCRIPTION:
URL:https://crossfitchaparral.com/event/open-gym-3/2025-12-14/
CATEGORIES:Open Gym
END:VEVENT
BEGIN:VEVENT
DTSTART;TZID=UTC:20251214T130000
DTEND;TZID=UTC:20251214T143000
DTSTAMP:20260423T120025
CREATED:20251027T165734Z
LAST-MODIFIED:20251027T165734Z
UID:10006010-1765717200-1765722600@crossfitchaparral.com
SUMMARY:Fit for the Cross
DESCRIPTION:
URL:https://crossfitchaparral.com/event/fit-for-the-cross/2025-12-14/
CATEGORIES:Fit for the Cross
END:VEVENT
BEGIN:VEVENT
DTSTART;TZID=UTC:20251213T090000
DTEND;TZID=UTC:20251213T100000
DTSTAMP:20260423T120025
CREATED:20251027T165557Z
LAST-MODIFIED:20251027T165557Z
UID:10005749-1765616400-1765620000@crossfitchaparral.com
SUMMARY:Open Gym
DESCRIPTION:
URL:https://crossfitchaparral.com/event/open-gym-2/2025-12-13/
CATEGORIES:Open Gym
END:VEVENT
BEGIN:VEVENT
DTSTART;TZID=UTC:20251213T080000
DTEND;TZID=UTC:20251213T090000
DTSTAMP:20260423T120025
CREATED:20251027T165352Z
LAST-MODIFIED:20251027T165352Z
UID:10005488-1765612800-1765616400@crossfitchaparral.com
SUMMARY:CrossFit Class
DESCRIPTION:
URL:https://crossfitchaparral.com/event/crossfit-class-4/2025-12-13/
CATEGORIES:CrossFit Class
END:VEVENT
BEGIN:VEVENT
DTSTART;TZID=UTC:20251212T173000
DTEND;TZID=UTC:20251212T183000
DTSTAMP:20260423T120025
CREATED:20251027T170752Z
LAST-MODIFIED:20251027T170752Z
UID:10008126-1765560600-1765564200@crossfitchaparral.com
SUMMARY:CrossFit Class
DESCRIPTION:
URL:https://crossfitchaparral.com/event/crossfit-class-6/2025-12-12/
CATEGORIES:CrossFit Class
END:VEVENT
BEGIN:VEVENT
DTSTART;TZID=UTC:20251212T163000
DTEND;TZID=UTC:20251212T173000
DTSTAMP:20260423T120025
CREATED:20251027T165935Z
LAST-MODIFIED:20251027T165935Z
UID:10006821-1765557000-1765560600@crossfitchaparral.com
SUMMARY:CrossFit Class
DESCRIPTION:
URL:https://crossfitchaparral.com/event/crossfit-class-5/2025-12-12/
CATEGORIES:CrossFit Class
END:VEVENT
BEGIN:VEVENT
DTSTART;TZID=UTC:20251212T083000
DTEND;TZID=UTC:20251212T093000
DTSTAMP:20260423T120025
CREATED:20251027T165257Z
LAST-MODIFIED:20251027T165257Z
UID:10005227-1765528200-1765531800@crossfitchaparral.com
SUMMARY:CrossFit Class
DESCRIPTION:
URL:https://crossfitchaparral.com/event/crossfit-class-3/2025-12-12/
CATEGORIES:CrossFit Class
END:VEVENT
BEGIN:VEVENT
DTSTART;TZID=UTC:20251212T063000
DTEND;TZID=UTC:20251212T193000
DTSTAMP:20260423T120025
CREATED:20251027T165009Z
LAST-MODIFIED:20251027T165009Z
UID:10002645-1765521000-1765567800@crossfitchaparral.com
SUMMARY:CrossFit Class
DESCRIPTION:
URL:https://crossfitchaparral.com/event/crossfit-class-2/2025-12-12/
CATEGORIES:CrossFit Class
END:VEVENT
BEGIN:VEVENT
DTSTART;TZID=UTC:20251212T053000
DTEND;TZID=UTC:20251212T063000
DTSTAMP:20260423T120025
CREATED:20251027T164919Z
LAST-MODIFIED:20251027T164919Z
UID:10001340-1765517400-1765521000@crossfitchaparral.com
SUMMARY:CrossFit Class
DESCRIPTION:
URL:https://crossfitchaparral.com/event/crossfit-class/2025-12-12/
CATEGORIES:CrossFit Class
END:VEVENT
BEGIN:VEVENT
DTSTART;TZID=UTC:20251212T050000
DTEND;TZID=UTC:20251212T063000
DTSTAMP:20260423T120025
CREATED:20251027T163822Z
LAST-MODIFIED:20251027T164423Z
UID:10000035-1765515600-1765521000@crossfitchaparral.com
SUMMARY:AoG
DESCRIPTION:
URL:https://crossfitchaparral.com/event/aog/2025-12-12/
LOCATION:CrossFit Chaparral\, 6451 E Shea Blvd\, Scottsdale\, AZ\, 85254\, United States
CATEGORIES:AoG
END:VEVENT
BEGIN:VEVENT
DTSTART;TZID=UTC:20251211T183000
DTEND;TZID=UTC:20251211T193000
DTSTAMP:20260423T120025
CREATED:20251027T170840Z
LAST-MODIFIED:20251027T170858Z
UID:10009424-1765477800-1765481400@crossfitchaparral.com
SUMMARY:CrossFit Class
DESCRIPTION:
URL:https://crossfitchaparral.com/event/crossfit-class-7/2025-12-11/
CATEGORIES:CrossFit Class
END:VEVENT
BEGIN:VEVENT
DTSTART;TZID=UTC:20251211T173000
DTEND;TZID=UTC:20251211T183000
DTSTAMP:20260423T120025
CREATED:20251027T170752Z
LAST-MODIFIED:20251027T170752Z
UID:10008125-1765474200-1765477800@crossfitchaparral.com
SUMMARY:CrossFit Class
DESCRIPTION:
URL:https://crossfitchaparral.com/event/crossfit-class-6/2025-12-11/
CATEGORIES:CrossFit Class
END:VEVENT
BEGIN:VEVENT
DTSTART;TZID=UTC:20251211T163000
DTEND;TZID=UTC:20251211T173000
DTSTAMP:20260423T120025
CREATED:20251027T165935Z
LAST-MODIFIED:20251027T165935Z
UID:10006820-1765470600-1765474200@crossfitchaparral.com
SUMMARY:CrossFit Class
DESCRIPTION:
URL:https://crossfitchaparral.com/event/crossfit-class-5/2025-12-11/
CATEGORIES:CrossFit Class
END:VEVENT
BEGIN:VEVENT
DTSTART;TZID=UTC:20251211T083000
DTEND;TZID=UTC:20251211T093000
DTSTAMP:20260423T120025
CREATED:20251027T165150Z
LAST-MODIFIED:20251027T165500Z
UID:10004457-1765441800-1765445400@crossfitchaparral.com
SUMMARY:Open Gym
DESCRIPTION:
URL:https://crossfitchaparral.com/event/open-gym/2025-12-11/
CATEGORIES:Open Gym
END:VEVENT
BEGIN:VEVENT
DTSTART;TZID=UTC:20251211T063000
DTEND;TZID=UTC:20251211T193000
DTSTAMP:20260423T120025
CREATED:20251027T165009Z
LAST-MODIFIED:20251027T165009Z
UID:10002644-1765434600-1765481400@crossfitchaparral.com
SUMMARY:CrossFit Class
DESCRIPTION:
URL:https://crossfitchaparral.com/event/crossfit-class-2/2025-12-11/
CATEGORIES:CrossFit Class
END:VEVENT
BEGIN:VEVENT
DTSTART;TZID=UTC:20251211T053000
DTEND;TZID=UTC:20251211T063000
DTSTAMP:20260423T120025
CREATED:20251027T164919Z
LAST-MODIFIED:20251027T164919Z
UID:10001339-1765431000-1765434600@crossfitchaparral.com
SUMMARY:CrossFit Class
DESCRIPTION:
URL:https://crossfitchaparral.com/event/crossfit-class/2025-12-11/
CATEGORIES:CrossFit Class
END:VEVENT
BEGIN:VEVENT
DTSTART;TZID=UTC:20251211T050000
DTEND;TZID=UTC:20251211T063000
DTSTAMP:20260423T120025
CREATED:20251027T163822Z
LAST-MODIFIED:20251027T164423Z
UID:10000034-1765429200-1765434600@crossfitchaparral.com
SUMMARY:AoG
DESCRIPTION:
URL:https://crossfitchaparral.com/event/aog/2025-12-11/
LOCATION:CrossFit Chaparral\, 6451 E Shea Blvd\, Scottsdale\, AZ\, 85254\, United States
CATEGORIES:AoG
END:VEVENT
BEGIN:VEVENT
DTSTART;TZID=UTC:20251210T183000
DTEND;TZID=UTC:20251210T193000
DTSTAMP:20260423T120025
CREATED:20251027T170840Z
LAST-MODIFIED:20251027T170858Z
UID:10009423-1765391400-1765395000@crossfitchaparral.com
SUMMARY:CrossFit Class
DESCRIPTION:
URL:https://crossfitchaparral.com/event/crossfit-class-7/2025-12-10/
CATEGORIES:CrossFit Class
END:VEVENT
BEGIN:VEVENT
DTSTART;TZID=UTC:20251210T173000
DTEND;TZID=UTC:20251210T183000
DTSTAMP:20260423T120025
CREATED:20251027T170752Z
LAST-MODIFIED:20251027T170752Z
UID:10008124-1765387800-1765391400@crossfitchaparral.com
SUMMARY:CrossFit Class
DESCRIPTION:
URL:https://crossfitchaparral.com/event/crossfit-class-6/2025-12-10/
CATEGORIES:CrossFit Class
END:VEVENT
BEGIN:VEVENT
DTSTART;TZID=UTC:20251210T163000
DTEND;TZID=UTC:20251210T173000
DTSTAMP:20260423T120025
CREATED:20251027T165935Z
LAST-MODIFIED:20251027T165935Z
UID:10006819-1765384200-1765387800@crossfitchaparral.com
SUMMARY:CrossFit Class
DESCRIPTION:
URL:https://crossfitchaparral.com/event/crossfit-class-5/2025-12-10/
CATEGORIES:CrossFit Class
END:VEVENT
BEGIN:VEVENT
DTSTART;TZID=UTC:20251210T083000
DTEND;TZID=UTC:20251210T091500
DTSTAMP:20260423T120025
CREATED:20251027T165103Z
LAST-MODIFIED:20251218T164423Z
UID:10011508-1765355400-1765358100@crossfitchaparral.com
SUMMARY:H.I.I.T
DESCRIPTION:
URL:https://crossfitchaparral.com/event/h-i-i-t/2025-12-10/
CATEGORIES:H.I.I.T
END:VEVENT
BEGIN:VEVENT
DTSTART;TZID=UTC:20251210T063000
DTEND;TZID=UTC:20251210T193000
DTSTAMP:20260423T120025
CREATED:20251027T165009Z
LAST-MODIFIED:20251027T165009Z
UID:10002643-1765348200-1765395000@crossfitchaparral.com
SUMMARY:CrossFit Class
DESCRIPTION:
URL:https://crossfitchaparral.com/event/crossfit-class-2/2025-12-10/
CATEGORIES:CrossFit Class
END:VEVENT
END:VCALENDAR