BEGIN:VCALENDAR
VERSION:2.0
PRODID:-//CrossFit Chaparral - ECPv6.15.10//NONSGML v1.0//EN
CALSCALE:GREGORIAN
METHOD:PUBLISH
X-WR-CALNAME:CrossFit Chaparral
X-ORIGINAL-URL:https://crossfitchaparral.com
X-WR-CALDESC:Events for CrossFit Chaparral
REFRESH-INTERVAL;VALUE=DURATION:PT1H
X-Robots-Tag:noindex
X-PUBLISHED-TTL:PT1H
BEGIN:VTIMEZONE
TZID:UTC
BEGIN:STANDARD
TZOFFSETFROM:+0000
TZOFFSETTO:+0000
TZNAME:UTC
DTSTART:20240101T000000
END:STANDARD
END:VTIMEZONE
BEGIN:VEVENT
DTSTART;TZID=UTC:20251116T130000
DTEND;TZID=UTC:20251116T143000
DTSTAMP:20260423T211323
CREATED:20251027T165734Z
LAST-MODIFIED:20251027T165734Z
UID:10006006-1763298000-1763303400@crossfitchaparral.com
SUMMARY:Fit for the Cross
DESCRIPTION:
URL:https://crossfitchaparral.com/event/fit-for-the-cross/2025-11-16/
CATEGORIES:Fit for the Cross
END:VEVENT
BEGIN:VEVENT
DTSTART;TZID=UTC:20251116T140000
DTEND;TZID=UTC:20251116T153000
DTSTAMP:20260423T211323
CREATED:20251027T165811Z
LAST-MODIFIED:20251110T161105Z
UID:10010705-1763301600-1763307000@crossfitchaparral.com
SUMMARY:Open Gym
DESCRIPTION:
URL:https://crossfitchaparral.com/event/open-gym-3/2025-11-16/
CATEGORIES:Open Gym
END:VEVENT
BEGIN:VEVENT
DTSTART;TZID=UTC:20251117T050000
DTEND;TZID=UTC:20251117T063000
DTSTAMP:20260423T211323
CREATED:20251027T163822Z
LAST-MODIFIED:20251027T164423Z
UID:10000016-1763355600-1763361000@crossfitchaparral.com
SUMMARY:AoG
DESCRIPTION:
URL:https://crossfitchaparral.com/event/aog/2025-11-17/
LOCATION:CrossFit Chaparral\, 6451 E Shea Blvd\, Scottsdale\, AZ\, 85254\, United States
CATEGORIES:AoG
END:VEVENT
BEGIN:VEVENT
DTSTART;TZID=UTC:20251117T053000
DTEND;TZID=UTC:20251117T063000
DTSTAMP:20260423T211323
CREATED:20251027T164919Z
LAST-MODIFIED:20251027T164919Z
UID:10001321-1763357400-1763361000@crossfitchaparral.com
SUMMARY:CrossFit Class
DESCRIPTION:
URL:https://crossfitchaparral.com/event/crossfit-class/2025-11-17/
CATEGORIES:CrossFit Class
END:VEVENT
BEGIN:VEVENT
DTSTART;TZID=UTC:20251117T063000
DTEND;TZID=UTC:20251117T193000
DTSTAMP:20260423T211323
CREATED:20251027T165009Z
LAST-MODIFIED:20251027T165009Z
UID:10002626-1763361000-1763407800@crossfitchaparral.com
SUMMARY:CrossFit Class
DESCRIPTION:
URL:https://crossfitchaparral.com/event/crossfit-class-2/2025-11-17/
CATEGORIES:CrossFit Class
END:VEVENT
BEGIN:VEVENT
DTSTART;TZID=UTC:20251117T083000
DTEND;TZID=UTC:20251117T091500
DTSTAMP:20260423T211323
CREATED:20251027T165103Z
LAST-MODIFIED:20251218T164423Z
UID:10011501-1763368200-1763370900@crossfitchaparral.com
SUMMARY:H.I.I.T
DESCRIPTION:
URL:https://crossfitchaparral.com/event/h-i-i-t/2025-11-17/
CATEGORIES:H.I.I.T
END:VEVENT
BEGIN:VEVENT
DTSTART;TZID=UTC:20251117T153000
DTEND;TZID=UTC:20251117T163000
DTSTAMP:20260423T211323
CREATED:20251027T165854Z
LAST-MODIFIED:20251027T165854Z
UID:10006529-1763393400-1763397000@crossfitchaparral.com
SUMMARY:CrossFit Kids
DESCRIPTION:
URL:https://crossfitchaparral.com/event/crossfit-kids/2025-11-17/
CATEGORIES:CrossFit Kids
END:VEVENT
BEGIN:VEVENT
DTSTART;TZID=UTC:20251117T163000
DTEND;TZID=UTC:20251117T173000
DTSTAMP:20260423T211323
CREATED:20251027T165935Z
LAST-MODIFIED:20251027T165935Z
UID:10006802-1763397000-1763400600@crossfitchaparral.com
SUMMARY:CrossFit Class
DESCRIPTION:
URL:https://crossfitchaparral.com/event/crossfit-class-5/2025-11-17/
CATEGORIES:CrossFit Class
END:VEVENT
BEGIN:VEVENT
DTSTART;TZID=UTC:20251117T173000
DTEND;TZID=UTC:20251117T183000
DTSTAMP:20260423T211323
CREATED:20251027T170752Z
LAST-MODIFIED:20251027T170752Z
UID:10008107-1763400600-1763404200@crossfitchaparral.com
SUMMARY:CrossFit Class
DESCRIPTION:
URL:https://crossfitchaparral.com/event/crossfit-class-6/2025-11-17/
CATEGORIES:CrossFit Class
END:VEVENT
BEGIN:VEVENT
DTSTART;TZID=UTC:20251117T183000
DTEND;TZID=UTC:20251117T193000
DTSTAMP:20260423T211323
CREATED:20251027T170840Z
LAST-MODIFIED:20251027T170858Z
UID:10009409-1763404200-1763407800@crossfitchaparral.com
SUMMARY:CrossFit Class
DESCRIPTION:
URL:https://crossfitchaparral.com/event/crossfit-class-7/2025-11-17/
CATEGORIES:CrossFit Class
END:VEVENT
BEGIN:VEVENT
DTSTART;TZID=UTC:20251118T050000
DTEND;TZID=UTC:20251118T063000
DTSTAMP:20260423T211323
CREATED:20251027T163822Z
LAST-MODIFIED:20251027T164423Z
UID:10000017-1763442000-1763447400@crossfitchaparral.com
SUMMARY:AoG
DESCRIPTION:
URL:https://crossfitchaparral.com/event/aog/2025-11-18/
LOCATION:CrossFit Chaparral\, 6451 E Shea Blvd\, Scottsdale\, AZ\, 85254\, United States
CATEGORIES:AoG
END:VEVENT
BEGIN:VEVENT
DTSTART;TZID=UTC:20251118T053000
DTEND;TZID=UTC:20251118T063000
DTSTAMP:20260423T211323
CREATED:20251027T164919Z
LAST-MODIFIED:20251027T164919Z
UID:10001322-1763443800-1763447400@crossfitchaparral.com
SUMMARY:CrossFit Class
DESCRIPTION:
URL:https://crossfitchaparral.com/event/crossfit-class/2025-11-18/
CATEGORIES:CrossFit Class
END:VEVENT
BEGIN:VEVENT
DTSTART;TZID=UTC:20251118T063000
DTEND;TZID=UTC:20251118T193000
DTSTAMP:20260423T211323
CREATED:20251027T165009Z
LAST-MODIFIED:20251027T165009Z
UID:10002627-1763447400-1763494200@crossfitchaparral.com
SUMMARY:CrossFit Class
DESCRIPTION:
URL:https://crossfitchaparral.com/event/crossfit-class-2/2025-11-18/
CATEGORIES:CrossFit Class
END:VEVENT
BEGIN:VEVENT
DTSTART;TZID=UTC:20251118T083000
DTEND;TZID=UTC:20251118T093000
DTSTAMP:20260423T211323
CREATED:20251027T165150Z
LAST-MODIFIED:20251027T165500Z
UID:10004447-1763454600-1763458200@crossfitchaparral.com
SUMMARY:Open Gym
DESCRIPTION:
URL:https://crossfitchaparral.com/event/open-gym/2025-11-18/
CATEGORIES:Open Gym
END:VEVENT
BEGIN:VEVENT
DTSTART;TZID=UTC:20251118T163000
DTEND;TZID=UTC:20251118T173000
DTSTAMP:20260423T211323
CREATED:20251027T165935Z
LAST-MODIFIED:20251027T165935Z
UID:10006803-1763483400-1763487000@crossfitchaparral.com
SUMMARY:CrossFit Class
DESCRIPTION:
URL:https://crossfitchaparral.com/event/crossfit-class-5/2025-11-18/
CATEGORIES:CrossFit Class
END:VEVENT
BEGIN:VEVENT
DTSTART;TZID=UTC:20251118T173000
DTEND;TZID=UTC:20251118T183000
DTSTAMP:20260423T211323
CREATED:20251027T170752Z
LAST-MODIFIED:20251027T170752Z
UID:10008108-1763487000-1763490600@crossfitchaparral.com
SUMMARY:CrossFit Class
DESCRIPTION:
URL:https://crossfitchaparral.com/event/crossfit-class-6/2025-11-18/
CATEGORIES:CrossFit Class
END:VEVENT
BEGIN:VEVENT
DTSTART;TZID=UTC:20251118T183000
DTEND;TZID=UTC:20251118T193000
DTSTAMP:20260423T211323
CREATED:20251027T170840Z
LAST-MODIFIED:20251027T170858Z
UID:10009410-1763490600-1763494200@crossfitchaparral.com
SUMMARY:CrossFit Class
DESCRIPTION:
URL:https://crossfitchaparral.com/event/crossfit-class-7/2025-11-18/
CATEGORIES:CrossFit Class
END:VEVENT
BEGIN:VEVENT
DTSTART;TZID=UTC:20251119T050000
DTEND;TZID=UTC:20251119T063000
DTSTAMP:20260423T211323
CREATED:20251027T163822Z
LAST-MODIFIED:20251027T164423Z
UID:10000018-1763528400-1763533800@crossfitchaparral.com
SUMMARY:AoG
DESCRIPTION:
URL:https://crossfitchaparral.com/event/aog/2025-11-19/
LOCATION:CrossFit Chaparral\, 6451 E Shea Blvd\, Scottsdale\, AZ\, 85254\, United States
CATEGORIES:AoG
END:VEVENT
BEGIN:VEVENT
DTSTART;TZID=UTC:20251119T053000
DTEND;TZID=UTC:20251119T063000
DTSTAMP:20260423T211323
CREATED:20251027T164919Z
LAST-MODIFIED:20251027T164919Z
UID:10001323-1763530200-1763533800@crossfitchaparral.com
SUMMARY:CrossFit Class
DESCRIPTION:
URL:https://crossfitchaparral.com/event/crossfit-class/2025-11-19/
CATEGORIES:CrossFit Class
END:VEVENT
BEGIN:VEVENT
DTSTART;TZID=UTC:20251119T063000
DTEND;TZID=UTC:20251119T193000
DTSTAMP:20260423T211323
CREATED:20251027T165009Z
LAST-MODIFIED:20251027T165009Z
UID:10002628-1763533800-1763580600@crossfitchaparral.com
SUMMARY:CrossFit Class
DESCRIPTION:
URL:https://crossfitchaparral.com/event/crossfit-class-2/2025-11-19/
CATEGORIES:CrossFit Class
END:VEVENT
BEGIN:VEVENT
DTSTART;TZID=UTC:20251119T083000
DTEND;TZID=UTC:20251119T091500
DTSTAMP:20260423T211323
CREATED:20251027T165103Z
LAST-MODIFIED:20251218T164423Z
UID:10011502-1763541000-1763543700@crossfitchaparral.com
SUMMARY:H.I.I.T
DESCRIPTION:
URL:https://crossfitchaparral.com/event/h-i-i-t/2025-11-19/
CATEGORIES:H.I.I.T
END:VEVENT
BEGIN:VEVENT
DTSTART;TZID=UTC:20251119T163000
DTEND;TZID=UTC:20251119T173000
DTSTAMP:20260423T211323
CREATED:20251027T165935Z
LAST-MODIFIED:20251027T165935Z
UID:10006804-1763569800-1763573400@crossfitchaparral.com
SUMMARY:CrossFit Class
DESCRIPTION:
URL:https://crossfitchaparral.com/event/crossfit-class-5/2025-11-19/
CATEGORIES:CrossFit Class
END:VEVENT
BEGIN:VEVENT
DTSTART;TZID=UTC:20251119T173000
DTEND;TZID=UTC:20251119T183000
DTSTAMP:20260423T211323
CREATED:20251027T170752Z
LAST-MODIFIED:20251027T170752Z
UID:10008109-1763573400-1763577000@crossfitchaparral.com
SUMMARY:CrossFit Class
DESCRIPTION:
URL:https://crossfitchaparral.com/event/crossfit-class-6/2025-11-19/
CATEGORIES:CrossFit Class
END:VEVENT
BEGIN:VEVENT
DTSTART;TZID=UTC:20251119T183000
DTEND;TZID=UTC:20251119T193000
DTSTAMP:20260423T211323
CREATED:20251027T170840Z
LAST-MODIFIED:20251027T170858Z
UID:10009411-1763577000-1763580600@crossfitchaparral.com
SUMMARY:CrossFit Class
DESCRIPTION:
URL:https://crossfitchaparral.com/event/crossfit-class-7/2025-11-19/
CATEGORIES:CrossFit Class
END:VEVENT
BEGIN:VEVENT
DTSTART;TZID=UTC:20251120T050000
DTEND;TZID=UTC:20251120T063000
DTSTAMP:20260423T211323
CREATED:20251027T163822Z
LAST-MODIFIED:20251027T164423Z
UID:10000019-1763614800-1763620200@crossfitchaparral.com
SUMMARY:AoG
DESCRIPTION:
URL:https://crossfitchaparral.com/event/aog/2025-11-20/
LOCATION:CrossFit Chaparral\, 6451 E Shea Blvd\, Scottsdale\, AZ\, 85254\, United States
CATEGORIES:AoG
END:VEVENT
BEGIN:VEVENT
DTSTART;TZID=UTC:20251120T053000
DTEND;TZID=UTC:20251120T063000
DTSTAMP:20260423T211323
CREATED:20251027T164919Z
LAST-MODIFIED:20251027T164919Z
UID:10001324-1763616600-1763620200@crossfitchaparral.com
SUMMARY:CrossFit Class
DESCRIPTION:
URL:https://crossfitchaparral.com/event/crossfit-class/2025-11-20/
CATEGORIES:CrossFit Class
END:VEVENT
BEGIN:VEVENT
DTSTART;TZID=UTC:20251120T063000
DTEND;TZID=UTC:20251120T193000
DTSTAMP:20260423T211323
CREATED:20251027T165009Z
LAST-MODIFIED:20251027T165009Z
UID:10002629-1763620200-1763667000@crossfitchaparral.com
SUMMARY:CrossFit Class
DESCRIPTION:
URL:https://crossfitchaparral.com/event/crossfit-class-2/2025-11-20/
CATEGORIES:CrossFit Class
END:VEVENT
BEGIN:VEVENT
DTSTART;TZID=UTC:20251120T083000
DTEND;TZID=UTC:20251120T093000
DTSTAMP:20260423T211323
CREATED:20251027T165150Z
LAST-MODIFIED:20251027T165500Z
UID:10004448-1763627400-1763631000@crossfitchaparral.com
SUMMARY:Open Gym
DESCRIPTION:
URL:https://crossfitchaparral.com/event/open-gym/2025-11-20/
CATEGORIES:Open Gym
END:VEVENT
BEGIN:VEVENT
DTSTART;TZID=UTC:20251120T163000
DTEND;TZID=UTC:20251120T173000
DTSTAMP:20260423T211323
CREATED:20251027T165935Z
LAST-MODIFIED:20251027T165935Z
UID:10006805-1763656200-1763659800@crossfitchaparral.com
SUMMARY:CrossFit Class
DESCRIPTION:
URL:https://crossfitchaparral.com/event/crossfit-class-5/2025-11-20/
CATEGORIES:CrossFit Class
END:VEVENT
BEGIN:VEVENT
DTSTART;TZID=UTC:20251120T173000
DTEND;TZID=UTC:20251120T183000
DTSTAMP:20260423T211323
CREATED:20251027T170752Z
LAST-MODIFIED:20251027T170752Z
UID:10008110-1763659800-1763663400@crossfitchaparral.com
SUMMARY:CrossFit Class
DESCRIPTION:
URL:https://crossfitchaparral.com/event/crossfit-class-6/2025-11-20/
CATEGORIES:CrossFit Class
END:VEVENT
END:VCALENDAR