BEGIN:VCALENDAR
VERSION:2.0
PRODID:-//CrossFit Chaparral - ECPv6.15.10//NONSGML v1.0//EN
CALSCALE:GREGORIAN
METHOD:PUBLISH
X-WR-CALNAME:CrossFit Chaparral
X-ORIGINAL-URL:https://crossfitchaparral.com
X-WR-CALDESC:Events for CrossFit Chaparral
REFRESH-INTERVAL;VALUE=DURATION:PT1H
X-Robots-Tag:noindex
X-PUBLISHED-TTL:PT1H
BEGIN:VTIMEZONE
TZID:UTC
BEGIN:STANDARD
TZOFFSETFROM:+0000
TZOFFSETTO:+0000
TZNAME:UTC
DTSTART:20240101T000000
END:STANDARD
END:VTIMEZONE
BEGIN:VEVENT
DTSTART;TZID=UTC:20251125T050000
DTEND;TZID=UTC:20251125T063000
DTSTAMP:20260423T182651
CREATED:20251027T163822Z
LAST-MODIFIED:20251027T164423Z
UID:10000022-1764046800-1764052200@crossfitchaparral.com
SUMMARY:AoG
DESCRIPTION:
URL:https://crossfitchaparral.com/event/aog/2025-11-25/
LOCATION:CrossFit Chaparral\, 6451 E Shea Blvd\, Scottsdale\, AZ\, 85254\, United States
CATEGORIES:AoG
END:VEVENT
BEGIN:VEVENT
DTSTART;TZID=UTC:20251125T053000
DTEND;TZID=UTC:20251125T063000
DTSTAMP:20260423T182651
CREATED:20251027T164919Z
LAST-MODIFIED:20251027T164919Z
UID:10001327-1764048600-1764052200@crossfitchaparral.com
SUMMARY:CrossFit Class
DESCRIPTION:
URL:https://crossfitchaparral.com/event/crossfit-class/2025-11-25/
CATEGORIES:CrossFit Class
END:VEVENT
BEGIN:VEVENT
DTSTART;TZID=UTC:20251125T063000
DTEND;TZID=UTC:20251125T193000
DTSTAMP:20260423T182651
CREATED:20251027T165009Z
LAST-MODIFIED:20251027T165009Z
UID:10002632-1764052200-1764099000@crossfitchaparral.com
SUMMARY:CrossFit Class
DESCRIPTION:
URL:https://crossfitchaparral.com/event/crossfit-class-2/2025-11-25/
CATEGORIES:CrossFit Class
END:VEVENT
BEGIN:VEVENT
DTSTART;TZID=UTC:20251125T083000
DTEND;TZID=UTC:20251125T093000
DTSTAMP:20260423T182651
CREATED:20251027T165150Z
LAST-MODIFIED:20251027T165500Z
UID:10004450-1764059400-1764063000@crossfitchaparral.com
SUMMARY:Open Gym
DESCRIPTION:
URL:https://crossfitchaparral.com/event/open-gym/2025-11-25/
CATEGORIES:Open Gym
END:VEVENT
BEGIN:VEVENT
DTSTART;TZID=UTC:20251125T163000
DTEND;TZID=UTC:20251125T173000
DTSTAMP:20260423T182651
CREATED:20251027T165935Z
LAST-MODIFIED:20251027T165935Z
UID:10006808-1764088200-1764091800@crossfitchaparral.com
SUMMARY:CrossFit Class
DESCRIPTION:
URL:https://crossfitchaparral.com/event/crossfit-class-5/2025-11-25/
CATEGORIES:CrossFit Class
END:VEVENT
BEGIN:VEVENT
DTSTART;TZID=UTC:20251125T173000
DTEND;TZID=UTC:20251125T183000
DTSTAMP:20260423T182651
CREATED:20251027T170752Z
LAST-MODIFIED:20251027T170752Z
UID:10008113-1764091800-1764095400@crossfitchaparral.com
SUMMARY:CrossFit Class
DESCRIPTION:
URL:https://crossfitchaparral.com/event/crossfit-class-6/2025-11-25/
CATEGORIES:CrossFit Class
END:VEVENT
BEGIN:VEVENT
DTSTART;TZID=UTC:20251125T183000
DTEND;TZID=UTC:20251125T193000
DTSTAMP:20260423T182651
CREATED:20251027T170840Z
LAST-MODIFIED:20251027T170858Z
UID:10009414-1764095400-1764099000@crossfitchaparral.com
SUMMARY:CrossFit Class
DESCRIPTION:
URL:https://crossfitchaparral.com/event/crossfit-class-7/2025-11-25/
CATEGORIES:CrossFit Class
END:VEVENT
BEGIN:VEVENT
DTSTART;TZID=UTC:20251126T050000
DTEND;TZID=UTC:20251126T063000
DTSTAMP:20260423T182651
CREATED:20251027T163822Z
LAST-MODIFIED:20251027T164423Z
UID:10000023-1764133200-1764138600@crossfitchaparral.com
SUMMARY:AoG
DESCRIPTION:
URL:https://crossfitchaparral.com/event/aog/2025-11-26/
LOCATION:CrossFit Chaparral\, 6451 E Shea Blvd\, Scottsdale\, AZ\, 85254\, United States
CATEGORIES:AoG
END:VEVENT
BEGIN:VEVENT
DTSTART;TZID=UTC:20251126T053000
DTEND;TZID=UTC:20251126T063000
DTSTAMP:20260423T182651
CREATED:20251027T164919Z
LAST-MODIFIED:20251027T164919Z
UID:10001328-1764135000-1764138600@crossfitchaparral.com
SUMMARY:CrossFit Class
DESCRIPTION:
URL:https://crossfitchaparral.com/event/crossfit-class/2025-11-26/
CATEGORIES:CrossFit Class
END:VEVENT
BEGIN:VEVENT
DTSTART;TZID=UTC:20251126T063000
DTEND;TZID=UTC:20251126T193000
DTSTAMP:20260423T182651
CREATED:20251027T165009Z
LAST-MODIFIED:20251027T165009Z
UID:10002633-1764138600-1764185400@crossfitchaparral.com
SUMMARY:CrossFit Class
DESCRIPTION:
URL:https://crossfitchaparral.com/event/crossfit-class-2/2025-11-26/
CATEGORIES:CrossFit Class
END:VEVENT
BEGIN:VEVENT
DTSTART;TZID=UTC:20251126T083000
DTEND;TZID=UTC:20251126T091500
DTSTAMP:20260423T182651
CREATED:20251027T165103Z
LAST-MODIFIED:20251218T164423Z
UID:10011504-1764145800-1764148500@crossfitchaparral.com
SUMMARY:H.I.I.T
DESCRIPTION:
URL:https://crossfitchaparral.com/event/h-i-i-t/2025-11-26/
CATEGORIES:H.I.I.T
END:VEVENT
BEGIN:VEVENT
DTSTART;TZID=UTC:20251126T163000
DTEND;TZID=UTC:20251126T173000
DTSTAMP:20260423T182651
CREATED:20251027T165935Z
LAST-MODIFIED:20251027T165935Z
UID:10006809-1764174600-1764178200@crossfitchaparral.com
SUMMARY:CrossFit Class
DESCRIPTION:
URL:https://crossfitchaparral.com/event/crossfit-class-5/2025-11-26/
CATEGORIES:CrossFit Class
END:VEVENT
BEGIN:VEVENT
DTSTART;TZID=UTC:20251126T173000
DTEND;TZID=UTC:20251126T183000
DTSTAMP:20260423T182651
CREATED:20251027T170752Z
LAST-MODIFIED:20251027T170752Z
UID:10008114-1764178200-1764181800@crossfitchaparral.com
SUMMARY:CrossFit Class
DESCRIPTION:
URL:https://crossfitchaparral.com/event/crossfit-class-6/2025-11-26/
CATEGORIES:CrossFit Class
END:VEVENT
BEGIN:VEVENT
DTSTART;TZID=UTC:20251126T183000
DTEND;TZID=UTC:20251126T193000
DTSTAMP:20260423T182651
CREATED:20251027T170840Z
LAST-MODIFIED:20251027T170858Z
UID:10009415-1764181800-1764185400@crossfitchaparral.com
SUMMARY:CrossFit Class
DESCRIPTION:
URL:https://crossfitchaparral.com/event/crossfit-class-7/2025-11-26/
CATEGORIES:CrossFit Class
END:VEVENT
BEGIN:VEVENT
DTSTART;TZID=UTC:20251127T050000
DTEND;TZID=UTC:20251127T063000
DTSTAMP:20260423T182651
CREATED:20251027T163822Z
LAST-MODIFIED:20251027T164423Z
UID:10000024-1764219600-1764225000@crossfitchaparral.com
SUMMARY:AoG
DESCRIPTION:
URL:https://crossfitchaparral.com/event/aog/2025-11-27/
LOCATION:CrossFit Chaparral\, 6451 E Shea Blvd\, Scottsdale\, AZ\, 85254\, United States
CATEGORIES:AoG
END:VEVENT
BEGIN:VEVENT
DTSTART;TZID=UTC:20251127T053000
DTEND;TZID=UTC:20251127T063000
DTSTAMP:20260423T182651
CREATED:20251027T164919Z
LAST-MODIFIED:20251027T164919Z
UID:10001329-1764221400-1764225000@crossfitchaparral.com
SUMMARY:CrossFit Class
DESCRIPTION:
URL:https://crossfitchaparral.com/event/crossfit-class/2025-11-27/
CATEGORIES:CrossFit Class
END:VEVENT
BEGIN:VEVENT
DTSTART;TZID=UTC:20251127T063000
DTEND;TZID=UTC:20251127T193000
DTSTAMP:20260423T182651
CREATED:20251027T165009Z
LAST-MODIFIED:20251027T165009Z
UID:10002634-1764225000-1764271800@crossfitchaparral.com
SUMMARY:CrossFit Class
DESCRIPTION:
URL:https://crossfitchaparral.com/event/crossfit-class-2/2025-11-27/
CATEGORIES:CrossFit Class
END:VEVENT
BEGIN:VEVENT
DTSTART;TZID=UTC:20251127T083000
DTEND;TZID=UTC:20251127T093000
DTSTAMP:20260423T182651
CREATED:20251027T165150Z
LAST-MODIFIED:20251027T165500Z
UID:10004451-1764232200-1764235800@crossfitchaparral.com
SUMMARY:Open Gym
DESCRIPTION:
URL:https://crossfitchaparral.com/event/open-gym/2025-11-27/
CATEGORIES:Open Gym
END:VEVENT
BEGIN:VEVENT
DTSTART;TZID=UTC:20251127T163000
DTEND;TZID=UTC:20251127T173000
DTSTAMP:20260423T182651
CREATED:20251027T165935Z
LAST-MODIFIED:20251027T165935Z
UID:10006810-1764261000-1764264600@crossfitchaparral.com
SUMMARY:CrossFit Class
DESCRIPTION:
URL:https://crossfitchaparral.com/event/crossfit-class-5/2025-11-27/
CATEGORIES:CrossFit Class
END:VEVENT
BEGIN:VEVENT
DTSTART;TZID=UTC:20251127T173000
DTEND;TZID=UTC:20251127T183000
DTSTAMP:20260423T182651
CREATED:20251027T170752Z
LAST-MODIFIED:20251027T170752Z
UID:10008115-1764264600-1764268200@crossfitchaparral.com
SUMMARY:CrossFit Class
DESCRIPTION:
URL:https://crossfitchaparral.com/event/crossfit-class-6/2025-11-27/
CATEGORIES:CrossFit Class
END:VEVENT
BEGIN:VEVENT
DTSTART;TZID=UTC:20251127T183000
DTEND;TZID=UTC:20251127T193000
DTSTAMP:20260423T182651
CREATED:20251027T170840Z
LAST-MODIFIED:20251027T170858Z
UID:10009416-1764268200-1764271800@crossfitchaparral.com
SUMMARY:CrossFit Class
DESCRIPTION:
URL:https://crossfitchaparral.com/event/crossfit-class-7/2025-11-27/
CATEGORIES:CrossFit Class
END:VEVENT
BEGIN:VEVENT
DTSTART;TZID=UTC:20251128T050000
DTEND;TZID=UTC:20251128T063000
DTSTAMP:20260423T182651
CREATED:20251027T163822Z
LAST-MODIFIED:20251027T164423Z
UID:10000025-1764306000-1764311400@crossfitchaparral.com
SUMMARY:AoG
DESCRIPTION:
URL:https://crossfitchaparral.com/event/aog/2025-11-28/
LOCATION:CrossFit Chaparral\, 6451 E Shea Blvd\, Scottsdale\, AZ\, 85254\, United States
CATEGORIES:AoG
END:VEVENT
BEGIN:VEVENT
DTSTART;TZID=UTC:20251128T053000
DTEND;TZID=UTC:20251128T063000
DTSTAMP:20260423T182651
CREATED:20251027T164919Z
LAST-MODIFIED:20251027T164919Z
UID:10001330-1764307800-1764311400@crossfitchaparral.com
SUMMARY:CrossFit Class
DESCRIPTION:
URL:https://crossfitchaparral.com/event/crossfit-class/2025-11-28/
CATEGORIES:CrossFit Class
END:VEVENT
BEGIN:VEVENT
DTSTART;TZID=UTC:20251128T063000
DTEND;TZID=UTC:20251128T193000
DTSTAMP:20260423T182651
CREATED:20251027T165009Z
LAST-MODIFIED:20251027T165009Z
UID:10002635-1764311400-1764358200@crossfitchaparral.com
SUMMARY:CrossFit Class
DESCRIPTION:
URL:https://crossfitchaparral.com/event/crossfit-class-2/2025-11-28/
CATEGORIES:CrossFit Class
END:VEVENT
BEGIN:VEVENT
DTSTART;TZID=UTC:20251128T083000
DTEND;TZID=UTC:20251128T093000
DTSTAMP:20260423T182651
CREATED:20251027T165257Z
LAST-MODIFIED:20251027T165257Z
UID:10005225-1764318600-1764322200@crossfitchaparral.com
SUMMARY:CrossFit Class
DESCRIPTION:
URL:https://crossfitchaparral.com/event/crossfit-class-3/2025-11-28/
CATEGORIES:CrossFit Class
END:VEVENT
BEGIN:VEVENT
DTSTART;TZID=UTC:20251128T163000
DTEND;TZID=UTC:20251128T173000
DTSTAMP:20260423T182651
CREATED:20251027T165935Z
LAST-MODIFIED:20251027T165935Z
UID:10006811-1764347400-1764351000@crossfitchaparral.com
SUMMARY:CrossFit Class
DESCRIPTION:
URL:https://crossfitchaparral.com/event/crossfit-class-5/2025-11-28/
CATEGORIES:CrossFit Class
END:VEVENT
BEGIN:VEVENT
DTSTART;TZID=UTC:20251128T173000
DTEND;TZID=UTC:20251128T183000
DTSTAMP:20260423T182651
CREATED:20251027T170752Z
LAST-MODIFIED:20251027T170752Z
UID:10008116-1764351000-1764354600@crossfitchaparral.com
SUMMARY:CrossFit Class
DESCRIPTION:
URL:https://crossfitchaparral.com/event/crossfit-class-6/2025-11-28/
CATEGORIES:CrossFit Class
END:VEVENT
BEGIN:VEVENT
DTSTART;TZID=UTC:20251129T080000
DTEND;TZID=UTC:20251129T090000
DTSTAMP:20260423T182651
CREATED:20251027T165352Z
LAST-MODIFIED:20251027T165352Z
UID:10005486-1764403200-1764406800@crossfitchaparral.com
SUMMARY:CrossFit Class
DESCRIPTION:
URL:https://crossfitchaparral.com/event/crossfit-class-4/2025-11-29/
CATEGORIES:CrossFit Class
END:VEVENT
BEGIN:VEVENT
DTSTART;TZID=UTC:20251129T090000
DTEND;TZID=UTC:20251129T100000
DTSTAMP:20260423T182651
CREATED:20251027T165557Z
LAST-MODIFIED:20251027T165557Z
UID:10005747-1764406800-1764410400@crossfitchaparral.com
SUMMARY:Open Gym
DESCRIPTION:
URL:https://crossfitchaparral.com/event/open-gym-2/2025-11-29/
CATEGORIES:Open Gym
END:VEVENT
BEGIN:VEVENT
DTSTART;TZID=UTC:20251130T130000
DTEND;TZID=UTC:20251130T143000
DTSTAMP:20260423T182651
CREATED:20251027T165734Z
LAST-MODIFIED:20251027T165734Z
UID:10006008-1764507600-1764513000@crossfitchaparral.com
SUMMARY:Fit for the Cross
DESCRIPTION:
URL:https://crossfitchaparral.com/event/fit-for-the-cross/2025-11-30/
CATEGORIES:Fit for the Cross
END:VEVENT
END:VCALENDAR