BEGIN:VCALENDAR
VERSION:2.0
PRODID:-//CrossFit Chaparral - ECPv6.15.10//NONSGML v1.0//EN
CALSCALE:GREGORIAN
METHOD:PUBLISH
X-ORIGINAL-URL:https://crossfitchaparral.com
X-WR-CALDESC:Events for CrossFit Chaparral
REFRESH-INTERVAL;VALUE=DURATION:PT1H
X-Robots-Tag:noindex
X-PUBLISHED-TTL:PT1H
BEGIN:VTIMEZONE
TZID:UTC
BEGIN:STANDARD
TZOFFSETFROM:+0000
TZOFFSETTO:+0000
TZNAME:UTC
DTSTART:20240101T000000
END:STANDARD
END:VTIMEZONE
BEGIN:VEVENT
DTSTART;TZID=UTC:20251111T050000
DTEND;TZID=UTC:20251111T063000
DTSTAMP:20260423T214110
CREATED:20251027T163822Z
LAST-MODIFIED:20251027T164423Z
UID:10000012-1762837200-1762842600@crossfitchaparral.com
SUMMARY:AoG
DESCRIPTION:
URL:https://crossfitchaparral.com/event/aog/2025-11-11/
LOCATION:CrossFit Chaparral\, 6451 E Shea Blvd\, Scottsdale\, AZ\, 85254\, United States
CATEGORIES:AoG
END:VEVENT
BEGIN:VEVENT
DTSTART;TZID=UTC:20251111T053000
DTEND;TZID=UTC:20251111T063000
DTSTAMP:20260423T214110
CREATED:20251027T164919Z
LAST-MODIFIED:20251027T164919Z
UID:10001317-1762839000-1762842600@crossfitchaparral.com
SUMMARY:CrossFit Class
DESCRIPTION:
URL:https://crossfitchaparral.com/event/crossfit-class/2025-11-11/
CATEGORIES:CrossFit Class
END:VEVENT
BEGIN:VEVENT
DTSTART;TZID=UTC:20251111T063000
DTEND;TZID=UTC:20251111T193000
DTSTAMP:20260423T214110
CREATED:20251027T165009Z
LAST-MODIFIED:20251027T165009Z
UID:10002622-1762842600-1762889400@crossfitchaparral.com
SUMMARY:CrossFit Class
DESCRIPTION:
URL:https://crossfitchaparral.com/event/crossfit-class-2/2025-11-11/
CATEGORIES:CrossFit Class
END:VEVENT
BEGIN:VEVENT
DTSTART;TZID=UTC:20251111T083000
DTEND;TZID=UTC:20251111T093000
DTSTAMP:20260423T214110
CREATED:20251027T165150Z
LAST-MODIFIED:20251027T165500Z
UID:10004444-1762849800-1762853400@crossfitchaparral.com
SUMMARY:Open Gym
DESCRIPTION:
URL:https://crossfitchaparral.com/event/open-gym/2025-11-11/
CATEGORIES:Open Gym
END:VEVENT
BEGIN:VEVENT
DTSTART;TZID=UTC:20251111T163000
DTEND;TZID=UTC:20251111T173000
DTSTAMP:20260423T214110
CREATED:20251027T165935Z
LAST-MODIFIED:20251027T165935Z
UID:10006798-1762878600-1762882200@crossfitchaparral.com
SUMMARY:CrossFit Class
DESCRIPTION:
URL:https://crossfitchaparral.com/event/crossfit-class-5/2025-11-11/
CATEGORIES:CrossFit Class
END:VEVENT
BEGIN:VEVENT
DTSTART;TZID=UTC:20251111T173000
DTEND;TZID=UTC:20251111T183000
DTSTAMP:20260423T214110
CREATED:20251027T170752Z
LAST-MODIFIED:20251027T170752Z
UID:10008103-1762882200-1762885800@crossfitchaparral.com
SUMMARY:CrossFit Class
DESCRIPTION:
URL:https://crossfitchaparral.com/event/crossfit-class-6/2025-11-11/
CATEGORIES:CrossFit Class
END:VEVENT
BEGIN:VEVENT
DTSTART;TZID=UTC:20251111T183000
DTEND;TZID=UTC:20251111T193000
DTSTAMP:20260423T214110
CREATED:20251027T170840Z
LAST-MODIFIED:20251027T170858Z
UID:10009406-1762885800-1762889400@crossfitchaparral.com
SUMMARY:CrossFit Class
DESCRIPTION:
URL:https://crossfitchaparral.com/event/crossfit-class-7/2025-11-11/
CATEGORIES:CrossFit Class
END:VEVENT
BEGIN:VEVENT
DTSTART;TZID=UTC:20251112T050000
DTEND;TZID=UTC:20251112T063000
DTSTAMP:20260423T214110
CREATED:20251027T163822Z
LAST-MODIFIED:20251027T164423Z
UID:10000013-1762923600-1762929000@crossfitchaparral.com
SUMMARY:AoG
DESCRIPTION:
URL:https://crossfitchaparral.com/event/aog/2025-11-12/
LOCATION:CrossFit Chaparral\, 6451 E Shea Blvd\, Scottsdale\, AZ\, 85254\, United States
CATEGORIES:AoG
END:VEVENT
BEGIN:VEVENT
DTSTART;TZID=UTC:20251112T053000
DTEND;TZID=UTC:20251112T063000
DTSTAMP:20260423T214110
CREATED:20251027T164919Z
LAST-MODIFIED:20251027T164919Z
UID:10001318-1762925400-1762929000@crossfitchaparral.com
SUMMARY:CrossFit Class
DESCRIPTION:
URL:https://crossfitchaparral.com/event/crossfit-class/2025-11-12/
CATEGORIES:CrossFit Class
END:VEVENT
BEGIN:VEVENT
DTSTART;TZID=UTC:20251112T063000
DTEND;TZID=UTC:20251112T193000
DTSTAMP:20260423T214110
CREATED:20251027T165009Z
LAST-MODIFIED:20251027T165009Z
UID:10002623-1762929000-1762975800@crossfitchaparral.com
SUMMARY:CrossFit Class
DESCRIPTION:
URL:https://crossfitchaparral.com/event/crossfit-class-2/2025-11-12/
CATEGORIES:CrossFit Class
END:VEVENT
BEGIN:VEVENT
DTSTART;TZID=UTC:20251112T083000
DTEND;TZID=UTC:20251112T091500
DTSTAMP:20260423T214110
CREATED:20251027T165103Z
LAST-MODIFIED:20251218T164423Z
UID:10011500-1762936200-1762938900@crossfitchaparral.com
SUMMARY:H.I.I.T
DESCRIPTION:
URL:https://crossfitchaparral.com/event/h-i-i-t/2025-11-12/
CATEGORIES:H.I.I.T
END:VEVENT
BEGIN:VEVENT
DTSTART;TZID=UTC:20251112T163000
DTEND;TZID=UTC:20251112T173000
DTSTAMP:20260423T214110
CREATED:20251027T165935Z
LAST-MODIFIED:20251027T165935Z
UID:10006799-1762965000-1762968600@crossfitchaparral.com
SUMMARY:CrossFit Class
DESCRIPTION:
URL:https://crossfitchaparral.com/event/crossfit-class-5/2025-11-12/
CATEGORIES:CrossFit Class
END:VEVENT
BEGIN:VEVENT
DTSTART;TZID=UTC:20251112T173000
DTEND;TZID=UTC:20251112T183000
DTSTAMP:20260423T214110
CREATED:20251027T170752Z
LAST-MODIFIED:20251027T170752Z
UID:10008104-1762968600-1762972200@crossfitchaparral.com
SUMMARY:CrossFit Class
DESCRIPTION:
URL:https://crossfitchaparral.com/event/crossfit-class-6/2025-11-12/
CATEGORIES:CrossFit Class
END:VEVENT
BEGIN:VEVENT
DTSTART;TZID=UTC:20251112T183000
DTEND;TZID=UTC:20251112T193000
DTSTAMP:20260423T214110
CREATED:20251027T170840Z
LAST-MODIFIED:20251027T170858Z
UID:10009407-1762972200-1762975800@crossfitchaparral.com
SUMMARY:CrossFit Class
DESCRIPTION:
URL:https://crossfitchaparral.com/event/crossfit-class-7/2025-11-12/
CATEGORIES:CrossFit Class
END:VEVENT
BEGIN:VEVENT
DTSTART;TZID=UTC:20251113T050000
DTEND;TZID=UTC:20251113T063000
DTSTAMP:20260423T214110
CREATED:20251027T163822Z
LAST-MODIFIED:20251027T164423Z
UID:10000014-1763010000-1763015400@crossfitchaparral.com
SUMMARY:AoG
DESCRIPTION:
URL:https://crossfitchaparral.com/event/aog/2025-11-13/
LOCATION:CrossFit Chaparral\, 6451 E Shea Blvd\, Scottsdale\, AZ\, 85254\, United States
CATEGORIES:AoG
END:VEVENT
BEGIN:VEVENT
DTSTART;TZID=UTC:20251113T053000
DTEND;TZID=UTC:20251113T063000
DTSTAMP:20260423T214110
CREATED:20251027T164919Z
LAST-MODIFIED:20251027T164919Z
UID:10001319-1763011800-1763015400@crossfitchaparral.com
SUMMARY:CrossFit Class
DESCRIPTION:
URL:https://crossfitchaparral.com/event/crossfit-class/2025-11-13/
CATEGORIES:CrossFit Class
END:VEVENT
BEGIN:VEVENT
DTSTART;TZID=UTC:20251113T063000
DTEND;TZID=UTC:20251113T193000
DTSTAMP:20260423T214110
CREATED:20251027T165009Z
LAST-MODIFIED:20251027T165009Z
UID:10002624-1763015400-1763062200@crossfitchaparral.com
SUMMARY:CrossFit Class
DESCRIPTION:
URL:https://crossfitchaparral.com/event/crossfit-class-2/2025-11-13/
CATEGORIES:CrossFit Class
END:VEVENT
BEGIN:VEVENT
DTSTART;TZID=UTC:20251113T083000
DTEND;TZID=UTC:20251113T093000
DTSTAMP:20260423T214110
CREATED:20251027T165150Z
LAST-MODIFIED:20251027T165500Z
UID:10004445-1763022600-1763026200@crossfitchaparral.com
SUMMARY:Open Gym
DESCRIPTION:
URL:https://crossfitchaparral.com/event/open-gym/2025-11-13/
CATEGORIES:Open Gym
END:VEVENT
BEGIN:VEVENT
DTSTART;TZID=UTC:20251113T163000
DTEND;TZID=UTC:20251113T173000
DTSTAMP:20260423T214110
CREATED:20251027T165935Z
LAST-MODIFIED:20251027T165935Z
UID:10006800-1763051400-1763055000@crossfitchaparral.com
SUMMARY:CrossFit Class
DESCRIPTION:
URL:https://crossfitchaparral.com/event/crossfit-class-5/2025-11-13/
CATEGORIES:CrossFit Class
END:VEVENT
BEGIN:VEVENT
DTSTART;TZID=UTC:20251113T173000
DTEND;TZID=UTC:20251113T183000
DTSTAMP:20260423T214110
CREATED:20251027T170752Z
LAST-MODIFIED:20251027T170752Z
UID:10008105-1763055000-1763058600@crossfitchaparral.com
SUMMARY:CrossFit Class
DESCRIPTION:
URL:https://crossfitchaparral.com/event/crossfit-class-6/2025-11-13/
CATEGORIES:CrossFit Class
END:VEVENT
BEGIN:VEVENT
DTSTART;TZID=UTC:20251113T183000
DTEND;TZID=UTC:20251113T193000
DTSTAMP:20260423T214110
CREATED:20251027T170840Z
LAST-MODIFIED:20251027T170858Z
UID:10009408-1763058600-1763062200@crossfitchaparral.com
SUMMARY:CrossFit Class
DESCRIPTION:
URL:https://crossfitchaparral.com/event/crossfit-class-7/2025-11-13/
CATEGORIES:CrossFit Class
END:VEVENT
BEGIN:VEVENT
DTSTART;TZID=UTC:20251114T050000
DTEND;TZID=UTC:20251114T063000
DTSTAMP:20260423T214110
CREATED:20251027T163822Z
LAST-MODIFIED:20251027T164423Z
UID:10000015-1763096400-1763101800@crossfitchaparral.com
SUMMARY:AoG
DESCRIPTION:
URL:https://crossfitchaparral.com/event/aog/2025-11-14/
LOCATION:CrossFit Chaparral\, 6451 E Shea Blvd\, Scottsdale\, AZ\, 85254\, United States
CATEGORIES:AoG
END:VEVENT
BEGIN:VEVENT
DTSTART;TZID=UTC:20251114T053000
DTEND;TZID=UTC:20251114T063000
DTSTAMP:20260423T214110
CREATED:20251027T164919Z
LAST-MODIFIED:20251027T164919Z
UID:10001320-1763098200-1763101800@crossfitchaparral.com
SUMMARY:CrossFit Class
DESCRIPTION:
URL:https://crossfitchaparral.com/event/crossfit-class/2025-11-14/
CATEGORIES:CrossFit Class
END:VEVENT
BEGIN:VEVENT
DTSTART;TZID=UTC:20251114T063000
DTEND;TZID=UTC:20251114T193000
DTSTAMP:20260423T214110
CREATED:20251027T165009Z
LAST-MODIFIED:20251027T165009Z
UID:10002625-1763101800-1763148600@crossfitchaparral.com
SUMMARY:CrossFit Class
DESCRIPTION:
URL:https://crossfitchaparral.com/event/crossfit-class-2/2025-11-14/
CATEGORIES:CrossFit Class
END:VEVENT
BEGIN:VEVENT
DTSTART;TZID=UTC:20251114T083000
DTEND;TZID=UTC:20251114T093000
DTSTAMP:20260423T214110
CREATED:20251027T165257Z
LAST-MODIFIED:20251027T165257Z
UID:10005223-1763109000-1763112600@crossfitchaparral.com
SUMMARY:CrossFit Class
DESCRIPTION:
URL:https://crossfitchaparral.com/event/crossfit-class-3/2025-11-14/
CATEGORIES:CrossFit Class
END:VEVENT
BEGIN:VEVENT
DTSTART;TZID=UTC:20251114T163000
DTEND;TZID=UTC:20251114T173000
DTSTAMP:20260423T214110
CREATED:20251027T165935Z
LAST-MODIFIED:20251027T165935Z
UID:10006801-1763137800-1763141400@crossfitchaparral.com
SUMMARY:CrossFit Class
DESCRIPTION:
URL:https://crossfitchaparral.com/event/crossfit-class-5/2025-11-14/
CATEGORIES:CrossFit Class
END:VEVENT
BEGIN:VEVENT
DTSTART;TZID=UTC:20251114T173000
DTEND;TZID=UTC:20251114T183000
DTSTAMP:20260423T214110
CREATED:20251027T170752Z
LAST-MODIFIED:20251027T170752Z
UID:10008106-1763141400-1763145000@crossfitchaparral.com
SUMMARY:CrossFit Class
DESCRIPTION:
URL:https://crossfitchaparral.com/event/crossfit-class-6/2025-11-14/
CATEGORIES:CrossFit Class
END:VEVENT
BEGIN:VEVENT
DTSTART;TZID=UTC:20251115T080000
DTEND;TZID=UTC:20251115T090000
DTSTAMP:20260423T214110
CREATED:20251027T165352Z
LAST-MODIFIED:20251027T165352Z
UID:10005484-1763193600-1763197200@crossfitchaparral.com
SUMMARY:CrossFit Class
DESCRIPTION:
URL:https://crossfitchaparral.com/event/crossfit-class-4/2025-11-15/
CATEGORIES:CrossFit Class
END:VEVENT
BEGIN:VEVENT
DTSTART;TZID=UTC:20251115T090000
DTEND;TZID=UTC:20251115T100000
DTSTAMP:20260423T214110
CREATED:20251027T165557Z
LAST-MODIFIED:20251027T165557Z
UID:10005745-1763197200-1763200800@crossfitchaparral.com
SUMMARY:Open Gym
DESCRIPTION:
URL:https://crossfitchaparral.com/event/open-gym-2/2025-11-15/
CATEGORIES:Open Gym
END:VEVENT
BEGIN:VEVENT
DTSTART;TZID=UTC:20251116T130000
DTEND;TZID=UTC:20251116T143000
DTSTAMP:20260423T214110
CREATED:20251027T165734Z
LAST-MODIFIED:20251027T165734Z
UID:10006006-1763298000-1763303400@crossfitchaparral.com
SUMMARY:Fit for the Cross
DESCRIPTION:
URL:https://crossfitchaparral.com/event/fit-for-the-cross/2025-11-16/
CATEGORIES:Fit for the Cross
END:VEVENT
END:VCALENDAR