BEGIN:VCALENDAR
VERSION:2.0
PRODID:-//CrossFit Chaparral - ECPv6.15.10//NONSGML v1.0//EN
CALSCALE:GREGORIAN
METHOD:PUBLISH
X-WR-CALNAME:CrossFit Chaparral
X-ORIGINAL-URL:https://crossfitchaparral.com
X-WR-CALDESC:Events for CrossFit Chaparral
REFRESH-INTERVAL;VALUE=DURATION:PT1H
X-Robots-Tag:noindex
X-PUBLISHED-TTL:PT1H
BEGIN:VTIMEZONE
TZID:UTC
BEGIN:STANDARD
TZOFFSETFROM:+0000
TZOFFSETTO:+0000
TZNAME:UTC
DTSTART:20240101T000000
END:STANDARD
END:VTIMEZONE
BEGIN:VEVENT
DTSTART;TZID=UTC:20251030T050000
DTEND;TZID=UTC:20251030T063000
DTSTAMP:20260425T135029
CREATED:20251027T163822Z
LAST-MODIFIED:20251027T164423Z
UID:10000004-1761800400-1761805800@crossfitchaparral.com
SUMMARY:AoG
DESCRIPTION:
URL:https://crossfitchaparral.com/event/aog/2025-10-30/
LOCATION:CrossFit Chaparral\, 6451 E Shea Blvd\, Scottsdale\, AZ\, 85254\, United States
CATEGORIES:AoG
END:VEVENT
BEGIN:VEVENT
DTSTART;TZID=UTC:20251029T183000
DTEND;TZID=UTC:20251029T193000
DTSTAMP:20260425T135029
CREATED:20251027T170840Z
LAST-MODIFIED:20251027T170858Z
UID:10009399-1761762600-1761766200@crossfitchaparral.com
SUMMARY:CrossFit Class
DESCRIPTION:
URL:https://crossfitchaparral.com/event/crossfit-class-7/2025-10-29/
CATEGORIES:CrossFit Class
END:VEVENT
BEGIN:VEVENT
DTSTART;TZID=UTC:20251029T173000
DTEND;TZID=UTC:20251029T183000
DTSTAMP:20260425T135029
CREATED:20251027T170752Z
LAST-MODIFIED:20251027T170752Z
UID:10008094-1761759000-1761762600@crossfitchaparral.com
SUMMARY:CrossFit Class
DESCRIPTION:
URL:https://crossfitchaparral.com/event/crossfit-class-6/2025-10-29/
CATEGORIES:CrossFit Class
END:VEVENT
BEGIN:VEVENT
DTSTART;TZID=UTC:20251029T163000
DTEND;TZID=UTC:20251029T173000
DTSTAMP:20260425T135029
CREATED:20251027T165935Z
LAST-MODIFIED:20251027T165935Z
UID:10006789-1761755400-1761759000@crossfitchaparral.com
SUMMARY:CrossFit Class
DESCRIPTION:
URL:https://crossfitchaparral.com/event/crossfit-class-5/2025-10-29/
CATEGORIES:CrossFit Class
END:VEVENT
BEGIN:VEVENT
DTSTART;TZID=UTC:20251029T083000
DTEND;TZID=UTC:20251029T091500
DTSTAMP:20260425T135029
CREATED:20251027T165103Z
LAST-MODIFIED:20251218T164423Z
UID:10011496-1761726600-1761729300@crossfitchaparral.com
SUMMARY:H.I.I.T
DESCRIPTION:
URL:https://crossfitchaparral.com/event/h-i-i-t/2025-10-29/
CATEGORIES:H.I.I.T
END:VEVENT
BEGIN:VEVENT
DTSTART;TZID=UTC:20251029T063000
DTEND;TZID=UTC:20251029T193000
DTSTAMP:20260425T135029
CREATED:20251027T165009Z
LAST-MODIFIED:20251027T165009Z
UID:10002613-1761719400-1761766200@crossfitchaparral.com
SUMMARY:CrossFit Class
DESCRIPTION:
URL:https://crossfitchaparral.com/event/crossfit-class-2/2025-10-29/
CATEGORIES:CrossFit Class
END:VEVENT
BEGIN:VEVENT
DTSTART;TZID=UTC:20251029T053000
DTEND;TZID=UTC:20251029T063000
DTSTAMP:20260425T135029
CREATED:20251027T164919Z
LAST-MODIFIED:20251027T164919Z
UID:10001308-1761715800-1761719400@crossfitchaparral.com
SUMMARY:CrossFit Class
DESCRIPTION:
URL:https://crossfitchaparral.com/event/crossfit-class/2025-10-29/
CATEGORIES:CrossFit Class
END:VEVENT
BEGIN:VEVENT
DTSTART;TZID=UTC:20251029T050000
DTEND;TZID=UTC:20251029T063000
DTSTAMP:20260425T135029
CREATED:20251027T163822Z
LAST-MODIFIED:20251027T164423Z
UID:10000003-1761714000-1761719400@crossfitchaparral.com
SUMMARY:AoG
DESCRIPTION:
URL:https://crossfitchaparral.com/event/aog/2025-10-29/
LOCATION:CrossFit Chaparral\, 6451 E Shea Blvd\, Scottsdale\, AZ\, 85254\, United States
CATEGORIES:AoG
END:VEVENT
BEGIN:VEVENT
DTSTART;TZID=UTC:20251028T183000
DTEND;TZID=UTC:20251028T193000
DTSTAMP:20260425T135029
CREATED:20251027T170840Z
LAST-MODIFIED:20251027T170858Z
UID:10009398-1761676200-1761679800@crossfitchaparral.com
SUMMARY:CrossFit Class
DESCRIPTION:
URL:https://crossfitchaparral.com/event/crossfit-class-7/2025-10-28/
CATEGORIES:CrossFit Class
END:VEVENT
BEGIN:VEVENT
DTSTART;TZID=UTC:20251028T173000
DTEND;TZID=UTC:20251028T183000
DTSTAMP:20260425T135029
CREATED:20251027T170752Z
LAST-MODIFIED:20251027T170752Z
UID:10008093-1761672600-1761676200@crossfitchaparral.com
SUMMARY:CrossFit Class
DESCRIPTION:
URL:https://crossfitchaparral.com/event/crossfit-class-6/2025-10-28/
CATEGORIES:CrossFit Class
END:VEVENT
BEGIN:VEVENT
DTSTART;TZID=UTC:20251028T163000
DTEND;TZID=UTC:20251028T173000
DTSTAMP:20260425T135029
CREATED:20251027T165935Z
LAST-MODIFIED:20251027T165935Z
UID:10006788-1761669000-1761672600@crossfitchaparral.com
SUMMARY:CrossFit Class
DESCRIPTION:
URL:https://crossfitchaparral.com/event/crossfit-class-5/2025-10-28/
CATEGORIES:CrossFit Class
END:VEVENT
BEGIN:VEVENT
DTSTART;TZID=UTC:20251028T083000
DTEND;TZID=UTC:20251028T093000
DTSTAMP:20260425T135029
CREATED:20251027T165150Z
LAST-MODIFIED:20251027T165500Z
UID:10004438-1761640200-1761643800@crossfitchaparral.com
SUMMARY:Open Gym
DESCRIPTION:
URL:https://crossfitchaparral.com/event/open-gym/2025-10-28/
CATEGORIES:Open Gym
END:VEVENT
BEGIN:VEVENT
DTSTART;TZID=UTC:20251028T063000
DTEND;TZID=UTC:20251028T193000
DTSTAMP:20260425T135029
CREATED:20251027T165009Z
LAST-MODIFIED:20251027T165009Z
UID:10002612-1761633000-1761679800@crossfitchaparral.com
SUMMARY:CrossFit Class
DESCRIPTION:
URL:https://crossfitchaparral.com/event/crossfit-class-2/2025-10-28/
CATEGORIES:CrossFit Class
END:VEVENT
BEGIN:VEVENT
DTSTART;TZID=UTC:20251028T053000
DTEND;TZID=UTC:20251028T063000
DTSTAMP:20260425T135029
CREATED:20251027T164919Z
LAST-MODIFIED:20251027T164919Z
UID:10001307-1761629400-1761633000@crossfitchaparral.com
SUMMARY:CrossFit Class
DESCRIPTION:
URL:https://crossfitchaparral.com/event/crossfit-class/2025-10-28/
CATEGORIES:CrossFit Class
END:VEVENT
BEGIN:VEVENT
DTSTART;TZID=UTC:20251028T050000
DTEND;TZID=UTC:20251028T063000
DTSTAMP:20260425T135029
CREATED:20251027T163822Z
LAST-MODIFIED:20251027T164423Z
UID:10000002-1761627600-1761633000@crossfitchaparral.com
SUMMARY:AoG
DESCRIPTION:
URL:https://crossfitchaparral.com/event/aog/2025-10-28/
LOCATION:CrossFit Chaparral\, 6451 E Shea Blvd\, Scottsdale\, AZ\, 85254\, United States
CATEGORIES:AoG
END:VEVENT
BEGIN:VEVENT
DTSTART;TZID=UTC:20251027T183000
DTEND;TZID=UTC:20251027T193000
DTSTAMP:20260425T135029
CREATED:20251027T170840Z
LAST-MODIFIED:20251027T170858Z
UID:10009397-1761589800-1761593400@crossfitchaparral.com
SUMMARY:CrossFit Class
DESCRIPTION:
URL:https://crossfitchaparral.com/event/crossfit-class-7/2025-10-27/
CATEGORIES:CrossFit Class
END:VEVENT
BEGIN:VEVENT
DTSTART;TZID=UTC:20251027T173000
DTEND;TZID=UTC:20251027T183000
DTSTAMP:20260425T135029
CREATED:20251027T170752Z
LAST-MODIFIED:20251027T170752Z
UID:10008092-1761586200-1761589800@crossfitchaparral.com
SUMMARY:CrossFit Class
DESCRIPTION:
URL:https://crossfitchaparral.com/event/crossfit-class-6/2025-10-27/
CATEGORIES:CrossFit Class
END:VEVENT
BEGIN:VEVENT
DTSTART;TZID=UTC:20251027T163000
DTEND;TZID=UTC:20251027T173000
DTSTAMP:20260425T135029
CREATED:20251027T165935Z
LAST-MODIFIED:20251027T165935Z
UID:10006787-1761582600-1761586200@crossfitchaparral.com
SUMMARY:CrossFit Class
DESCRIPTION:
URL:https://crossfitchaparral.com/event/crossfit-class-5/2025-10-27/
CATEGORIES:CrossFit Class
END:VEVENT
BEGIN:VEVENT
DTSTART;TZID=UTC:20251027T153000
DTEND;TZID=UTC:20251027T163000
DTSTAMP:20260425T135029
CREATED:20251027T165854Z
LAST-MODIFIED:20251027T165854Z
UID:10006526-1761579000-1761582600@crossfitchaparral.com
SUMMARY:CrossFit Kids
DESCRIPTION:
URL:https://crossfitchaparral.com/event/crossfit-kids/2025-10-27/
CATEGORIES:CrossFit Kids
END:VEVENT
BEGIN:VEVENT
DTSTART;TZID=UTC:20251027T083000
DTEND;TZID=UTC:20251027T091500
DTSTAMP:20260425T135029
CREATED:20251027T165103Z
LAST-MODIFIED:20251218T164423Z
UID:10011495-1761553800-1761556500@crossfitchaparral.com
SUMMARY:H.I.I.T
DESCRIPTION:
URL:https://crossfitchaparral.com/event/h-i-i-t/2025-10-27/
CATEGORIES:H.I.I.T
END:VEVENT
BEGIN:VEVENT
DTSTART;TZID=UTC:20251027T063000
DTEND;TZID=UTC:20251027T193000
DTSTAMP:20260425T135029
CREATED:20251027T165009Z
LAST-MODIFIED:20251027T165009Z
UID:10002611-1761546600-1761593400@crossfitchaparral.com
SUMMARY:CrossFit Class
DESCRIPTION:
URL:https://crossfitchaparral.com/event/crossfit-class-2/2025-10-27/
CATEGORIES:CrossFit Class
END:VEVENT
BEGIN:VEVENT
DTSTART;TZID=UTC:20251027T053000
DTEND;TZID=UTC:20251027T063000
DTSTAMP:20260425T135029
CREATED:20251027T164919Z
LAST-MODIFIED:20251027T164919Z
UID:10001306-1761543000-1761546600@crossfitchaparral.com
SUMMARY:CrossFit Class
DESCRIPTION:
URL:https://crossfitchaparral.com/event/crossfit-class/2025-10-27/
CATEGORIES:CrossFit Class
END:VEVENT
BEGIN:VEVENT
DTSTART;TZID=UTC:20251027T050000
DTEND;TZID=UTC:20251027T063000
DTSTAMP:20260425T135029
CREATED:20251027T163822Z
LAST-MODIFIED:20251027T164423Z
UID:10000001-1761541200-1761546600@crossfitchaparral.com
SUMMARY:AoG
DESCRIPTION:
URL:https://crossfitchaparral.com/event/aog/2025-10-27/
LOCATION:CrossFit Chaparral\, 6451 E Shea Blvd\, Scottsdale\, AZ\, 85254\, United States
CATEGORIES:AoG
END:VEVENT
END:VCALENDAR