BEGIN:VCALENDAR
VERSION:2.0
PRODID:-//CrossFit Chaparral - ECPv6.15.10//NONSGML v1.0//EN
CALSCALE:GREGORIAN
METHOD:PUBLISH
X-WR-CALNAME:CrossFit Chaparral
X-ORIGINAL-URL:https://crossfitchaparral.com
X-WR-CALDESC:Events for CrossFit Chaparral
REFRESH-INTERVAL;VALUE=DURATION:PT1H
X-Robots-Tag:noindex
X-PUBLISHED-TTL:PT1H
BEGIN:VTIMEZONE
TZID:UTC
BEGIN:STANDARD
TZOFFSETFROM:+0000
TZOFFSETTO:+0000
TZNAME:UTC
DTSTART:20240101T000000
END:STANDARD
END:VTIMEZONE
BEGIN:VEVENT
DTSTART;TZID=UTC:20251104T063000
DTEND;TZID=UTC:20251104T193000
DTSTAMP:20260423T235310
CREATED:20251027T165009Z
LAST-MODIFIED:20251027T165009Z
UID:10002617-1762237800-1762284600@crossfitchaparral.com
SUMMARY:CrossFit Class
DESCRIPTION:
URL:https://crossfitchaparral.com/event/crossfit-class-2/2025-11-04/
CATEGORIES:CrossFit Class
END:VEVENT
BEGIN:VEVENT
DTSTART;TZID=UTC:20251104T053000
DTEND;TZID=UTC:20251104T063000
DTSTAMP:20260423T235310
CREATED:20251027T164919Z
LAST-MODIFIED:20251027T164919Z
UID:10001312-1762234200-1762237800@crossfitchaparral.com
SUMMARY:CrossFit Class
DESCRIPTION:
URL:https://crossfitchaparral.com/event/crossfit-class/2025-11-04/
CATEGORIES:CrossFit Class
END:VEVENT
BEGIN:VEVENT
DTSTART;TZID=UTC:20251104T050000
DTEND;TZID=UTC:20251104T063000
DTSTAMP:20260423T235310
CREATED:20251027T163822Z
LAST-MODIFIED:20251027T164423Z
UID:10000007-1762232400-1762237800@crossfitchaparral.com
SUMMARY:AoG
DESCRIPTION:
URL:https://crossfitchaparral.com/event/aog/2025-11-04/
LOCATION:CrossFit Chaparral\, 6451 E Shea Blvd\, Scottsdale\, AZ\, 85254\, United States
CATEGORIES:AoG
END:VEVENT
BEGIN:VEVENT
DTSTART;TZID=UTC:20251103T183000
DTEND;TZID=UTC:20251103T193000
DTSTAMP:20260423T235310
CREATED:20251027T170840Z
LAST-MODIFIED:20251027T170858Z
UID:10009401-1762194600-1762198200@crossfitchaparral.com
SUMMARY:CrossFit Class
DESCRIPTION:
URL:https://crossfitchaparral.com/event/crossfit-class-7/2025-11-03/
CATEGORIES:CrossFit Class
END:VEVENT
BEGIN:VEVENT
DTSTART;TZID=UTC:20251103T173000
DTEND;TZID=UTC:20251103T183000
DTSTAMP:20260423T235310
CREATED:20251027T170752Z
LAST-MODIFIED:20251027T170752Z
UID:10008097-1762191000-1762194600@crossfitchaparral.com
SUMMARY:CrossFit Class
DESCRIPTION:
URL:https://crossfitchaparral.com/event/crossfit-class-6/2025-11-03/
CATEGORIES:CrossFit Class
END:VEVENT
BEGIN:VEVENT
DTSTART;TZID=UTC:20251103T163000
DTEND;TZID=UTC:20251103T173000
DTSTAMP:20260423T235310
CREATED:20251027T165935Z
LAST-MODIFIED:20251027T165935Z
UID:10006792-1762187400-1762191000@crossfitchaparral.com
SUMMARY:CrossFit Class
DESCRIPTION:
URL:https://crossfitchaparral.com/event/crossfit-class-5/2025-11-03/
CATEGORIES:CrossFit Class
END:VEVENT
BEGIN:VEVENT
DTSTART;TZID=UTC:20251103T153000
DTEND;TZID=UTC:20251103T163000
DTSTAMP:20260423T235310
CREATED:20251027T165854Z
LAST-MODIFIED:20251027T165854Z
UID:10006527-1762183800-1762187400@crossfitchaparral.com
SUMMARY:CrossFit Kids
DESCRIPTION:
URL:https://crossfitchaparral.com/event/crossfit-kids/2025-11-03/
CATEGORIES:CrossFit Kids
END:VEVENT
BEGIN:VEVENT
DTSTART;TZID=UTC:20251103T083000
DTEND;TZID=UTC:20251103T091500
DTSTAMP:20260423T235310
CREATED:20251027T165103Z
LAST-MODIFIED:20251218T164423Z
UID:10011497-1762158600-1762161300@crossfitchaparral.com
SUMMARY:H.I.I.T
DESCRIPTION:
URL:https://crossfitchaparral.com/event/h-i-i-t/2025-11-03/
CATEGORIES:H.I.I.T
END:VEVENT
BEGIN:VEVENT
DTSTART;TZID=UTC:20251103T063000
DTEND;TZID=UTC:20251103T193000
DTSTAMP:20260423T235310
CREATED:20251027T165009Z
LAST-MODIFIED:20251027T165009Z
UID:10002616-1762151400-1762198200@crossfitchaparral.com
SUMMARY:CrossFit Class
DESCRIPTION:
URL:https://crossfitchaparral.com/event/crossfit-class-2/2025-11-03/
CATEGORIES:CrossFit Class
END:VEVENT
BEGIN:VEVENT
DTSTART;TZID=UTC:20251103T053000
DTEND;TZID=UTC:20251103T063000
DTSTAMP:20260423T235310
CREATED:20251027T164919Z
LAST-MODIFIED:20251027T164919Z
UID:10001311-1762147800-1762151400@crossfitchaparral.com
SUMMARY:CrossFit Class
DESCRIPTION:
URL:https://crossfitchaparral.com/event/crossfit-class/2025-11-03/
CATEGORIES:CrossFit Class
END:VEVENT
BEGIN:VEVENT
DTSTART;TZID=UTC:20251103T050000
DTEND;TZID=UTC:20251103T063000
DTSTAMP:20260423T235310
CREATED:20251027T163822Z
LAST-MODIFIED:20251027T164423Z
UID:10000006-1762146000-1762151400@crossfitchaparral.com
SUMMARY:AoG
DESCRIPTION:
URL:https://crossfitchaparral.com/event/aog/2025-11-03/
LOCATION:CrossFit Chaparral\, 6451 E Shea Blvd\, Scottsdale\, AZ\, 85254\, United States
CATEGORIES:AoG
END:VEVENT
BEGIN:VEVENT
DTSTART;TZID=UTC:20251102T140000
DTEND;TZID=UTC:20251102T153000
DTSTAMP:20260423T235310
CREATED:20251027T165811Z
LAST-MODIFIED:20251110T161105Z
UID:10010703-1762092000-1762097400@crossfitchaparral.com
SUMMARY:Open Gym
DESCRIPTION:
URL:https://crossfitchaparral.com/event/open-gym-3/2025-11-02/
CATEGORIES:Open Gym
END:VEVENT
BEGIN:VEVENT
DTSTART;TZID=UTC:20251102T130000
DTEND;TZID=UTC:20251102T143000
DTSTAMP:20260423T235310
CREATED:20251027T165734Z
LAST-MODIFIED:20251027T165734Z
UID:10006004-1762088400-1762093800@crossfitchaparral.com
SUMMARY:Fit for the Cross
DESCRIPTION:
URL:https://crossfitchaparral.com/event/fit-for-the-cross/2025-11-02/
CATEGORIES:Fit for the Cross
END:VEVENT
BEGIN:VEVENT
DTSTART;TZID=UTC:20251101T090000
DTEND;TZID=UTC:20251101T100000
DTSTAMP:20260423T235310
CREATED:20251027T165557Z
LAST-MODIFIED:20251027T165557Z
UID:10005743-1761987600-1761991200@crossfitchaparral.com
SUMMARY:Open Gym
DESCRIPTION:
URL:https://crossfitchaparral.com/event/open-gym-2/2025-11-01/
CATEGORIES:Open Gym
END:VEVENT
BEGIN:VEVENT
DTSTART;TZID=UTC:20251101T080000
DTEND;TZID=UTC:20251101T090000
DTSTAMP:20260423T235310
CREATED:20251027T165352Z
LAST-MODIFIED:20251027T165352Z
UID:10005482-1761984000-1761987600@crossfitchaparral.com
SUMMARY:CrossFit Class
DESCRIPTION:
URL:https://crossfitchaparral.com/event/crossfit-class-4/2025-11-01/
CATEGORIES:CrossFit Class
END:VEVENT
BEGIN:VEVENT
DTSTART;TZID=UTC:20251031T173000
DTEND;TZID=UTC:20251031T183000
DTSTAMP:20260423T235310
CREATED:20251027T170752Z
LAST-MODIFIED:20251027T170752Z
UID:10008096-1761931800-1761935400@crossfitchaparral.com
SUMMARY:CrossFit Class
DESCRIPTION:
URL:https://crossfitchaparral.com/event/crossfit-class-6/2025-10-31/
CATEGORIES:CrossFit Class
END:VEVENT
BEGIN:VEVENT
DTSTART;TZID=UTC:20251031T163000
DTEND;TZID=UTC:20251031T173000
DTSTAMP:20260423T235310
CREATED:20251027T165935Z
LAST-MODIFIED:20251027T165935Z
UID:10006791-1761928200-1761931800@crossfitchaparral.com
SUMMARY:CrossFit Class
DESCRIPTION:
URL:https://crossfitchaparral.com/event/crossfit-class-5/2025-10-31/
CATEGORIES:CrossFit Class
END:VEVENT
BEGIN:VEVENT
DTSTART;TZID=UTC:20251031T083000
DTEND;TZID=UTC:20251031T093000
DTSTAMP:20260423T235310
CREATED:20251027T165257Z
LAST-MODIFIED:20251027T165257Z
UID:10005221-1761899400-1761903000@crossfitchaparral.com
SUMMARY:CrossFit Class
DESCRIPTION:
URL:https://crossfitchaparral.com/event/crossfit-class-3/2025-10-31/
CATEGORIES:CrossFit Class
END:VEVENT
BEGIN:VEVENT
DTSTART;TZID=UTC:20251031T063000
DTEND;TZID=UTC:20251031T193000
DTSTAMP:20260423T235310
CREATED:20251027T165009Z
LAST-MODIFIED:20251027T165009Z
UID:10002615-1761892200-1761939000@crossfitchaparral.com
SUMMARY:CrossFit Class
DESCRIPTION:
URL:https://crossfitchaparral.com/event/crossfit-class-2/2025-10-31/
CATEGORIES:CrossFit Class
END:VEVENT
BEGIN:VEVENT
DTSTART;TZID=UTC:20251031T053000
DTEND;TZID=UTC:20251031T063000
DTSTAMP:20260423T235310
CREATED:20251027T164919Z
LAST-MODIFIED:20251027T164919Z
UID:10001310-1761888600-1761892200@crossfitchaparral.com
SUMMARY:CrossFit Class
DESCRIPTION:
URL:https://crossfitchaparral.com/event/crossfit-class/2025-10-31/
CATEGORIES:CrossFit Class
END:VEVENT
BEGIN:VEVENT
DTSTART;TZID=UTC:20251031T050000
DTEND;TZID=UTC:20251031T063000
DTSTAMP:20260423T235310
CREATED:20251027T163822Z
LAST-MODIFIED:20251027T164423Z
UID:10000005-1761886800-1761892200@crossfitchaparral.com
SUMMARY:AoG
DESCRIPTION:
URL:https://crossfitchaparral.com/event/aog/2025-10-31/
LOCATION:CrossFit Chaparral\, 6451 E Shea Blvd\, Scottsdale\, AZ\, 85254\, United States
CATEGORIES:AoG
END:VEVENT
BEGIN:VEVENT
DTSTART;TZID=UTC:20251030T183000
DTEND;TZID=UTC:20251030T193000
DTSTAMP:20260423T235310
CREATED:20251027T170840Z
LAST-MODIFIED:20251027T170858Z
UID:10009400-1761849000-1761852600@crossfitchaparral.com
SUMMARY:CrossFit Class
DESCRIPTION:
URL:https://crossfitchaparral.com/event/crossfit-class-7/2025-10-30/
CATEGORIES:CrossFit Class
END:VEVENT
BEGIN:VEVENT
DTSTART;TZID=UTC:20251030T173000
DTEND;TZID=UTC:20251030T183000
DTSTAMP:20260423T235310
CREATED:20251027T170752Z
LAST-MODIFIED:20251027T170752Z
UID:10008095-1761845400-1761849000@crossfitchaparral.com
SUMMARY:CrossFit Class
DESCRIPTION:
URL:https://crossfitchaparral.com/event/crossfit-class-6/2025-10-30/
CATEGORIES:CrossFit Class
END:VEVENT
BEGIN:VEVENT
DTSTART;TZID=UTC:20251030T163000
DTEND;TZID=UTC:20251030T173000
DTSTAMP:20260423T235310
CREATED:20251027T165935Z
LAST-MODIFIED:20251027T165935Z
UID:10006790-1761841800-1761845400@crossfitchaparral.com
SUMMARY:CrossFit Class
DESCRIPTION:
URL:https://crossfitchaparral.com/event/crossfit-class-5/2025-10-30/
CATEGORIES:CrossFit Class
END:VEVENT
BEGIN:VEVENT
DTSTART;TZID=UTC:20251030T083000
DTEND;TZID=UTC:20251030T093000
DTSTAMP:20260423T235310
CREATED:20251027T165150Z
LAST-MODIFIED:20251027T165500Z
UID:10004439-1761813000-1761816600@crossfitchaparral.com
SUMMARY:Open Gym
DESCRIPTION:
URL:https://crossfitchaparral.com/event/open-gym/2025-10-30/
CATEGORIES:Open Gym
END:VEVENT
BEGIN:VEVENT
DTSTART;TZID=UTC:20251030T063000
DTEND;TZID=UTC:20251030T193000
DTSTAMP:20260423T235310
CREATED:20251027T165009Z
LAST-MODIFIED:20251027T165009Z
UID:10002614-1761805800-1761852600@crossfitchaparral.com
SUMMARY:CrossFit Class
DESCRIPTION:
URL:https://crossfitchaparral.com/event/crossfit-class-2/2025-10-30/
CATEGORIES:CrossFit Class
END:VEVENT
BEGIN:VEVENT
DTSTART;TZID=UTC:20251030T053000
DTEND;TZID=UTC:20251030T063000
DTSTAMP:20260423T235310
CREATED:20251027T164919Z
LAST-MODIFIED:20251027T164919Z
UID:10001309-1761802200-1761805800@crossfitchaparral.com
SUMMARY:CrossFit Class
DESCRIPTION:
URL:https://crossfitchaparral.com/event/crossfit-class/2025-10-30/
CATEGORIES:CrossFit Class
END:VEVENT
BEGIN:VEVENT
DTSTART;TZID=UTC:20251030T050000
DTEND;TZID=UTC:20251030T063000
DTSTAMP:20260423T235310
CREATED:20251027T163822Z
LAST-MODIFIED:20251027T164423Z
UID:10000004-1761800400-1761805800@crossfitchaparral.com
SUMMARY:AoG
DESCRIPTION:
URL:https://crossfitchaparral.com/event/aog/2025-10-30/
LOCATION:CrossFit Chaparral\, 6451 E Shea Blvd\, Scottsdale\, AZ\, 85254\, United States
CATEGORIES:AoG
END:VEVENT
BEGIN:VEVENT
DTSTART;TZID=UTC:20251029T183000
DTEND;TZID=UTC:20251029T193000
DTSTAMP:20260423T235310
CREATED:20251027T170840Z
LAST-MODIFIED:20251027T170858Z
UID:10009399-1761762600-1761766200@crossfitchaparral.com
SUMMARY:CrossFit Class
DESCRIPTION:
URL:https://crossfitchaparral.com/event/crossfit-class-7/2025-10-29/
CATEGORIES:CrossFit Class
END:VEVENT
BEGIN:VEVENT
DTSTART;TZID=UTC:20251029T173000
DTEND;TZID=UTC:20251029T183000
DTSTAMP:20260423T235310
CREATED:20251027T170752Z
LAST-MODIFIED:20251027T170752Z
UID:10008094-1761759000-1761762600@crossfitchaparral.com
SUMMARY:CrossFit Class
DESCRIPTION:
URL:https://crossfitchaparral.com/event/crossfit-class-6/2025-10-29/
CATEGORIES:CrossFit Class
END:VEVENT
END:VCALENDAR