BEGIN:VCALENDAR
VERSION:2.0
PRODID:-//CrossFit Chaparral - ECPv6.15.10//NONSGML v1.0//EN
CALSCALE:GREGORIAN
METHOD:PUBLISH
X-ORIGINAL-URL:https://crossfitchaparral.com
X-WR-CALDESC:Events for CrossFit Chaparral
REFRESH-INTERVAL;VALUE=DURATION:PT1H
X-Robots-Tag:noindex
X-PUBLISHED-TTL:PT1H
BEGIN:VTIMEZONE
TZID:UTC
BEGIN:STANDARD
TZOFFSETFROM:+0000
TZOFFSETTO:+0000
TZNAME:UTC
DTSTART:20240101T000000
END:STANDARD
END:VTIMEZONE
BEGIN:VEVENT
DTSTART;TZID=UTC:20251201T050000
DTEND;TZID=UTC:20251201T063000
DTSTAMP:20260423T035003
CREATED:20251027T163822Z
LAST-MODIFIED:20251027T164423Z
UID:10000026-1764565200-1764570600@crossfitchaparral.com
SUMMARY:AoG
DESCRIPTION:
URL:https://crossfitchaparral.com/event/aog/2025-12-01/
LOCATION:CrossFit Chaparral\, 6451 E Shea Blvd\, Scottsdale\, AZ\, 85254\, United States
CATEGORIES:AoG
END:VEVENT
BEGIN:VEVENT
DTSTART;TZID=UTC:20251201T053000
DTEND;TZID=UTC:20251201T063000
DTSTAMP:20260423T035003
CREATED:20251027T164919Z
LAST-MODIFIED:20251027T164919Z
UID:10001331-1764567000-1764570600@crossfitchaparral.com
SUMMARY:CrossFit Class
DESCRIPTION:
URL:https://crossfitchaparral.com/event/crossfit-class/2025-12-01/
CATEGORIES:CrossFit Class
END:VEVENT
BEGIN:VEVENT
DTSTART;TZID=UTC:20251201T063000
DTEND;TZID=UTC:20251201T193000
DTSTAMP:20260423T035003
CREATED:20251027T165009Z
LAST-MODIFIED:20251027T165009Z
UID:10002636-1764570600-1764617400@crossfitchaparral.com
SUMMARY:CrossFit Class
DESCRIPTION:
URL:https://crossfitchaparral.com/event/crossfit-class-2/2025-12-01/
CATEGORIES:CrossFit Class
END:VEVENT
BEGIN:VEVENT
DTSTART;TZID=UTC:20251201T083000
DTEND;TZID=UTC:20251201T091500
DTSTAMP:20260423T035003
CREATED:20251027T165103Z
LAST-MODIFIED:20251218T164423Z
UID:10011505-1764577800-1764580500@crossfitchaparral.com
SUMMARY:H.I.I.T
DESCRIPTION:
URL:https://crossfitchaparral.com/event/h-i-i-t/2025-12-01/
CATEGORIES:H.I.I.T
END:VEVENT
BEGIN:VEVENT
DTSTART;TZID=UTC:20251201T153000
DTEND;TZID=UTC:20251201T163000
DTSTAMP:20260423T035003
CREATED:20251027T165854Z
LAST-MODIFIED:20251027T165854Z
UID:10006531-1764603000-1764606600@crossfitchaparral.com
SUMMARY:CrossFit Kids
DESCRIPTION:
URL:https://crossfitchaparral.com/event/crossfit-kids/2025-12-01/
CATEGORIES:CrossFit Kids
END:VEVENT
BEGIN:VEVENT
DTSTART;TZID=UTC:20251201T163000
DTEND;TZID=UTC:20251201T173000
DTSTAMP:20260423T035003
CREATED:20251027T165935Z
LAST-MODIFIED:20251027T165935Z
UID:10006812-1764606600-1764610200@crossfitchaparral.com
SUMMARY:CrossFit Class
DESCRIPTION:
URL:https://crossfitchaparral.com/event/crossfit-class-5/2025-12-01/
CATEGORIES:CrossFit Class
END:VEVENT
BEGIN:VEVENT
DTSTART;TZID=UTC:20251201T173000
DTEND;TZID=UTC:20251201T183000
DTSTAMP:20260423T035003
CREATED:20251027T170752Z
LAST-MODIFIED:20251027T170752Z
UID:10008117-1764610200-1764613800@crossfitchaparral.com
SUMMARY:CrossFit Class
DESCRIPTION:
URL:https://crossfitchaparral.com/event/crossfit-class-6/2025-12-01/
CATEGORIES:CrossFit Class
END:VEVENT
BEGIN:VEVENT
DTSTART;TZID=UTC:20251201T183000
DTEND;TZID=UTC:20251201T193000
DTSTAMP:20260423T035003
CREATED:20251027T170840Z
LAST-MODIFIED:20251027T170858Z
UID:10009417-1764613800-1764617400@crossfitchaparral.com
SUMMARY:CrossFit Class
DESCRIPTION:
URL:https://crossfitchaparral.com/event/crossfit-class-7/2025-12-01/
CATEGORIES:CrossFit Class
END:VEVENT
BEGIN:VEVENT
DTSTART;TZID=UTC:20251202T050000
DTEND;TZID=UTC:20251202T063000
DTSTAMP:20260423T035003
CREATED:20251027T163822Z
LAST-MODIFIED:20251027T164423Z
UID:10000027-1764651600-1764657000@crossfitchaparral.com
SUMMARY:AoG
DESCRIPTION:
URL:https://crossfitchaparral.com/event/aog/2025-12-02/
LOCATION:CrossFit Chaparral\, 6451 E Shea Blvd\, Scottsdale\, AZ\, 85254\, United States
CATEGORIES:AoG
END:VEVENT
BEGIN:VEVENT
DTSTART;TZID=UTC:20251202T053000
DTEND;TZID=UTC:20251202T063000
DTSTAMP:20260423T035003
CREATED:20251027T164919Z
LAST-MODIFIED:20251027T164919Z
UID:10001332-1764653400-1764657000@crossfitchaparral.com
SUMMARY:CrossFit Class
DESCRIPTION:
URL:https://crossfitchaparral.com/event/crossfit-class/2025-12-02/
CATEGORIES:CrossFit Class
END:VEVENT
BEGIN:VEVENT
DTSTART;TZID=UTC:20251202T063000
DTEND;TZID=UTC:20251202T193000
DTSTAMP:20260423T035003
CREATED:20251027T165009Z
LAST-MODIFIED:20251027T165009Z
UID:10002637-1764657000-1764703800@crossfitchaparral.com
SUMMARY:CrossFit Class
DESCRIPTION:
URL:https://crossfitchaparral.com/event/crossfit-class-2/2025-12-02/
CATEGORIES:CrossFit Class
END:VEVENT
BEGIN:VEVENT
DTSTART;TZID=UTC:20251202T083000
DTEND;TZID=UTC:20251202T093000
DTSTAMP:20260423T035003
CREATED:20251027T165150Z
LAST-MODIFIED:20251027T165500Z
UID:10004453-1764664200-1764667800@crossfitchaparral.com
SUMMARY:Open Gym
DESCRIPTION:
URL:https://crossfitchaparral.com/event/open-gym/2025-12-02/
CATEGORIES:Open Gym
END:VEVENT
BEGIN:VEVENT
DTSTART;TZID=UTC:20251202T163000
DTEND;TZID=UTC:20251202T173000
DTSTAMP:20260423T035003
CREATED:20251027T165935Z
LAST-MODIFIED:20251027T165935Z
UID:10006813-1764693000-1764696600@crossfitchaparral.com
SUMMARY:CrossFit Class
DESCRIPTION:
URL:https://crossfitchaparral.com/event/crossfit-class-5/2025-12-02/
CATEGORIES:CrossFit Class
END:VEVENT
BEGIN:VEVENT
DTSTART;TZID=UTC:20251202T173000
DTEND;TZID=UTC:20251202T183000
DTSTAMP:20260423T035003
CREATED:20251027T170752Z
LAST-MODIFIED:20251027T170752Z
UID:10008118-1764696600-1764700200@crossfitchaparral.com
SUMMARY:CrossFit Class
DESCRIPTION:
URL:https://crossfitchaparral.com/event/crossfit-class-6/2025-12-02/
CATEGORIES:CrossFit Class
END:VEVENT
BEGIN:VEVENT
DTSTART;TZID=UTC:20251202T183000
DTEND;TZID=UTC:20251202T193000
DTSTAMP:20260423T035003
CREATED:20251027T170840Z
LAST-MODIFIED:20251027T170858Z
UID:10009418-1764700200-1764703800@crossfitchaparral.com
SUMMARY:CrossFit Class
DESCRIPTION:
URL:https://crossfitchaparral.com/event/crossfit-class-7/2025-12-02/
CATEGORIES:CrossFit Class
END:VEVENT
BEGIN:VEVENT
DTSTART;TZID=UTC:20251203T050000
DTEND;TZID=UTC:20251203T063000
DTSTAMP:20260423T035003
CREATED:20251027T163822Z
LAST-MODIFIED:20251027T164423Z
UID:10000028-1764738000-1764743400@crossfitchaparral.com
SUMMARY:AoG
DESCRIPTION:
URL:https://crossfitchaparral.com/event/aog/2025-12-03/
LOCATION:CrossFit Chaparral\, 6451 E Shea Blvd\, Scottsdale\, AZ\, 85254\, United States
CATEGORIES:AoG
END:VEVENT
BEGIN:VEVENT
DTSTART;TZID=UTC:20251203T053000
DTEND;TZID=UTC:20251203T063000
DTSTAMP:20260423T035003
CREATED:20251027T164919Z
LAST-MODIFIED:20251027T164919Z
UID:10001333-1764739800-1764743400@crossfitchaparral.com
SUMMARY:CrossFit Class
DESCRIPTION:
URL:https://crossfitchaparral.com/event/crossfit-class/2025-12-03/
CATEGORIES:CrossFit Class
END:VEVENT
BEGIN:VEVENT
DTSTART;TZID=UTC:20251203T063000
DTEND;TZID=UTC:20251203T193000
DTSTAMP:20260423T035003
CREATED:20251027T165009Z
LAST-MODIFIED:20251027T165009Z
UID:10002638-1764743400-1764790200@crossfitchaparral.com
SUMMARY:CrossFit Class
DESCRIPTION:
URL:https://crossfitchaparral.com/event/crossfit-class-2/2025-12-03/
CATEGORIES:CrossFit Class
END:VEVENT
BEGIN:VEVENT
DTSTART;TZID=UTC:20251203T083000
DTEND;TZID=UTC:20251203T091500
DTSTAMP:20260423T035003
CREATED:20251027T165103Z
LAST-MODIFIED:20251218T164423Z
UID:10011506-1764750600-1764753300@crossfitchaparral.com
SUMMARY:H.I.I.T
DESCRIPTION:
URL:https://crossfitchaparral.com/event/h-i-i-t/2025-12-03/
CATEGORIES:H.I.I.T
END:VEVENT
BEGIN:VEVENT
DTSTART;TZID=UTC:20251203T163000
DTEND;TZID=UTC:20251203T173000
DTSTAMP:20260423T035003
CREATED:20251027T165935Z
LAST-MODIFIED:20251027T165935Z
UID:10006814-1764779400-1764783000@crossfitchaparral.com
SUMMARY:CrossFit Class
DESCRIPTION:
URL:https://crossfitchaparral.com/event/crossfit-class-5/2025-12-03/
CATEGORIES:CrossFit Class
END:VEVENT
BEGIN:VEVENT
DTSTART;TZID=UTC:20251203T173000
DTEND;TZID=UTC:20251203T183000
DTSTAMP:20260423T035003
CREATED:20251027T170752Z
LAST-MODIFIED:20251027T170752Z
UID:10008119-1764783000-1764786600@crossfitchaparral.com
SUMMARY:CrossFit Class
DESCRIPTION:
URL:https://crossfitchaparral.com/event/crossfit-class-6/2025-12-03/
CATEGORIES:CrossFit Class
END:VEVENT
BEGIN:VEVENT
DTSTART;TZID=UTC:20251203T183000
DTEND;TZID=UTC:20251203T193000
DTSTAMP:20260423T035003
CREATED:20251027T170840Z
LAST-MODIFIED:20251027T170858Z
UID:10009419-1764786600-1764790200@crossfitchaparral.com
SUMMARY:CrossFit Class
DESCRIPTION:
URL:https://crossfitchaparral.com/event/crossfit-class-7/2025-12-03/
CATEGORIES:CrossFit Class
END:VEVENT
BEGIN:VEVENT
DTSTART;TZID=UTC:20251204T050000
DTEND;TZID=UTC:20251204T063000
DTSTAMP:20260423T035003
CREATED:20251027T163822Z
LAST-MODIFIED:20251027T164423Z
UID:10000029-1764824400-1764829800@crossfitchaparral.com
SUMMARY:AoG
DESCRIPTION:
URL:https://crossfitchaparral.com/event/aog/2025-12-04/
LOCATION:CrossFit Chaparral\, 6451 E Shea Blvd\, Scottsdale\, AZ\, 85254\, United States
CATEGORIES:AoG
END:VEVENT
BEGIN:VEVENT
DTSTART;TZID=UTC:20251204T053000
DTEND;TZID=UTC:20251204T063000
DTSTAMP:20260423T035003
CREATED:20251027T164919Z
LAST-MODIFIED:20251027T164919Z
UID:10001334-1764826200-1764829800@crossfitchaparral.com
SUMMARY:CrossFit Class
DESCRIPTION:
URL:https://crossfitchaparral.com/event/crossfit-class/2025-12-04/
CATEGORIES:CrossFit Class
END:VEVENT
BEGIN:VEVENT
DTSTART;TZID=UTC:20251204T063000
DTEND;TZID=UTC:20251204T193000
DTSTAMP:20260423T035003
CREATED:20251027T165009Z
LAST-MODIFIED:20251027T165009Z
UID:10002639-1764829800-1764876600@crossfitchaparral.com
SUMMARY:CrossFit Class
DESCRIPTION:
URL:https://crossfitchaparral.com/event/crossfit-class-2/2025-12-04/
CATEGORIES:CrossFit Class
END:VEVENT
BEGIN:VEVENT
DTSTART;TZID=UTC:20251204T083000
DTEND;TZID=UTC:20251204T093000
DTSTAMP:20260423T035003
CREATED:20251027T165150Z
LAST-MODIFIED:20251027T165500Z
UID:10004454-1764837000-1764840600@crossfitchaparral.com
SUMMARY:Open Gym
DESCRIPTION:
URL:https://crossfitchaparral.com/event/open-gym/2025-12-04/
CATEGORIES:Open Gym
END:VEVENT
BEGIN:VEVENT
DTSTART;TZID=UTC:20251204T163000
DTEND;TZID=UTC:20251204T173000
DTSTAMP:20260423T035003
CREATED:20251027T165935Z
LAST-MODIFIED:20251027T165935Z
UID:10006815-1764865800-1764869400@crossfitchaparral.com
SUMMARY:CrossFit Class
DESCRIPTION:
URL:https://crossfitchaparral.com/event/crossfit-class-5/2025-12-04/
CATEGORIES:CrossFit Class
END:VEVENT
BEGIN:VEVENT
DTSTART;TZID=UTC:20251204T173000
DTEND;TZID=UTC:20251204T183000
DTSTAMP:20260423T035003
CREATED:20251027T170752Z
LAST-MODIFIED:20251027T170752Z
UID:10008120-1764869400-1764873000@crossfitchaparral.com
SUMMARY:CrossFit Class
DESCRIPTION:
URL:https://crossfitchaparral.com/event/crossfit-class-6/2025-12-04/
CATEGORIES:CrossFit Class
END:VEVENT
BEGIN:VEVENT
DTSTART;TZID=UTC:20251204T183000
DTEND;TZID=UTC:20251204T193000
DTSTAMP:20260423T035003
CREATED:20251027T170840Z
LAST-MODIFIED:20251027T170858Z
UID:10009420-1764873000-1764876600@crossfitchaparral.com
SUMMARY:CrossFit Class
DESCRIPTION:
URL:https://crossfitchaparral.com/event/crossfit-class-7/2025-12-04/
CATEGORIES:CrossFit Class
END:VEVENT
BEGIN:VEVENT
DTSTART;TZID=UTC:20251205T050000
DTEND;TZID=UTC:20251205T063000
DTSTAMP:20260423T035003
CREATED:20251027T163822Z
LAST-MODIFIED:20251027T164423Z
UID:10000030-1764910800-1764916200@crossfitchaparral.com
SUMMARY:AoG
DESCRIPTION:
URL:https://crossfitchaparral.com/event/aog/2025-12-05/
LOCATION:CrossFit Chaparral\, 6451 E Shea Blvd\, Scottsdale\, AZ\, 85254\, United States
CATEGORIES:AoG
END:VEVENT
END:VCALENDAR